BEGIN:VCALENDAR
VERSION:2.0
PRODID:-//Aqua Restaurant - ECPv6.15.20//NONSGML v1.0//EN
CALSCALE:GREGORIAN
METHOD:PUBLISH
X-WR-CALNAME:Aqua Restaurant
X-ORIGINAL-URL:https://aquafifth.com
X-WR-CALDESC:Events for Aqua Restaurant
REFRESH-INTERVAL;VALUE=DURATION:PT1H
X-Robots-Tag:noindex
X-PUBLISHED-TTL:PT1H
BEGIN:VTIMEZONE
TZID:America/New_York
BEGIN:DAYLIGHT
TZOFFSETFROM:-0500
TZOFFSETTO:-0400
TZNAME:EDT
DTSTART:20250309T070000
END:DAYLIGHT
BEGIN:STANDARD
TZOFFSETFROM:-0400
TZOFFSETTO:-0500
TZNAME:EST
DTSTART:20251102T060000
END:STANDARD
BEGIN:DAYLIGHT
TZOFFSETFROM:-0500
TZOFFSETTO:-0400
TZNAME:EDT
DTSTART:20260308T070000
END:DAYLIGHT
BEGIN:STANDARD
TZOFFSETFROM:-0400
TZOFFSETTO:-0500
TZNAME:EST
DTSTART:20261101T060000
END:STANDARD
BEGIN:DAYLIGHT
TZOFFSETFROM:-0500
TZOFFSETTO:-0400
TZNAME:EDT
DTSTART:20270314T070000
END:DAYLIGHT
BEGIN:STANDARD
TZOFFSETFROM:-0400
TZOFFSETTO:-0500
TZNAME:EST
DTSTART:20271107T060000
END:STANDARD
END:VTIMEZONE
BEGIN:VEVENT
DTSTART;TZID=America/New_York:20260511T190000
DTEND;TZID=America/New_York:20260511T220000
DTSTAMP:20260421T042804
CREATED:20251007T175300Z
LAST-MODIFIED:20251009T150450Z
UID:10010291-1778526000-1778536800@aquafifth.com
SUMMARY:Piano Man Don Wolcot
DESCRIPTION:Piano Man Don Wolcot.
URL:https://aquafifth.com/naples-event/piano-man-don-wolcot/2026-05-11/
LOCATION:Aqua – Naples\, 862 5th Ave S\, Naples\, FL\, 34102\, United States
CATEGORIES:Naples Events
ATTACH;FMTTYPE=image/jpeg:https://aquafifth.com/wp-content/uploads/Don-Wolcot-1.jpg
END:VEVENT
BEGIN:VEVENT
DTSTART;TZID=America/New_York:20260512T190000
DTEND;TZID=America/New_York:20260512T220000
DTSTAMP:20260421T042804
CREATED:20251007T175300Z
LAST-MODIFIED:20251009T150450Z
UID:10010292-1778612400-1778623200@aquafifth.com
SUMMARY:Piano Man Don Wolcot
DESCRIPTION:Piano Man Don Wolcot.
URL:https://aquafifth.com/naples-event/piano-man-don-wolcot/2026-05-12/
LOCATION:Aqua – Naples\, 862 5th Ave S\, Naples\, FL\, 34102\, United States
CATEGORIES:Naples Events
ATTACH;FMTTYPE=image/jpeg:https://aquafifth.com/wp-content/uploads/Don-Wolcot-1.jpg
END:VEVENT
BEGIN:VEVENT
DTSTART;TZID=America/New_York:20260513T180000
DTEND;TZID=America/New_York:20260513T210000
DTSTAMP:20260421T042804
CREATED:20251007T180248Z
LAST-MODIFIED:20260202T191207Z
UID:10010580-1778695200-1778706000@aquafifth.com
SUMMARY:Piano Man Don Wolcot
DESCRIPTION:Piano Man Don Wolcot.
URL:https://aquafifth.com/naples-event/piano-man-don-wolcot-2/2026-05-13/
LOCATION:Aqua – North Naples\, 2348 Immokalee Rd\, Naples\, FL\, 34110\, United States
CATEGORIES:North Naples Events
ATTACH;FMTTYPE=image/jpeg:https://aquafifth.com/wp-content/uploads/Don-Wolcot-1.jpg
END:VEVENT
END:VCALENDAR