BEGIN:VCALENDAR
VERSION:2.0
PRODID:-//Aqua Restaurant - ECPv6.15.20//NONSGML v1.0//EN
CALSCALE:GREGORIAN
METHOD:PUBLISH
X-WR-CALNAME:Aqua Restaurant
X-ORIGINAL-URL:https://aquafifth.com
X-WR-CALDESC:Events for Aqua Restaurant
REFRESH-INTERVAL;VALUE=DURATION:PT1H
X-Robots-Tag:noindex
X-PUBLISHED-TTL:PT1H
BEGIN:VTIMEZONE
TZID:America/New_York
BEGIN:DAYLIGHT
TZOFFSETFROM:-0500
TZOFFSETTO:-0400
TZNAME:EDT
DTSTART:20250309T070000
END:DAYLIGHT
BEGIN:STANDARD
TZOFFSETFROM:-0400
TZOFFSETTO:-0500
TZNAME:EST
DTSTART:20251102T060000
END:STANDARD
BEGIN:DAYLIGHT
TZOFFSETFROM:-0500
TZOFFSETTO:-0400
TZNAME:EDT
DTSTART:20260308T070000
END:DAYLIGHT
BEGIN:STANDARD
TZOFFSETFROM:-0400
TZOFFSETTO:-0500
TZNAME:EST
DTSTART:20261101T060000
END:STANDARD
BEGIN:DAYLIGHT
TZOFFSETFROM:-0500
TZOFFSETTO:-0400
TZNAME:EDT
DTSTART:20270314T070000
END:DAYLIGHT
BEGIN:STANDARD
TZOFFSETFROM:-0400
TZOFFSETTO:-0500
TZNAME:EST
DTSTART:20271107T060000
END:STANDARD
END:VTIMEZONE
BEGIN:VEVENT
DTSTART;TZID=America/New_York:20260430T170000
DTEND;TZID=America/New_York:20260430T190000
DTSTAMP:20260424T093326
CREATED:20260423T162107Z
LAST-MODIFIED:20260423T162107Z
UID:10010581-1777568400-1777575600@aquafifth.com
SUMMARY:Sip & Sync Networking Event
DESCRIPTION:Speed-style networking that actually works. Meet the right people\, skip the awkward convos\, and make real connections!! \n\n\n\n\nWelcome to Sip & Sync!\nEver leave a networking event thinking “What was that” ?? Same. \nAwkward convos. Getting stuck talking to one person. \nSip & Sync fixes that. \nWe’ve taken the concept of speed dating and turned it into a high-energy networking experience designed to help you meet a lot of the right people — quickly. \nYou’ll rotate through a series of short\, casual conversations with other driven professionals\, giving you just enough time to feel out the vibe and make a connection. \nOne connection can change everything. This is where it happens. Secure your ticket today! \nSee you there!! \nThursday\, April 30th at Aqua North Naples: 5 PM – 7 PM. Tickets can be purchased by visiting this link: Link to tickets.
URL:https://aquafifth.com/naples-event/sip-sync-networking-event/
LOCATION:Aqua – North Naples\, 2348 Immokalee Rd\, Naples\, FL\, 34110\, United States
CATEGORIES:North Naples Events
ATTACH;FMTTYPE=image/jpeg:https://aquafifth.com/wp-content/uploads/Sip-Sync-event.jpg
END:VEVENT
END:VCALENDAR