BEGIN:VCALENDAR
VERSION:2.0
PRODID:-//Aqua Restaurant - ECPv6.15.20//NONSGML v1.0//EN
CALSCALE:GREGORIAN
METHOD:PUBLISH
X-ORIGINAL-URL:https://aquafifth.com
X-WR-CALDESC:Events for Aqua Restaurant
REFRESH-INTERVAL;VALUE=DURATION:PT1H
X-Robots-Tag:noindex
X-PUBLISHED-TTL:PT1H
BEGIN:VTIMEZONE
TZID:America/New_York
BEGIN:DAYLIGHT
TZOFFSETFROM:-0500
TZOFFSETTO:-0400
TZNAME:EDT
DTSTART:20220313T070000
END:DAYLIGHT
BEGIN:STANDARD
TZOFFSETFROM:-0400
TZOFFSETTO:-0500
TZNAME:EST
DTSTART:20221106T060000
END:STANDARD
BEGIN:DAYLIGHT
TZOFFSETFROM:-0500
TZOFFSETTO:-0400
TZNAME:EDT
DTSTART:20230312T070000
END:DAYLIGHT
BEGIN:STANDARD
TZOFFSETFROM:-0400
TZOFFSETTO:-0500
TZNAME:EST
DTSTART:20231105T060000
END:STANDARD
BEGIN:DAYLIGHT
TZOFFSETFROM:-0500
TZOFFSETTO:-0400
TZNAME:EDT
DTSTART:20240310T070000
END:DAYLIGHT
BEGIN:STANDARD
TZOFFSETFROM:-0400
TZOFFSETTO:-0500
TZNAME:EST
DTSTART:20241103T060000
END:STANDARD
BEGIN:DAYLIGHT
TZOFFSETFROM:-0500
TZOFFSETTO:-0400
TZNAME:EDT
DTSTART:20250309T070000
END:DAYLIGHT
BEGIN:STANDARD
TZOFFSETFROM:-0400
TZOFFSETTO:-0500
TZNAME:EST
DTSTART:20251102T060000
END:STANDARD
END:VTIMEZONE
BEGIN:VEVENT
DTSTART;TZID=America/New_York:20240122T193000
DTEND;TZID=America/New_York:20240122T193000
DTSTAMP:20260422T204628
CREATED:20230816T182419Z
LAST-MODIFIED:20231130T160821Z
UID:10007970-1705951800-1705951800@aquafifth.com
SUMMARY:Rashae and the SHI Girls
DESCRIPTION:
URL:https://aquafifth.com/naples-event/rashae-and-the-shi-girls-2/2024-01-22/
LOCATION:Aqua – Naples\, 862 5th Ave S\, Naples\, FL\, 34102\, United States
CATEGORIES:Estero Events
ATTACH;FMTTYPE=image/jpeg:https://aquafifth.com/wp-content/uploads/Rashae-and-the-Shi-Girls.jpg
END:VEVENT
BEGIN:VEVENT
DTSTART;TZID=America/New_York:20240121T193000
DTEND;TZID=America/New_York:20240121T193000
DTSTAMP:20260422T204628
CREATED:20230816T172535Z
LAST-MODIFIED:20231129T220822Z
UID:10007836-1705865400-1705865400@aquafifth.com
SUMMARY:James Sullivan
DESCRIPTION:
URL:https://aquafifth.com/naples-event/james-sullivan-5/2024-01-21/
LOCATION:Aqua – Naples\, 862 5th Ave S\, Naples\, FL\, 34102\, United States
CATEGORIES:Estero Events
ATTACH;FMTTYPE=image/jpeg:https://aquafifth.com/wp-content/uploads/James-Sullivan-scaled.jpg
END:VEVENT
BEGIN:VEVENT
DTSTART;TZID=America/New_York:20240120T193000
DTEND;TZID=America/New_York:20240120T193000
DTSTAMP:20260422T204628
CREATED:20230816T165342Z
LAST-MODIFIED:20231129T222845Z
UID:10007891-1705779000-1705779000@aquafifth.com
SUMMARY:Larry Roberts
DESCRIPTION:
URL:https://aquafifth.com/naples-event/larry-roberts-3/2024-01-20/
LOCATION:Aqua – Naples\, 862 5th Ave S\, Naples\, FL\, 34102\, United States
CATEGORIES:Estero Events
ATTACH;FMTTYPE=image/jpeg:https://aquafifth.com/wp-content/uploads/Aqua.jpg
END:VEVENT
BEGIN:VEVENT
DTSTART;TZID=America/New_York:20240119T193000
DTEND;TZID=America/New_York:20240119T193000
DTSTAMP:20260422T204628
CREATED:20230816T182419Z
LAST-MODIFIED:20231130T160821Z
UID:10007969-1705692600-1705692600@aquafifth.com
SUMMARY:Rashae and the SHI Girls
DESCRIPTION:
URL:https://aquafifth.com/naples-event/rashae-and-the-shi-girls-2/2024-01-19/
LOCATION:Aqua – Naples\, 862 5th Ave S\, Naples\, FL\, 34102\, United States
CATEGORIES:Estero Events
ATTACH;FMTTYPE=image/jpeg:https://aquafifth.com/wp-content/uploads/Rashae-and-the-Shi-Girls.jpg
END:VEVENT
BEGIN:VEVENT
DTSTART;TZID=America/New_York:20240118T193000
DTEND;TZID=America/New_York:20240118T193000
DTSTAMP:20260422T204628
CREATED:20230816T165342Z
LAST-MODIFIED:20231129T222845Z
UID:10007890-1705606200-1705606200@aquafifth.com
SUMMARY:Larry Roberts
DESCRIPTION:
URL:https://aquafifth.com/naples-event/larry-roberts-3/2024-01-18/
LOCATION:Aqua – Naples\, 862 5th Ave S\, Naples\, FL\, 34102\, United States
CATEGORIES:Estero Events
ATTACH;FMTTYPE=image/jpeg:https://aquafifth.com/wp-content/uploads/Aqua.jpg
END:VEVENT
BEGIN:VEVENT
DTSTART;TZID=America/New_York:20240117T193000
DTEND;TZID=America/New_York:20240117T193000
DTSTAMP:20260422T204628
CREATED:20230816T182419Z
LAST-MODIFIED:20231130T160821Z
UID:10007968-1705519800-1705519800@aquafifth.com
SUMMARY:Rashae and the SHI Girls
DESCRIPTION:
URL:https://aquafifth.com/naples-event/rashae-and-the-shi-girls-2/2024-01-17/
LOCATION:Aqua – Naples\, 862 5th Ave S\, Naples\, FL\, 34102\, United States
CATEGORIES:Estero Events
ATTACH;FMTTYPE=image/jpeg:https://aquafifth.com/wp-content/uploads/Rashae-and-the-Shi-Girls.jpg
END:VEVENT
BEGIN:VEVENT
DTSTART;TZID=America/New_York:20240116T193000
DTEND;TZID=America/New_York:20240116T193000
DTSTAMP:20260422T204628
CREATED:20230816T165342Z
LAST-MODIFIED:20231129T222845Z
UID:10007889-1705433400-1705433400@aquafifth.com
SUMMARY:Larry Roberts
DESCRIPTION:
URL:https://aquafifth.com/naples-event/larry-roberts-3/2024-01-16/
LOCATION:Aqua – Naples\, 862 5th Ave S\, Naples\, FL\, 34102\, United States
CATEGORIES:Estero Events
ATTACH;FMTTYPE=image/jpeg:https://aquafifth.com/wp-content/uploads/Aqua.jpg
END:VEVENT
BEGIN:VEVENT
DTSTART;TZID=America/New_York:20240115T193000
DTEND;TZID=America/New_York:20240115T193000
DTSTAMP:20260422T204628
CREATED:20230816T165342Z
LAST-MODIFIED:20231129T222845Z
UID:10007888-1705347000-1705347000@aquafifth.com
SUMMARY:Larry Roberts
DESCRIPTION:
URL:https://aquafifth.com/naples-event/larry-roberts-3/2024-01-15/
LOCATION:Aqua – Naples\, 862 5th Ave S\, Naples\, FL\, 34102\, United States
CATEGORIES:Estero Events
ATTACH;FMTTYPE=image/jpeg:https://aquafifth.com/wp-content/uploads/Aqua.jpg
END:VEVENT
BEGIN:VEVENT
DTSTART;TZID=America/New_York:20240114T193000
DTEND;TZID=America/New_York:20240114T193000
DTSTAMP:20260422T204628
CREATED:20230816T172535Z
LAST-MODIFIED:20231129T220822Z
UID:10007835-1705260600-1705260600@aquafifth.com
SUMMARY:James Sullivan
DESCRIPTION:
URL:https://aquafifth.com/naples-event/james-sullivan-5/2024-01-14/
LOCATION:Aqua – Naples\, 862 5th Ave S\, Naples\, FL\, 34102\, United States
CATEGORIES:Estero Events
ATTACH;FMTTYPE=image/jpeg:https://aquafifth.com/wp-content/uploads/James-Sullivan-scaled.jpg
END:VEVENT
BEGIN:VEVENT
DTSTART;TZID=America/New_York:20240113T193000
DTEND;TZID=America/New_York:20240113T193000
DTSTAMP:20260422T204628
CREATED:20230816T165342Z
LAST-MODIFIED:20231129T222845Z
UID:10007887-1705174200-1705174200@aquafifth.com
SUMMARY:Larry Roberts
DESCRIPTION:
URL:https://aquafifth.com/naples-event/larry-roberts-3/2024-01-13/
LOCATION:Aqua – Naples\, 862 5th Ave S\, Naples\, FL\, 34102\, United States
CATEGORIES:Estero Events
ATTACH;FMTTYPE=image/jpeg:https://aquafifth.com/wp-content/uploads/Aqua.jpg
END:VEVENT
BEGIN:VEVENT
DTSTART;TZID=America/New_York:20240112T193000
DTEND;TZID=America/New_York:20240112T193000
DTSTAMP:20260422T204628
CREATED:20230816T182419Z
LAST-MODIFIED:20231130T160821Z
UID:10007967-1705087800-1705087800@aquafifth.com
SUMMARY:Rashae and the SHI Girls
DESCRIPTION:
URL:https://aquafifth.com/naples-event/rashae-and-the-shi-girls-2/2024-01-12/
LOCATION:Aqua – Naples\, 862 5th Ave S\, Naples\, FL\, 34102\, United States
CATEGORIES:Estero Events
ATTACH;FMTTYPE=image/jpeg:https://aquafifth.com/wp-content/uploads/Rashae-and-the-Shi-Girls.jpg
END:VEVENT
BEGIN:VEVENT
DTSTART;TZID=America/New_York:20240111T193000
DTEND;TZID=America/New_York:20240111T193000
DTSTAMP:20260422T204628
CREATED:20230816T165342Z
LAST-MODIFIED:20231129T222845Z
UID:10007886-1705001400-1705001400@aquafifth.com
SUMMARY:Larry Roberts
DESCRIPTION:
URL:https://aquafifth.com/naples-event/larry-roberts-3/2024-01-11/
LOCATION:Aqua – Naples\, 862 5th Ave S\, Naples\, FL\, 34102\, United States
CATEGORIES:Estero Events
ATTACH;FMTTYPE=image/jpeg:https://aquafifth.com/wp-content/uploads/Aqua.jpg
END:VEVENT
BEGIN:VEVENT
DTSTART;TZID=America/New_York:20240110T193000
DTEND;TZID=America/New_York:20240110T193000
DTSTAMP:20260422T204628
CREATED:20230816T182419Z
LAST-MODIFIED:20231130T160821Z
UID:10007966-1704915000-1704915000@aquafifth.com
SUMMARY:Rashae and the SHI Girls
DESCRIPTION:
URL:https://aquafifth.com/naples-event/rashae-and-the-shi-girls-2/2024-01-10/
LOCATION:Aqua – Naples\, 862 5th Ave S\, Naples\, FL\, 34102\, United States
CATEGORIES:Estero Events
ATTACH;FMTTYPE=image/jpeg:https://aquafifth.com/wp-content/uploads/Rashae-and-the-Shi-Girls.jpg
END:VEVENT
BEGIN:VEVENT
DTSTART;TZID=America/New_York:20240109T193000
DTEND;TZID=America/New_York:20240109T193000
DTSTAMP:20260422T204628
CREATED:20230816T165342Z
LAST-MODIFIED:20231129T222845Z
UID:10007885-1704828600-1704828600@aquafifth.com
SUMMARY:Larry Roberts
DESCRIPTION:
URL:https://aquafifth.com/naples-event/larry-roberts-3/2024-01-09/
LOCATION:Aqua – Naples\, 862 5th Ave S\, Naples\, FL\, 34102\, United States
CATEGORIES:Estero Events
ATTACH;FMTTYPE=image/jpeg:https://aquafifth.com/wp-content/uploads/Aqua.jpg
END:VEVENT
BEGIN:VEVENT
DTSTART;TZID=America/New_York:20240108T193000
DTEND;TZID=America/New_York:20240108T193000
DTSTAMP:20260422T204628
CREATED:20230816T182419Z
LAST-MODIFIED:20231130T160821Z
UID:10007965-1704742200-1704742200@aquafifth.com
SUMMARY:Rashae and the SHI Girls
DESCRIPTION:
URL:https://aquafifth.com/naples-event/rashae-and-the-shi-girls-2/2024-01-08/
LOCATION:Aqua – Naples\, 862 5th Ave S\, Naples\, FL\, 34102\, United States
CATEGORIES:Estero Events
ATTACH;FMTTYPE=image/jpeg:https://aquafifth.com/wp-content/uploads/Rashae-and-the-Shi-Girls.jpg
END:VEVENT
BEGIN:VEVENT
DTSTART;TZID=America/New_York:20240107T193000
DTEND;TZID=America/New_York:20240107T193000
DTSTAMP:20260422T204628
CREATED:20230816T172535Z
LAST-MODIFIED:20231129T220822Z
UID:10007834-1704655800-1704655800@aquafifth.com
SUMMARY:James Sullivan
DESCRIPTION:
URL:https://aquafifth.com/naples-event/james-sullivan-5/2024-01-07/
LOCATION:Aqua – Naples\, 862 5th Ave S\, Naples\, FL\, 34102\, United States
CATEGORIES:Estero Events
ATTACH;FMTTYPE=image/jpeg:https://aquafifth.com/wp-content/uploads/James-Sullivan-scaled.jpg
END:VEVENT
BEGIN:VEVENT
DTSTART;TZID=America/New_York:20240106T193000
DTEND;TZID=America/New_York:20240106T193000
DTSTAMP:20260422T204628
CREATED:20230816T165342Z
LAST-MODIFIED:20231129T222845Z
UID:10007884-1704569400-1704569400@aquafifth.com
SUMMARY:Larry Roberts
DESCRIPTION:
URL:https://aquafifth.com/naples-event/larry-roberts-3/2024-01-06/
LOCATION:Aqua – Naples\, 862 5th Ave S\, Naples\, FL\, 34102\, United States
CATEGORIES:Estero Events
ATTACH;FMTTYPE=image/jpeg:https://aquafifth.com/wp-content/uploads/Aqua.jpg
END:VEVENT
BEGIN:VEVENT
DTSTART;TZID=America/New_York:20240105T193000
DTEND;TZID=America/New_York:20240105T193000
DTSTAMP:20260422T204628
CREATED:20230816T182419Z
LAST-MODIFIED:20231130T160821Z
UID:10007964-1704483000-1704483000@aquafifth.com
SUMMARY:Rashae and the SHI Girls
DESCRIPTION:
URL:https://aquafifth.com/naples-event/rashae-and-the-shi-girls-2/2024-01-05/
LOCATION:Aqua – Naples\, 862 5th Ave S\, Naples\, FL\, 34102\, United States
CATEGORIES:Estero Events
ATTACH;FMTTYPE=image/jpeg:https://aquafifth.com/wp-content/uploads/Rashae-and-the-Shi-Girls.jpg
END:VEVENT
BEGIN:VEVENT
DTSTART;TZID=America/New_York:20240104T193000
DTEND;TZID=America/New_York:20240104T193000
DTSTAMP:20260422T204628
CREATED:20230816T182419Z
LAST-MODIFIED:20231130T160821Z
UID:10007963-1704396600-1704396600@aquafifth.com
SUMMARY:Rashae and the SHI Girls
DESCRIPTION:
URL:https://aquafifth.com/naples-event/rashae-and-the-shi-girls-2/2024-01-04/
LOCATION:Aqua – Naples\, 862 5th Ave S\, Naples\, FL\, 34102\, United States
CATEGORIES:Estero Events
ATTACH;FMTTYPE=image/jpeg:https://aquafifth.com/wp-content/uploads/Rashae-and-the-Shi-Girls.jpg
END:VEVENT
BEGIN:VEVENT
DTSTART;TZID=America/New_York:20240103T193000
DTEND;TZID=America/New_York:20240103T193000
DTSTAMP:20260422T204628
CREATED:20230816T182419Z
LAST-MODIFIED:20231130T160821Z
UID:10007962-1704310200-1704310200@aquafifth.com
SUMMARY:Rashae and the SHI Girls
DESCRIPTION:
URL:https://aquafifth.com/naples-event/rashae-and-the-shi-girls-2/2024-01-03/
LOCATION:Aqua – Naples\, 862 5th Ave S\, Naples\, FL\, 34102\, United States
CATEGORIES:Estero Events
ATTACH;FMTTYPE=image/jpeg:https://aquafifth.com/wp-content/uploads/Rashae-and-the-Shi-Girls.jpg
END:VEVENT
BEGIN:VEVENT
DTSTART;TZID=America/New_York:20240102T193000
DTEND;TZID=America/New_York:20240102T193000
DTSTAMP:20260422T204628
CREATED:20230816T165342Z
LAST-MODIFIED:20231129T222845Z
UID:10007883-1704223800-1704223800@aquafifth.com
SUMMARY:Larry Roberts
DESCRIPTION:
URL:https://aquafifth.com/naples-event/larry-roberts-3/2024-01-02/
LOCATION:Aqua – Naples\, 862 5th Ave S\, Naples\, FL\, 34102\, United States
CATEGORIES:Estero Events
ATTACH;FMTTYPE=image/jpeg:https://aquafifth.com/wp-content/uploads/Aqua.jpg
END:VEVENT
BEGIN:VEVENT
DTSTART;TZID=America/New_York:20240101T193000
DTEND;TZID=America/New_York:20240101T193000
DTSTAMP:20260422T204628
CREATED:20230816T182419Z
LAST-MODIFIED:20231130T160821Z
UID:10007961-1704137400-1704137400@aquafifth.com
SUMMARY:Rashae and the SHI Girls
DESCRIPTION:
URL:https://aquafifth.com/naples-event/rashae-and-the-shi-girls-2/2024-01-01/
LOCATION:Aqua – Naples\, 862 5th Ave S\, Naples\, FL\, 34102\, United States
CATEGORIES:Estero Events
ATTACH;FMTTYPE=image/jpeg:https://aquafifth.com/wp-content/uploads/Rashae-and-the-Shi-Girls.jpg
END:VEVENT
BEGIN:VEVENT
DTSTART;TZID=America/New_York:20231231T213000
DTEND;TZID=America/New_York:20240101T003000
DTSTAMP:20260422T204628
CREATED:20230816T183029Z
LAST-MODIFIED:20231005T221801Z
UID:10007460-1704058200-1704069000@aquafifth.com
SUMMARY:New Years BIG PARTY: Rashae and the SHI Girls
DESCRIPTION:
URL:https://aquafifth.com/naples-event/new-years-big-party-rashae-and-the-shi-girls/2023-12-31/
LOCATION:Aqua – Naples\, 862 5th Ave S\, Naples\, FL\, 34102\, United States
CATEGORIES:Estero Events
ATTACH;FMTTYPE=image/jpeg:https://aquafifth.com/wp-content/uploads/Rashae-and-the-Shi-Girls.jpg
END:VEVENT
BEGIN:VEVENT
DTSTART;TZID=America/New_York:20231230T193000
DTEND;TZID=America/New_York:20231230T193000
DTSTAMP:20260422T204628
CREATED:20230816T165342Z
LAST-MODIFIED:20231129T222845Z
UID:10007882-1703964600-1703964600@aquafifth.com
SUMMARY:Larry Roberts
DESCRIPTION:
URL:https://aquafifth.com/naples-event/larry-roberts-3/2023-12-30/
LOCATION:Aqua – Naples\, 862 5th Ave S\, Naples\, FL\, 34102\, United States
CATEGORIES:Estero Events
ATTACH;FMTTYPE=image/jpeg:https://aquafifth.com/wp-content/uploads/Aqua.jpg
END:VEVENT
BEGIN:VEVENT
DTSTART;TZID=America/New_York:20231229T193000
DTEND;TZID=America/New_York:20231229T193000
DTSTAMP:20260422T204628
CREATED:20230816T182419Z
LAST-MODIFIED:20231130T160821Z
UID:10007960-1703878200-1703878200@aquafifth.com
SUMMARY:Rashae and the SHI Girls
DESCRIPTION:
URL:https://aquafifth.com/naples-event/rashae-and-the-shi-girls-2/2023-12-29/
LOCATION:Aqua – Naples\, 862 5th Ave S\, Naples\, FL\, 34102\, United States
CATEGORIES:Estero Events
ATTACH;FMTTYPE=image/jpeg:https://aquafifth.com/wp-content/uploads/Rashae-and-the-Shi-Girls.jpg
END:VEVENT
BEGIN:VEVENT
DTSTART;TZID=America/New_York:20231228T193000
DTEND;TZID=America/New_York:20231228T193000
DTSTAMP:20260422T204628
CREATED:20230816T182419Z
LAST-MODIFIED:20231130T160821Z
UID:10007959-1703791800-1703791800@aquafifth.com
SUMMARY:Rashae and the SHI Girls
DESCRIPTION:
URL:https://aquafifth.com/naples-event/rashae-and-the-shi-girls-2/2023-12-28/
LOCATION:Aqua – Naples\, 862 5th Ave S\, Naples\, FL\, 34102\, United States
CATEGORIES:Estero Events
ATTACH;FMTTYPE=image/jpeg:https://aquafifth.com/wp-content/uploads/Rashae-and-the-Shi-Girls.jpg
END:VEVENT
BEGIN:VEVENT
DTSTART;TZID=America/New_York:20231227T193000
DTEND;TZID=America/New_York:20231227T193000
DTSTAMP:20260422T204628
CREATED:20230816T182419Z
LAST-MODIFIED:20231130T160821Z
UID:10007958-1703705400-1703705400@aquafifth.com
SUMMARY:Rashae and the SHI Girls
DESCRIPTION:
URL:https://aquafifth.com/naples-event/rashae-and-the-shi-girls-2/2023-12-27/
LOCATION:Aqua – Naples\, 862 5th Ave S\, Naples\, FL\, 34102\, United States
CATEGORIES:Estero Events
ATTACH;FMTTYPE=image/jpeg:https://aquafifth.com/wp-content/uploads/Rashae-and-the-Shi-Girls.jpg
END:VEVENT
BEGIN:VEVENT
DTSTART;TZID=America/New_York:20231226T193000
DTEND;TZID=America/New_York:20231226T193000
DTSTAMP:20260422T204628
CREATED:20230816T165342Z
LAST-MODIFIED:20231129T222845Z
UID:10007881-1703619000-1703619000@aquafifth.com
SUMMARY:Larry Roberts
DESCRIPTION:
URL:https://aquafifth.com/naples-event/larry-roberts-3/2023-12-26/
LOCATION:Aqua – Naples\, 862 5th Ave S\, Naples\, FL\, 34102\, United States
CATEGORIES:Estero Events
ATTACH;FMTTYPE=image/jpeg:https://aquafifth.com/wp-content/uploads/Aqua.jpg
END:VEVENT
BEGIN:VEVENT
DTSTART;TZID=America/New_York:20231225T193000
DTEND;TZID=America/New_York:20231225T193000
DTSTAMP:20260422T204628
CREATED:20230816T165342Z
LAST-MODIFIED:20231129T222845Z
UID:10007880-1703532600-1703532600@aquafifth.com
SUMMARY:Larry Roberts
DESCRIPTION:
URL:https://aquafifth.com/naples-event/larry-roberts-3/2023-12-25/
LOCATION:Aqua – Naples\, 862 5th Ave S\, Naples\, FL\, 34102\, United States
CATEGORIES:Estero Events
ATTACH;FMTTYPE=image/jpeg:https://aquafifth.com/wp-content/uploads/Aqua.jpg
END:VEVENT
BEGIN:VEVENT
DTSTART;TZID=America/New_York:20231224T193000
DTEND;TZID=America/New_York:20231224T193000
DTSTAMP:20260422T204628
CREATED:20230816T172535Z
LAST-MODIFIED:20231129T220822Z
UID:10007833-1703446200-1703446200@aquafifth.com
SUMMARY:James Sullivan
DESCRIPTION:
URL:https://aquafifth.com/naples-event/james-sullivan-5/2023-12-24/
LOCATION:Aqua – Naples\, 862 5th Ave S\, Naples\, FL\, 34102\, United States
CATEGORIES:Estero Events
ATTACH;FMTTYPE=image/jpeg:https://aquafifth.com/wp-content/uploads/James-Sullivan-scaled.jpg
END:VEVENT
END:VCALENDAR