BEGIN:VCALENDAR
VERSION:2.0
PRODID:-//Aqua Restaurant - ECPv6.15.20//NONSGML v1.0//EN
CALSCALE:GREGORIAN
METHOD:PUBLISH
X-WR-CALNAME:Aqua Restaurant
X-ORIGINAL-URL:https://aquafifth.com
X-WR-CALDESC:Events for Aqua Restaurant
REFRESH-INTERVAL;VALUE=DURATION:PT1H
X-Robots-Tag:noindex
X-PUBLISHED-TTL:PT1H
BEGIN:VTIMEZONE
TZID:America/New_York
BEGIN:DAYLIGHT
TZOFFSETFROM:-0500
TZOFFSETTO:-0400
TZNAME:EDT
DTSTART:20220313T070000
END:DAYLIGHT
BEGIN:STANDARD
TZOFFSETFROM:-0400
TZOFFSETTO:-0500
TZNAME:EST
DTSTART:20221106T060000
END:STANDARD
BEGIN:DAYLIGHT
TZOFFSETFROM:-0500
TZOFFSETTO:-0400
TZNAME:EDT
DTSTART:20230312T070000
END:DAYLIGHT
BEGIN:STANDARD
TZOFFSETFROM:-0400
TZOFFSETTO:-0500
TZNAME:EST
DTSTART:20231105T060000
END:STANDARD
BEGIN:DAYLIGHT
TZOFFSETFROM:-0500
TZOFFSETTO:-0400
TZNAME:EDT
DTSTART:20240310T070000
END:DAYLIGHT
BEGIN:STANDARD
TZOFFSETFROM:-0400
TZOFFSETTO:-0500
TZNAME:EST
DTSTART:20241103T060000
END:STANDARD
END:VTIMEZONE
BEGIN:VEVENT
DTSTART;TZID=America/New_York:20231230T193000
DTEND;TZID=America/New_York:20231230T193000
DTSTAMP:20260422T234226
CREATED:20230816T165342Z
LAST-MODIFIED:20231129T222845Z
UID:10007882-1703964600-1703964600@aquafifth.com
SUMMARY:Larry Roberts
DESCRIPTION:
URL:https://aquafifth.com/naples-event/larry-roberts-3/2023-12-30/
LOCATION:Aqua – Naples\, 862 5th Ave S\, Naples\, FL\, 34102\, United States
CATEGORIES:Estero Events
ATTACH;FMTTYPE=image/jpeg:https://aquafifth.com/wp-content/uploads/Aqua.jpg
END:VEVENT
BEGIN:VEVENT
DTSTART;TZID=America/New_York:20231229T193000
DTEND;TZID=America/New_York:20231229T193000
DTSTAMP:20260422T234226
CREATED:20230816T182419Z
LAST-MODIFIED:20231130T160821Z
UID:10007960-1703878200-1703878200@aquafifth.com
SUMMARY:Rashae and the SHI Girls
DESCRIPTION:
URL:https://aquafifth.com/naples-event/rashae-and-the-shi-girls-2/2023-12-29/
LOCATION:Aqua – Naples\, 862 5th Ave S\, Naples\, FL\, 34102\, United States
CATEGORIES:Estero Events
ATTACH;FMTTYPE=image/jpeg:https://aquafifth.com/wp-content/uploads/Rashae-and-the-Shi-Girls.jpg
END:VEVENT
BEGIN:VEVENT
DTSTART;TZID=America/New_York:20231228T193000
DTEND;TZID=America/New_York:20231228T193000
DTSTAMP:20260422T234226
CREATED:20230816T182419Z
LAST-MODIFIED:20231130T160821Z
UID:10007959-1703791800-1703791800@aquafifth.com
SUMMARY:Rashae and the SHI Girls
DESCRIPTION:
URL:https://aquafifth.com/naples-event/rashae-and-the-shi-girls-2/2023-12-28/
LOCATION:Aqua – Naples\, 862 5th Ave S\, Naples\, FL\, 34102\, United States
CATEGORIES:Estero Events
ATTACH;FMTTYPE=image/jpeg:https://aquafifth.com/wp-content/uploads/Rashae-and-the-Shi-Girls.jpg
END:VEVENT
BEGIN:VEVENT
DTSTART;TZID=America/New_York:20231227T193000
DTEND;TZID=America/New_York:20231227T193000
DTSTAMP:20260422T234226
CREATED:20230816T182419Z
LAST-MODIFIED:20231130T160821Z
UID:10007958-1703705400-1703705400@aquafifth.com
SUMMARY:Rashae and the SHI Girls
DESCRIPTION:
URL:https://aquafifth.com/naples-event/rashae-and-the-shi-girls-2/2023-12-27/
LOCATION:Aqua – Naples\, 862 5th Ave S\, Naples\, FL\, 34102\, United States
CATEGORIES:Estero Events
ATTACH;FMTTYPE=image/jpeg:https://aquafifth.com/wp-content/uploads/Rashae-and-the-Shi-Girls.jpg
END:VEVENT
BEGIN:VEVENT
DTSTART;TZID=America/New_York:20231226T193000
DTEND;TZID=America/New_York:20231226T193000
DTSTAMP:20260422T234226
CREATED:20230816T165342Z
LAST-MODIFIED:20231129T222845Z
UID:10007881-1703619000-1703619000@aquafifth.com
SUMMARY:Larry Roberts
DESCRIPTION:
URL:https://aquafifth.com/naples-event/larry-roberts-3/2023-12-26/
LOCATION:Aqua – Naples\, 862 5th Ave S\, Naples\, FL\, 34102\, United States
CATEGORIES:Estero Events
ATTACH;FMTTYPE=image/jpeg:https://aquafifth.com/wp-content/uploads/Aqua.jpg
END:VEVENT
BEGIN:VEVENT
DTSTART;TZID=America/New_York:20231225T193000
DTEND;TZID=America/New_York:20231225T193000
DTSTAMP:20260422T234226
CREATED:20230816T165342Z
LAST-MODIFIED:20231129T222845Z
UID:10007880-1703532600-1703532600@aquafifth.com
SUMMARY:Larry Roberts
DESCRIPTION:
URL:https://aquafifth.com/naples-event/larry-roberts-3/2023-12-25/
LOCATION:Aqua – Naples\, 862 5th Ave S\, Naples\, FL\, 34102\, United States
CATEGORIES:Estero Events
ATTACH;FMTTYPE=image/jpeg:https://aquafifth.com/wp-content/uploads/Aqua.jpg
END:VEVENT
BEGIN:VEVENT
DTSTART;TZID=America/New_York:20231224T193000
DTEND;TZID=America/New_York:20231224T193000
DTSTAMP:20260422T234226
CREATED:20230816T172535Z
LAST-MODIFIED:20231129T220822Z
UID:10007833-1703446200-1703446200@aquafifth.com
SUMMARY:James Sullivan
DESCRIPTION:
URL:https://aquafifth.com/naples-event/james-sullivan-5/2023-12-24/
LOCATION:Aqua – Naples\, 862 5th Ave S\, Naples\, FL\, 34102\, United States
CATEGORIES:Estero Events
ATTACH;FMTTYPE=image/jpeg:https://aquafifth.com/wp-content/uploads/James-Sullivan-scaled.jpg
END:VEVENT
BEGIN:VEVENT
DTSTART;TZID=America/New_York:20231223T193000
DTEND;TZID=America/New_York:20231223T193000
DTSTAMP:20260422T234226
CREATED:20230816T182419Z
LAST-MODIFIED:20231130T160821Z
UID:10007957-1703359800-1703359800@aquafifth.com
SUMMARY:Rashae and the SHI Girls
DESCRIPTION:
URL:https://aquafifth.com/naples-event/rashae-and-the-shi-girls-2/2023-12-23/
LOCATION:Aqua – Naples\, 862 5th Ave S\, Naples\, FL\, 34102\, United States
CATEGORIES:Estero Events
ATTACH;FMTTYPE=image/jpeg:https://aquafifth.com/wp-content/uploads/Rashae-and-the-Shi-Girls.jpg
END:VEVENT
BEGIN:VEVENT
DTSTART;TZID=America/New_York:20231222T193000
DTEND;TZID=America/New_York:20231222T193000
DTSTAMP:20260422T234226
CREATED:20230816T182419Z
LAST-MODIFIED:20231130T160821Z
UID:10007956-1703273400-1703273400@aquafifth.com
SUMMARY:Rashae and the SHI Girls
DESCRIPTION:
URL:https://aquafifth.com/naples-event/rashae-and-the-shi-girls-2/2023-12-22/
LOCATION:Aqua – Naples\, 862 5th Ave S\, Naples\, FL\, 34102\, United States
CATEGORIES:Estero Events
ATTACH;FMTTYPE=image/jpeg:https://aquafifth.com/wp-content/uploads/Rashae-and-the-Shi-Girls.jpg
END:VEVENT
BEGIN:VEVENT
DTSTART;TZID=America/New_York:20231221T193000
DTEND;TZID=America/New_York:20231221T193000
DTSTAMP:20260422T234226
CREATED:20230816T182419Z
LAST-MODIFIED:20231130T160821Z
UID:10007955-1703187000-1703187000@aquafifth.com
SUMMARY:Rashae and the SHI Girls
DESCRIPTION:
URL:https://aquafifth.com/naples-event/rashae-and-the-shi-girls-2/2023-12-21/
LOCATION:Aqua – Naples\, 862 5th Ave S\, Naples\, FL\, 34102\, United States
CATEGORIES:Estero Events
ATTACH;FMTTYPE=image/jpeg:https://aquafifth.com/wp-content/uploads/Rashae-and-the-Shi-Girls.jpg
END:VEVENT
BEGIN:VEVENT
DTSTART;TZID=America/New_York:20231220T193000
DTEND;TZID=America/New_York:20231220T193000
DTSTAMP:20260422T234226
CREATED:20230816T182419Z
LAST-MODIFIED:20231130T160821Z
UID:10007954-1703100600-1703100600@aquafifth.com
SUMMARY:Rashae and the SHI Girls
DESCRIPTION:
URL:https://aquafifth.com/naples-event/rashae-and-the-shi-girls-2/2023-12-20/
LOCATION:Aqua – Naples\, 862 5th Ave S\, Naples\, FL\, 34102\, United States
CATEGORIES:Estero Events
ATTACH;FMTTYPE=image/jpeg:https://aquafifth.com/wp-content/uploads/Rashae-and-the-Shi-Girls.jpg
END:VEVENT
BEGIN:VEVENT
DTSTART;TZID=America/New_York:20231219T193000
DTEND;TZID=America/New_York:20231219T193000
DTSTAMP:20260422T234226
CREATED:20230816T165342Z
LAST-MODIFIED:20231129T222845Z
UID:10007879-1703014200-1703014200@aquafifth.com
SUMMARY:Larry Roberts
DESCRIPTION:
URL:https://aquafifth.com/naples-event/larry-roberts-3/2023-12-19/
LOCATION:Aqua – Naples\, 862 5th Ave S\, Naples\, FL\, 34102\, United States
CATEGORIES:Estero Events
ATTACH;FMTTYPE=image/jpeg:https://aquafifth.com/wp-content/uploads/Aqua.jpg
END:VEVENT
BEGIN:VEVENT
DTSTART;TZID=America/New_York:20231218T193000
DTEND;TZID=America/New_York:20231218T193000
DTSTAMP:20260422T234226
CREATED:20230816T182419Z
LAST-MODIFIED:20231130T160821Z
UID:10007953-1702927800-1702927800@aquafifth.com
SUMMARY:Rashae and the SHI Girls
DESCRIPTION:
URL:https://aquafifth.com/naples-event/rashae-and-the-shi-girls-2/2023-12-18/
LOCATION:Aqua – Naples\, 862 5th Ave S\, Naples\, FL\, 34102\, United States
CATEGORIES:Estero Events
ATTACH;FMTTYPE=image/jpeg:https://aquafifth.com/wp-content/uploads/Rashae-and-the-Shi-Girls.jpg
END:VEVENT
BEGIN:VEVENT
DTSTART;TZID=America/New_York:20231217T193000
DTEND;TZID=America/New_York:20231217T193000
DTSTAMP:20260422T234226
CREATED:20230816T172535Z
LAST-MODIFIED:20231129T220822Z
UID:10007832-1702841400-1702841400@aquafifth.com
SUMMARY:James Sullivan
DESCRIPTION:
URL:https://aquafifth.com/naples-event/james-sullivan-5/2023-12-17/
LOCATION:Aqua – Naples\, 862 5th Ave S\, Naples\, FL\, 34102\, United States
CATEGORIES:Estero Events
ATTACH;FMTTYPE=image/jpeg:https://aquafifth.com/wp-content/uploads/James-Sullivan-scaled.jpg
END:VEVENT
BEGIN:VEVENT
DTSTART;TZID=America/New_York:20231216T193000
DTEND;TZID=America/New_York:20231216T193000
DTSTAMP:20260422T234226
CREATED:20230816T165342Z
LAST-MODIFIED:20231129T222845Z
UID:10007878-1702755000-1702755000@aquafifth.com
SUMMARY:Larry Roberts
DESCRIPTION:
URL:https://aquafifth.com/naples-event/larry-roberts-3/2023-12-16/
LOCATION:Aqua – Naples\, 862 5th Ave S\, Naples\, FL\, 34102\, United States
CATEGORIES:Estero Events
ATTACH;FMTTYPE=image/jpeg:https://aquafifth.com/wp-content/uploads/Aqua.jpg
END:VEVENT
BEGIN:VEVENT
DTSTART;TZID=America/New_York:20231215T193000
DTEND;TZID=America/New_York:20231215T193000
DTSTAMP:20260422T234226
CREATED:20230816T165342Z
LAST-MODIFIED:20231129T222845Z
UID:10007877-1702668600-1702668600@aquafifth.com
SUMMARY:Larry Roberts
DESCRIPTION:
URL:https://aquafifth.com/naples-event/larry-roberts-3/2023-12-15/
LOCATION:Aqua – Naples\, 862 5th Ave S\, Naples\, FL\, 34102\, United States
CATEGORIES:Estero Events
ATTACH;FMTTYPE=image/jpeg:https://aquafifth.com/wp-content/uploads/Aqua.jpg
END:VEVENT
BEGIN:VEVENT
DTSTART;TZID=America/New_York:20231214T193000
DTEND;TZID=America/New_York:20231214T193000
DTSTAMP:20260422T234226
CREATED:20230816T182419Z
LAST-MODIFIED:20231130T160821Z
UID:10007952-1702582200-1702582200@aquafifth.com
SUMMARY:Rashae and the SHI Girls
DESCRIPTION:
URL:https://aquafifth.com/naples-event/rashae-and-the-shi-girls-2/2023-12-14/
LOCATION:Aqua – Naples\, 862 5th Ave S\, Naples\, FL\, 34102\, United States
CATEGORIES:Estero Events
ATTACH;FMTTYPE=image/jpeg:https://aquafifth.com/wp-content/uploads/Rashae-and-the-Shi-Girls.jpg
END:VEVENT
BEGIN:VEVENT
DTSTART;TZID=America/New_York:20231213T193000
DTEND;TZID=America/New_York:20231213T193000
DTSTAMP:20260422T234226
CREATED:20230816T182419Z
LAST-MODIFIED:20231130T160821Z
UID:10007951-1702495800-1702495800@aquafifth.com
SUMMARY:Rashae and the SHI Girls
DESCRIPTION:
URL:https://aquafifth.com/naples-event/rashae-and-the-shi-girls-2/2023-12-13/
LOCATION:Aqua – Naples\, 862 5th Ave S\, Naples\, FL\, 34102\, United States
CATEGORIES:Estero Events
ATTACH;FMTTYPE=image/jpeg:https://aquafifth.com/wp-content/uploads/Rashae-and-the-Shi-Girls.jpg
END:VEVENT
BEGIN:VEVENT
DTSTART;TZID=America/New_York:20231212T193000
DTEND;TZID=America/New_York:20231212T193000
DTSTAMP:20260422T234226
CREATED:20230816T165342Z
LAST-MODIFIED:20231129T222845Z
UID:10007876-1702409400-1702409400@aquafifth.com
SUMMARY:Larry Roberts
DESCRIPTION:
URL:https://aquafifth.com/naples-event/larry-roberts-3/2023-12-12/
LOCATION:Aqua – Naples\, 862 5th Ave S\, Naples\, FL\, 34102\, United States
CATEGORIES:Estero Events
ATTACH;FMTTYPE=image/jpeg:https://aquafifth.com/wp-content/uploads/Aqua.jpg
END:VEVENT
BEGIN:VEVENT
DTSTART;TZID=America/New_York:20231211T193000
DTEND;TZID=America/New_York:20231211T193000
DTSTAMP:20260422T234226
CREATED:20230816T182419Z
LAST-MODIFIED:20231130T160821Z
UID:10007950-1702323000-1702323000@aquafifth.com
SUMMARY:Rashae and the SHI Girls
DESCRIPTION:
URL:https://aquafifth.com/naples-event/rashae-and-the-shi-girls-2/2023-12-11/
LOCATION:Aqua – Naples\, 862 5th Ave S\, Naples\, FL\, 34102\, United States
CATEGORIES:Estero Events
ATTACH;FMTTYPE=image/jpeg:https://aquafifth.com/wp-content/uploads/Rashae-and-the-Shi-Girls.jpg
END:VEVENT
BEGIN:VEVENT
DTSTART;TZID=America/New_York:20231210T193000
DTEND;TZID=America/New_York:20231210T193000
DTSTAMP:20260422T234226
CREATED:20230816T172535Z
LAST-MODIFIED:20231129T220822Z
UID:10007831-1702236600-1702236600@aquafifth.com
SUMMARY:James Sullivan
DESCRIPTION:
URL:https://aquafifth.com/naples-event/james-sullivan-5/2023-12-10/
LOCATION:Aqua – Naples\, 862 5th Ave S\, Naples\, FL\, 34102\, United States
CATEGORIES:Estero Events
ATTACH;FMTTYPE=image/jpeg:https://aquafifth.com/wp-content/uploads/James-Sullivan-scaled.jpg
END:VEVENT
BEGIN:VEVENT
DTSTART;TZID=America/New_York:20231209T193000
DTEND;TZID=America/New_York:20231209T193000
DTSTAMP:20260422T234226
CREATED:20230816T165342Z
LAST-MODIFIED:20231129T222845Z
UID:10007875-1702150200-1702150200@aquafifth.com
SUMMARY:Larry Roberts
DESCRIPTION:
URL:https://aquafifth.com/naples-event/larry-roberts-3/2023-12-09/
LOCATION:Aqua – Naples\, 862 5th Ave S\, Naples\, FL\, 34102\, United States
CATEGORIES:Estero Events
ATTACH;FMTTYPE=image/jpeg:https://aquafifth.com/wp-content/uploads/Aqua.jpg
END:VEVENT
BEGIN:VEVENT
DTSTART;TZID=America/New_York:20231208T193000
DTEND;TZID=America/New_York:20231208T193000
DTSTAMP:20260422T234226
CREATED:20230816T182419Z
LAST-MODIFIED:20231130T160821Z
UID:10007949-1702063800-1702063800@aquafifth.com
SUMMARY:Rashae and the SHI Girls
DESCRIPTION:
URL:https://aquafifth.com/naples-event/rashae-and-the-shi-girls-2/2023-12-08/
LOCATION:Aqua – Naples\, 862 5th Ave S\, Naples\, FL\, 34102\, United States
CATEGORIES:Estero Events
ATTACH;FMTTYPE=image/jpeg:https://aquafifth.com/wp-content/uploads/Rashae-and-the-Shi-Girls.jpg
END:VEVENT
BEGIN:VEVENT
DTSTART;TZID=America/New_York:20231207T193000
DTEND;TZID=America/New_York:20231207T193000
DTSTAMP:20260422T234226
CREATED:20230816T182419Z
LAST-MODIFIED:20231130T160821Z
UID:10007948-1701977400-1701977400@aquafifth.com
SUMMARY:Rashae and the SHI Girls
DESCRIPTION:
URL:https://aquafifth.com/naples-event/rashae-and-the-shi-girls-2/2023-12-07/
LOCATION:Aqua – Naples\, 862 5th Ave S\, Naples\, FL\, 34102\, United States
CATEGORIES:Estero Events
ATTACH;FMTTYPE=image/jpeg:https://aquafifth.com/wp-content/uploads/Rashae-and-the-Shi-Girls.jpg
END:VEVENT
BEGIN:VEVENT
DTSTART;TZID=America/New_York:20231206T193000
DTEND;TZID=America/New_York:20231206T193000
DTSTAMP:20260422T234226
CREATED:20230816T182419Z
LAST-MODIFIED:20231130T160821Z
UID:10007947-1701891000-1701891000@aquafifth.com
SUMMARY:Rashae and the SHI Girls
DESCRIPTION:
URL:https://aquafifth.com/naples-event/rashae-and-the-shi-girls-2/2023-12-06/
LOCATION:Aqua – Naples\, 862 5th Ave S\, Naples\, FL\, 34102\, United States
CATEGORIES:Estero Events
ATTACH;FMTTYPE=image/jpeg:https://aquafifth.com/wp-content/uploads/Rashae-and-the-Shi-Girls.jpg
END:VEVENT
BEGIN:VEVENT
DTSTART;TZID=America/New_York:20231205T193000
DTEND;TZID=America/New_York:20231205T193000
DTSTAMP:20260422T234226
CREATED:20230816T165342Z
LAST-MODIFIED:20231129T222845Z
UID:10007874-1701804600-1701804600@aquafifth.com
SUMMARY:Larry Roberts
DESCRIPTION:
URL:https://aquafifth.com/naples-event/larry-roberts-3/2023-12-05/
LOCATION:Aqua – Naples\, 862 5th Ave S\, Naples\, FL\, 34102\, United States
CATEGORIES:Estero Events
ATTACH;FMTTYPE=image/jpeg:https://aquafifth.com/wp-content/uploads/Aqua.jpg
END:VEVENT
BEGIN:VEVENT
DTSTART;TZID=America/New_York:20231204T193000
DTEND;TZID=America/New_York:20231204T193000
DTSTAMP:20260422T234226
CREATED:20230816T182419Z
LAST-MODIFIED:20231130T160821Z
UID:10007946-1701718200-1701718200@aquafifth.com
SUMMARY:Rashae and the SHI Girls
DESCRIPTION:
URL:https://aquafifth.com/naples-event/rashae-and-the-shi-girls-2/2023-12-04/
LOCATION:Aqua – Naples\, 862 5th Ave S\, Naples\, FL\, 34102\, United States
CATEGORIES:Estero Events
ATTACH;FMTTYPE=image/jpeg:https://aquafifth.com/wp-content/uploads/Rashae-and-the-Shi-Girls.jpg
END:VEVENT
BEGIN:VEVENT
DTSTART;TZID=America/New_York:20231203T193000
DTEND;TZID=America/New_York:20231203T193000
DTSTAMP:20260422T234226
CREATED:20230816T172535Z
LAST-MODIFIED:20231129T220822Z
UID:10007826-1701631800-1701631800@aquafifth.com
SUMMARY:James Sullivan
DESCRIPTION:
URL:https://aquafifth.com/naples-event/james-sullivan-5/2023-12-03/
LOCATION:Aqua – Naples\, 862 5th Ave S\, Naples\, FL\, 34102\, United States
CATEGORIES:Estero Events
ATTACH;FMTTYPE=image/jpeg:https://aquafifth.com/wp-content/uploads/James-Sullivan-scaled.jpg
END:VEVENT
BEGIN:VEVENT
DTSTART;TZID=America/New_York:20231202T193000
DTEND;TZID=America/New_York:20231202T193000
DTSTAMP:20260422T234226
CREATED:20230816T165342Z
LAST-MODIFIED:20231129T222845Z
UID:10007873-1701545400-1701545400@aquafifth.com
SUMMARY:Larry Roberts
DESCRIPTION:
URL:https://aquafifth.com/naples-event/larry-roberts-3/2023-12-02/
LOCATION:Aqua – Naples\, 862 5th Ave S\, Naples\, FL\, 34102\, United States
CATEGORIES:Estero Events
ATTACH;FMTTYPE=image/jpeg:https://aquafifth.com/wp-content/uploads/Aqua.jpg
END:VEVENT
BEGIN:VEVENT
DTSTART;TZID=America/New_York:20231201T193000
DTEND;TZID=America/New_York:20231201T193000
DTSTAMP:20260422T234226
CREATED:20230816T165342Z
LAST-MODIFIED:20231129T222845Z
UID:10007855-1701459000-1701459000@aquafifth.com
SUMMARY:Larry Roberts
DESCRIPTION:
URL:https://aquafifth.com/naples-event/larry-roberts-3/2023-12-01/
LOCATION:Aqua – Naples\, 862 5th Ave S\, Naples\, FL\, 34102\, United States
CATEGORIES:Estero Events
ATTACH;FMTTYPE=image/jpeg:https://aquafifth.com/wp-content/uploads/Aqua.jpg
END:VEVENT
END:VCALENDAR