BEGIN:VCALENDAR
VERSION:2.0
PRODID:-//Aqua Restaurant - ECPv6.15.20//NONSGML v1.0//EN
CALSCALE:GREGORIAN
METHOD:PUBLISH
X-ORIGINAL-URL:https://aquafifth.com
X-WR-CALDESC:Events for Aqua Restaurant
REFRESH-INTERVAL;VALUE=DURATION:PT1H
X-Robots-Tag:noindex
X-PUBLISHED-TTL:PT1H
BEGIN:VTIMEZONE
TZID:America/New_York
BEGIN:DAYLIGHT
TZOFFSETFROM:-0500
TZOFFSETTO:-0400
TZNAME:EDT
DTSTART:20220313T070000
END:DAYLIGHT
BEGIN:STANDARD
TZOFFSETFROM:-0400
TZOFFSETTO:-0500
TZNAME:EST
DTSTART:20221106T060000
END:STANDARD
BEGIN:DAYLIGHT
TZOFFSETFROM:-0500
TZOFFSETTO:-0400
TZNAME:EDT
DTSTART:20230312T070000
END:DAYLIGHT
BEGIN:STANDARD
TZOFFSETFROM:-0400
TZOFFSETTO:-0500
TZNAME:EST
DTSTART:20231105T060000
END:STANDARD
BEGIN:DAYLIGHT
TZOFFSETFROM:-0500
TZOFFSETTO:-0400
TZNAME:EDT
DTSTART:20240310T070000
END:DAYLIGHT
BEGIN:STANDARD
TZOFFSETFROM:-0400
TZOFFSETTO:-0500
TZNAME:EST
DTSTART:20241103T060000
END:STANDARD
END:VTIMEZONE
BEGIN:VEVENT
DTSTART;TZID=America/New_York:20231206T193000
DTEND;TZID=America/New_York:20231206T193000
DTSTAMP:20260423T023920
CREATED:20230816T182419Z
LAST-MODIFIED:20231130T160821Z
UID:10007947-1701891000-1701891000@aquafifth.com
SUMMARY:Rashae and the SHI Girls
DESCRIPTION:
URL:https://aquafifth.com/naples-event/rashae-and-the-shi-girls-2/2023-12-06/
LOCATION:Aqua – Naples\, 862 5th Ave S\, Naples\, FL\, 34102\, United States
CATEGORIES:Estero Events
ATTACH;FMTTYPE=image/jpeg:https://aquafifth.com/wp-content/uploads/Rashae-and-the-Shi-Girls.jpg
END:VEVENT
BEGIN:VEVENT
DTSTART;TZID=America/New_York:20231205T193000
DTEND;TZID=America/New_York:20231205T193000
DTSTAMP:20260423T023920
CREATED:20230816T165342Z
LAST-MODIFIED:20231129T222845Z
UID:10007874-1701804600-1701804600@aquafifth.com
SUMMARY:Larry Roberts
DESCRIPTION:
URL:https://aquafifth.com/naples-event/larry-roberts-3/2023-12-05/
LOCATION:Aqua – Naples\, 862 5th Ave S\, Naples\, FL\, 34102\, United States
CATEGORIES:Estero Events
ATTACH;FMTTYPE=image/jpeg:https://aquafifth.com/wp-content/uploads/Aqua.jpg
END:VEVENT
BEGIN:VEVENT
DTSTART;TZID=America/New_York:20231204T193000
DTEND;TZID=America/New_York:20231204T193000
DTSTAMP:20260423T023920
CREATED:20230816T182419Z
LAST-MODIFIED:20231130T160821Z
UID:10007946-1701718200-1701718200@aquafifth.com
SUMMARY:Rashae and the SHI Girls
DESCRIPTION:
URL:https://aquafifth.com/naples-event/rashae-and-the-shi-girls-2/2023-12-04/
LOCATION:Aqua – Naples\, 862 5th Ave S\, Naples\, FL\, 34102\, United States
CATEGORIES:Estero Events
ATTACH;FMTTYPE=image/jpeg:https://aquafifth.com/wp-content/uploads/Rashae-and-the-Shi-Girls.jpg
END:VEVENT
BEGIN:VEVENT
DTSTART;TZID=America/New_York:20231203T193000
DTEND;TZID=America/New_York:20231203T193000
DTSTAMP:20260423T023920
CREATED:20230816T172535Z
LAST-MODIFIED:20231129T220822Z
UID:10007826-1701631800-1701631800@aquafifth.com
SUMMARY:James Sullivan
DESCRIPTION:
URL:https://aquafifth.com/naples-event/james-sullivan-5/2023-12-03/
LOCATION:Aqua – Naples\, 862 5th Ave S\, Naples\, FL\, 34102\, United States
CATEGORIES:Estero Events
ATTACH;FMTTYPE=image/jpeg:https://aquafifth.com/wp-content/uploads/James-Sullivan-scaled.jpg
END:VEVENT
BEGIN:VEVENT
DTSTART;TZID=America/New_York:20231202T193000
DTEND;TZID=America/New_York:20231202T193000
DTSTAMP:20260423T023920
CREATED:20230816T165342Z
LAST-MODIFIED:20231129T222845Z
UID:10007873-1701545400-1701545400@aquafifth.com
SUMMARY:Larry Roberts
DESCRIPTION:
URL:https://aquafifth.com/naples-event/larry-roberts-3/2023-12-02/
LOCATION:Aqua – Naples\, 862 5th Ave S\, Naples\, FL\, 34102\, United States
CATEGORIES:Estero Events
ATTACH;FMTTYPE=image/jpeg:https://aquafifth.com/wp-content/uploads/Aqua.jpg
END:VEVENT
BEGIN:VEVENT
DTSTART;TZID=America/New_York:20231201T193000
DTEND;TZID=America/New_York:20231201T193000
DTSTAMP:20260423T023920
CREATED:20230816T165342Z
LAST-MODIFIED:20231129T222845Z
UID:10007855-1701459000-1701459000@aquafifth.com
SUMMARY:Larry Roberts
DESCRIPTION:
URL:https://aquafifth.com/naples-event/larry-roberts-3/2023-12-01/
LOCATION:Aqua – Naples\, 862 5th Ave S\, Naples\, FL\, 34102\, United States
CATEGORIES:Estero Events
ATTACH;FMTTYPE=image/jpeg:https://aquafifth.com/wp-content/uploads/Aqua.jpg
END:VEVENT
BEGIN:VEVENT
DTSTART;TZID=America/New_York:20231130T193000
DTEND;TZID=America/New_York:20231130T193000
DTSTAMP:20260423T023920
CREATED:20230816T182419Z
LAST-MODIFIED:20231130T160821Z
UID:10007931-1701372600-1701372600@aquafifth.com
SUMMARY:Rashae and the SHI Girls
DESCRIPTION:
URL:https://aquafifth.com/naples-event/rashae-and-the-shi-girls-2/2023-11-30/
LOCATION:Aqua – Naples\, 862 5th Ave S\, Naples\, FL\, 34102\, United States
CATEGORIES:Estero Events
ATTACH;FMTTYPE=image/jpeg:https://aquafifth.com/wp-content/uploads/Rashae-and-the-Shi-Girls.jpg
END:VEVENT
BEGIN:VEVENT
DTSTART;TZID=America/New_York:20231129T193000
DTEND;TZID=America/New_York:20231129T193000
DTSTAMP:20260423T023920
CREATED:20230816T182419Z
LAST-MODIFIED:20231130T160821Z
UID:10007825-1701286200-1701286200@aquafifth.com
SUMMARY:Rashae and the SHI Girls
DESCRIPTION:
URL:https://aquafifth.com/naples-event/rashae-and-the-shi-girls-2/2023-11-29/
LOCATION:Aqua – Naples\, 862 5th Ave S\, Naples\, FL\, 34102\, United States
CATEGORIES:Estero Events
ATTACH;FMTTYPE=image/jpeg:https://aquafifth.com/wp-content/uploads/Rashae-and-the-Shi-Girls.jpg
END:VEVENT
BEGIN:VEVENT
DTSTART;TZID=America/New_York:20231128T193000
DTEND;TZID=America/New_York:20231128T193000
DTSTAMP:20260423T023920
CREATED:20230816T165342Z
LAST-MODIFIED:20231129T222845Z
UID:10007872-1701199800-1701199800@aquafifth.com
SUMMARY:Larry Roberts
DESCRIPTION:
URL:https://aquafifth.com/naples-event/larry-roberts-3/2023-11-28/
LOCATION:Aqua – Naples\, 862 5th Ave S\, Naples\, FL\, 34102\, United States
CATEGORIES:Estero Events
ATTACH;FMTTYPE=image/jpeg:https://aquafifth.com/wp-content/uploads/Aqua.jpg
END:VEVENT
BEGIN:VEVENT
DTSTART;TZID=America/New_York:20231127T193000
DTEND;TZID=America/New_York:20231127T193000
DTSTAMP:20260423T023920
CREATED:20230816T182419Z
LAST-MODIFIED:20231130T160821Z
UID:10007945-1701113400-1701113400@aquafifth.com
SUMMARY:Rashae and the SHI Girls
DESCRIPTION:
URL:https://aquafifth.com/naples-event/rashae-and-the-shi-girls-2/2023-11-27/
LOCATION:Aqua – Naples\, 862 5th Ave S\, Naples\, FL\, 34102\, United States
CATEGORIES:Estero Events
ATTACH;FMTTYPE=image/jpeg:https://aquafifth.com/wp-content/uploads/Rashae-and-the-Shi-Girls.jpg
END:VEVENT
BEGIN:VEVENT
DTSTART;TZID=America/New_York:20231126T200000
DTEND;TZID=America/New_York:20231126T233000
DTSTAMP:20260423T023920
CREATED:20230816T172535Z
LAST-MODIFIED:20231129T220822Z
UID:10007194-1701028800-1701041400@aquafifth.com
SUMMARY:James Sullivan
DESCRIPTION:
URL:https://aquafifth.com/naples-event/james-sullivan-5/2023-11-26/
LOCATION:Aqua – Naples\, 862 5th Ave S\, Naples\, FL\, 34102\, United States
CATEGORIES:Estero Events
ATTACH;FMTTYPE=image/jpeg:https://aquafifth.com/wp-content/uploads/James-Sullivan-scaled.jpg
END:VEVENT
BEGIN:VEVENT
DTSTART;TZID=America/New_York:20231125T193000
DTEND;TZID=America/New_York:20231125T193000
DTSTAMP:20260423T023920
CREATED:20230816T165342Z
LAST-MODIFIED:20231129T222845Z
UID:10007871-1700940600-1700940600@aquafifth.com
SUMMARY:Larry Roberts
DESCRIPTION:
URL:https://aquafifth.com/naples-event/larry-roberts-3/2023-11-25/
LOCATION:Aqua – Naples\, 862 5th Ave S\, Naples\, FL\, 34102\, United States
CATEGORIES:Estero Events
ATTACH;FMTTYPE=image/jpeg:https://aquafifth.com/wp-content/uploads/Aqua.jpg
END:VEVENT
BEGIN:VEVENT
DTSTART;TZID=America/New_York:20231124T193000
DTEND;TZID=America/New_York:20231124T193000
DTSTAMP:20260423T023920
CREATED:20230816T165342Z
LAST-MODIFIED:20231129T222845Z
UID:10007870-1700854200-1700854200@aquafifth.com
SUMMARY:Larry Roberts
DESCRIPTION:
URL:https://aquafifth.com/naples-event/larry-roberts-3/2023-11-24/
LOCATION:Aqua – Naples\, 862 5th Ave S\, Naples\, FL\, 34102\, United States
CATEGORIES:Estero Events
ATTACH;FMTTYPE=image/jpeg:https://aquafifth.com/wp-content/uploads/Aqua.jpg
END:VEVENT
BEGIN:VEVENT
DTSTART;TZID=America/New_York:20231123T193000
DTEND;TZID=America/New_York:20231123T193000
DTSTAMP:20260423T023920
CREATED:20230816T165342Z
LAST-MODIFIED:20231129T222845Z
UID:10007869-1700767800-1700767800@aquafifth.com
SUMMARY:Larry Roberts
DESCRIPTION:
URL:https://aquafifth.com/naples-event/larry-roberts-3/2023-11-23/
LOCATION:Aqua – Naples\, 862 5th Ave S\, Naples\, FL\, 34102\, United States
CATEGORIES:Estero Events
ATTACH;FMTTYPE=image/jpeg:https://aquafifth.com/wp-content/uploads/Aqua.jpg
END:VEVENT
BEGIN:VEVENT
DTSTART;TZID=America/New_York:20231122T193000
DTEND;TZID=America/New_York:20231122T193000
DTSTAMP:20260423T023920
CREATED:20230816T165342Z
LAST-MODIFIED:20231129T222845Z
UID:10007868-1700681400-1700681400@aquafifth.com
SUMMARY:Larry Roberts
DESCRIPTION:
URL:https://aquafifth.com/naples-event/larry-roberts-3/2023-11-22/
LOCATION:Aqua – Naples\, 862 5th Ave S\, Naples\, FL\, 34102\, United States
CATEGORIES:Estero Events
ATTACH;FMTTYPE=image/jpeg:https://aquafifth.com/wp-content/uploads/Aqua.jpg
END:VEVENT
BEGIN:VEVENT
DTSTART;TZID=America/New_York:20231121T193000
DTEND;TZID=America/New_York:20231121T193000
DTSTAMP:20260423T023920
CREATED:20230816T165342Z
LAST-MODIFIED:20231129T222845Z
UID:10007867-1700595000-1700595000@aquafifth.com
SUMMARY:Larry Roberts
DESCRIPTION:
URL:https://aquafifth.com/naples-event/larry-roberts-3/2023-11-21/
LOCATION:Aqua – Naples\, 862 5th Ave S\, Naples\, FL\, 34102\, United States
CATEGORIES:Estero Events
ATTACH;FMTTYPE=image/jpeg:https://aquafifth.com/wp-content/uploads/Aqua.jpg
END:VEVENT
BEGIN:VEVENT
DTSTART;TZID=America/New_York:20231120T193000
DTEND;TZID=America/New_York:20231120T193000
DTSTAMP:20260423T023920
CREATED:20230816T182419Z
LAST-MODIFIED:20231130T160821Z
UID:10007944-1700508600-1700508600@aquafifth.com
SUMMARY:Rashae and the SHI Girls
DESCRIPTION:
URL:https://aquafifth.com/naples-event/rashae-and-the-shi-girls-2/2023-11-20/
LOCATION:Aqua – Naples\, 862 5th Ave S\, Naples\, FL\, 34102\, United States
CATEGORIES:Estero Events
ATTACH;FMTTYPE=image/jpeg:https://aquafifth.com/wp-content/uploads/Rashae-and-the-Shi-Girls.jpg
END:VEVENT
BEGIN:VEVENT
DTSTART;TZID=America/New_York:20231119T193000
DTEND;TZID=America/New_York:20231119T193000
DTSTAMP:20260423T023920
CREATED:20230816T172535Z
LAST-MODIFIED:20231129T220822Z
UID:10007830-1700422200-1700422200@aquafifth.com
SUMMARY:James Sullivan
DESCRIPTION:
URL:https://aquafifth.com/naples-event/james-sullivan-5/2023-11-19/
LOCATION:Aqua – Naples\, 862 5th Ave S\, Naples\, FL\, 34102\, United States
CATEGORIES:Estero Events
ATTACH;FMTTYPE=image/jpeg:https://aquafifth.com/wp-content/uploads/James-Sullivan-scaled.jpg
END:VEVENT
BEGIN:VEVENT
DTSTART;TZID=America/New_York:20231118T193000
DTEND;TZID=America/New_York:20231118T193000
DTSTAMP:20260423T023920
CREATED:20230816T165342Z
LAST-MODIFIED:20231129T222845Z
UID:10007866-1700335800-1700335800@aquafifth.com
SUMMARY:Larry Roberts
DESCRIPTION:
URL:https://aquafifth.com/naples-event/larry-roberts-3/2023-11-18/
LOCATION:Aqua – Naples\, 862 5th Ave S\, Naples\, FL\, 34102\, United States
CATEGORIES:Estero Events
ATTACH;FMTTYPE=image/jpeg:https://aquafifth.com/wp-content/uploads/Aqua.jpg
END:VEVENT
BEGIN:VEVENT
DTSTART;TZID=America/New_York:20231117T193000
DTEND;TZID=America/New_York:20231117T193000
DTSTAMP:20260423T023920
CREATED:20230816T165342Z
LAST-MODIFIED:20231129T222845Z
UID:10007865-1700249400-1700249400@aquafifth.com
SUMMARY:Larry Roberts
DESCRIPTION:
URL:https://aquafifth.com/naples-event/larry-roberts-3/2023-11-17/
LOCATION:Aqua – Naples\, 862 5th Ave S\, Naples\, FL\, 34102\, United States
CATEGORIES:Estero Events
ATTACH;FMTTYPE=image/jpeg:https://aquafifth.com/wp-content/uploads/Aqua.jpg
END:VEVENT
BEGIN:VEVENT
DTSTART;TZID=America/New_York:20231116T193000
DTEND;TZID=America/New_York:20231116T193000
DTSTAMP:20260423T023920
CREATED:20230816T182419Z
LAST-MODIFIED:20231130T160821Z
UID:10007943-1700163000-1700163000@aquafifth.com
SUMMARY:Rashae and the SHI Girls
DESCRIPTION:
URL:https://aquafifth.com/naples-event/rashae-and-the-shi-girls-2/2023-11-16/
LOCATION:Aqua – Naples\, 862 5th Ave S\, Naples\, FL\, 34102\, United States
CATEGORIES:Estero Events
ATTACH;FMTTYPE=image/jpeg:https://aquafifth.com/wp-content/uploads/Rashae-and-the-Shi-Girls.jpg
END:VEVENT
BEGIN:VEVENT
DTSTART;TZID=America/New_York:20231115T193000
DTEND;TZID=America/New_York:20231115T193000
DTSTAMP:20260423T023920
CREATED:20230816T182419Z
LAST-MODIFIED:20231130T160821Z
UID:10007942-1700076600-1700076600@aquafifth.com
SUMMARY:Rashae and the SHI Girls
DESCRIPTION:
URL:https://aquafifth.com/naples-event/rashae-and-the-shi-girls-2/2023-11-15/
LOCATION:Aqua – Naples\, 862 5th Ave S\, Naples\, FL\, 34102\, United States
CATEGORIES:Estero Events
ATTACH;FMTTYPE=image/jpeg:https://aquafifth.com/wp-content/uploads/Rashae-and-the-Shi-Girls.jpg
END:VEVENT
BEGIN:VEVENT
DTSTART;TZID=America/New_York:20231114T193000
DTEND;TZID=America/New_York:20231114T193000
DTSTAMP:20260423T023920
CREATED:20230816T165342Z
LAST-MODIFIED:20231129T222845Z
UID:10007864-1699990200-1699990200@aquafifth.com
SUMMARY:Larry Roberts
DESCRIPTION:
URL:https://aquafifth.com/naples-event/larry-roberts-3/2023-11-14/
LOCATION:Aqua – Naples\, 862 5th Ave S\, Naples\, FL\, 34102\, United States
CATEGORIES:Estero Events
ATTACH;FMTTYPE=image/jpeg:https://aquafifth.com/wp-content/uploads/Aqua.jpg
END:VEVENT
BEGIN:VEVENT
DTSTART;TZID=America/New_York:20231113T193000
DTEND;TZID=America/New_York:20231113T193000
DTSTAMP:20260423T023920
CREATED:20230816T182419Z
LAST-MODIFIED:20231130T160821Z
UID:10007941-1699903800-1699903800@aquafifth.com
SUMMARY:Rashae and the SHI Girls
DESCRIPTION:
URL:https://aquafifth.com/naples-event/rashae-and-the-shi-girls-2/2023-11-13/
LOCATION:Aqua – Naples\, 862 5th Ave S\, Naples\, FL\, 34102\, United States
CATEGORIES:Estero Events
ATTACH;FMTTYPE=image/jpeg:https://aquafifth.com/wp-content/uploads/Rashae-and-the-Shi-Girls.jpg
END:VEVENT
BEGIN:VEVENT
DTSTART;TZID=America/New_York:20231112T193000
DTEND;TZID=America/New_York:20231112T193000
DTSTAMP:20260423T023920
CREATED:20230816T172535Z
LAST-MODIFIED:20231129T220822Z
UID:10007829-1699817400-1699817400@aquafifth.com
SUMMARY:James Sullivan
DESCRIPTION:
URL:https://aquafifth.com/naples-event/james-sullivan-5/2023-11-12/
LOCATION:Aqua – Naples\, 862 5th Ave S\, Naples\, FL\, 34102\, United States
CATEGORIES:Estero Events
ATTACH;FMTTYPE=image/jpeg:https://aquafifth.com/wp-content/uploads/James-Sullivan-scaled.jpg
END:VEVENT
BEGIN:VEVENT
DTSTART;TZID=America/New_York:20231111T193000
DTEND;TZID=America/New_York:20231111T193000
DTSTAMP:20260423T023920
CREATED:20230816T165342Z
LAST-MODIFIED:20231129T222845Z
UID:10007863-1699731000-1699731000@aquafifth.com
SUMMARY:Larry Roberts
DESCRIPTION:
URL:https://aquafifth.com/naples-event/larry-roberts-3/2023-11-11/
LOCATION:Aqua – Naples\, 862 5th Ave S\, Naples\, FL\, 34102\, United States
CATEGORIES:Estero Events
ATTACH;FMTTYPE=image/jpeg:https://aquafifth.com/wp-content/uploads/Aqua.jpg
END:VEVENT
BEGIN:VEVENT
DTSTART;TZID=America/New_York:20231110T193000
DTEND;TZID=America/New_York:20231110T193000
DTSTAMP:20260423T023920
CREATED:20230816T182419Z
LAST-MODIFIED:20231130T160821Z
UID:10007940-1699644600-1699644600@aquafifth.com
SUMMARY:Rashae and the SHI Girls
DESCRIPTION:
URL:https://aquafifth.com/naples-event/rashae-and-the-shi-girls-2/2023-11-10/
LOCATION:Aqua – Naples\, 862 5th Ave S\, Naples\, FL\, 34102\, United States
CATEGORIES:Estero Events
ATTACH;FMTTYPE=image/jpeg:https://aquafifth.com/wp-content/uploads/Rashae-and-the-Shi-Girls.jpg
END:VEVENT
BEGIN:VEVENT
DTSTART;TZID=America/New_York:20231109T193000
DTEND;TZID=America/New_York:20231109T193000
DTSTAMP:20260423T023920
CREATED:20230816T182419Z
LAST-MODIFIED:20231130T160821Z
UID:10007939-1699558200-1699558200@aquafifth.com
SUMMARY:Rashae and the SHI Girls
DESCRIPTION:
URL:https://aquafifth.com/naples-event/rashae-and-the-shi-girls-2/2023-11-09/
LOCATION:Aqua – Naples\, 862 5th Ave S\, Naples\, FL\, 34102\, United States
CATEGORIES:Estero Events
ATTACH;FMTTYPE=image/jpeg:https://aquafifth.com/wp-content/uploads/Rashae-and-the-Shi-Girls.jpg
END:VEVENT
BEGIN:VEVENT
DTSTART;TZID=America/New_York:20231108T193000
DTEND;TZID=America/New_York:20231108T193000
DTSTAMP:20260423T023920
CREATED:20230816T182419Z
LAST-MODIFIED:20231130T160821Z
UID:10007938-1699471800-1699471800@aquafifth.com
SUMMARY:Rashae and the SHI Girls
DESCRIPTION:
URL:https://aquafifth.com/naples-event/rashae-and-the-shi-girls-2/2023-11-08/
LOCATION:Aqua – Naples\, 862 5th Ave S\, Naples\, FL\, 34102\, United States
CATEGORIES:Estero Events
ATTACH;FMTTYPE=image/jpeg:https://aquafifth.com/wp-content/uploads/Rashae-and-the-Shi-Girls.jpg
END:VEVENT
BEGIN:VEVENT
DTSTART;TZID=America/New_York:20231107T193000
DTEND;TZID=America/New_York:20231107T193000
DTSTAMP:20260423T023920
CREATED:20230816T165342Z
LAST-MODIFIED:20231129T222845Z
UID:10007862-1699385400-1699385400@aquafifth.com
SUMMARY:Larry Roberts
DESCRIPTION:
URL:https://aquafifth.com/naples-event/larry-roberts-3/2023-11-07/
LOCATION:Aqua – Naples\, 862 5th Ave S\, Naples\, FL\, 34102\, United States
CATEGORIES:Estero Events
ATTACH;FMTTYPE=image/jpeg:https://aquafifth.com/wp-content/uploads/Aqua.jpg
END:VEVENT
END:VCALENDAR