BEGIN:VCALENDAR
VERSION:2.0
PRODID:-//Aqua Restaurant - ECPv6.15.20//NONSGML v1.0//EN
CALSCALE:GREGORIAN
METHOD:PUBLISH
X-WR-CALNAME:Aqua Restaurant
X-ORIGINAL-URL:https://aquafifth.com
X-WR-CALDESC:Events for Aqua Restaurant
REFRESH-INTERVAL;VALUE=DURATION:PT1H
X-Robots-Tag:noindex
X-PUBLISHED-TTL:PT1H
BEGIN:VTIMEZONE
TZID:America/New_York
BEGIN:DAYLIGHT
TZOFFSETFROM:-0500
TZOFFSETTO:-0400
TZNAME:EDT
DTSTART:20220313T070000
END:DAYLIGHT
BEGIN:STANDARD
TZOFFSETFROM:-0400
TZOFFSETTO:-0500
TZNAME:EST
DTSTART:20221106T060000
END:STANDARD
BEGIN:DAYLIGHT
TZOFFSETFROM:-0500
TZOFFSETTO:-0400
TZNAME:EDT
DTSTART:20230312T070000
END:DAYLIGHT
BEGIN:STANDARD
TZOFFSETFROM:-0400
TZOFFSETTO:-0500
TZNAME:EST
DTSTART:20231105T060000
END:STANDARD
BEGIN:DAYLIGHT
TZOFFSETFROM:-0500
TZOFFSETTO:-0400
TZNAME:EDT
DTSTART:20240310T070000
END:DAYLIGHT
BEGIN:STANDARD
TZOFFSETFROM:-0400
TZOFFSETTO:-0500
TZNAME:EST
DTSTART:20241103T060000
END:STANDARD
END:VTIMEZONE
BEGIN:VEVENT
DTSTART;TZID=America/New_York:20231019T193000
DTEND;TZID=America/New_York:20231019T193000
DTSTAMP:20260423T083002
CREATED:20230816T182419Z
LAST-MODIFIED:20231130T160821Z
UID:10007292-1697743800-1697743800@aquafifth.com
SUMMARY:Rashae and the SHI Girls
DESCRIPTION:
URL:https://aquafifth.com/naples-event/rashae-and-the-shi-girls-2/2023-10-19/
LOCATION:Aqua – Naples\, 862 5th Ave S\, Naples\, FL\, 34102\, United States
CATEGORIES:Estero Events
ATTACH;FMTTYPE=image/jpeg:https://aquafifth.com/wp-content/uploads/Rashae-and-the-Shi-Girls.jpg
END:VEVENT
BEGIN:VEVENT
DTSTART;TZID=America/New_York:20231018T193000
DTEND;TZID=America/New_York:20231018T193000
DTSTAMP:20260423T083002
CREATED:20230816T182419Z
LAST-MODIFIED:20231130T160821Z
UID:10007291-1697657400-1697657400@aquafifth.com
SUMMARY:Rashae and the SHI Girls
DESCRIPTION:
URL:https://aquafifth.com/naples-event/rashae-and-the-shi-girls-2/2023-10-18/
LOCATION:Aqua – Naples\, 862 5th Ave S\, Naples\, FL\, 34102\, United States
CATEGORIES:Estero Events
ATTACH;FMTTYPE=image/jpeg:https://aquafifth.com/wp-content/uploads/Rashae-and-the-Shi-Girls.jpg
END:VEVENT
BEGIN:VEVENT
DTSTART;TZID=America/New_York:20231017T193000
DTEND;TZID=America/New_York:20231017T223000
DTSTAMP:20260423T083002
CREATED:20230816T161805Z
LAST-MODIFIED:20231005T221538Z
UID:10007056-1697571000-1697581800@aquafifth.com
SUMMARY:Larry Roberts
DESCRIPTION:
URL:https://aquafifth.com/naples-event/larry-roberts-2/2023-10-17/
LOCATION:Aqua – Naples\, 862 5th Ave S\, Naples\, FL\, 34102\, United States
CATEGORIES:Estero Events
ATTACH;FMTTYPE=image/jpeg:https://aquafifth.com/wp-content/uploads/Aqua.jpg
END:VEVENT
BEGIN:VEVENT
DTSTART;TZID=America/New_York:20231016T193000
DTEND;TZID=America/New_York:20231016T193000
DTSTAMP:20260423T083002
CREATED:20230816T182419Z
LAST-MODIFIED:20231130T160821Z
UID:10007290-1697484600-1697484600@aquafifth.com
SUMMARY:Rashae and the SHI Girls
DESCRIPTION:
URL:https://aquafifth.com/naples-event/rashae-and-the-shi-girls-2/2023-10-16/
LOCATION:Aqua – Naples\, 862 5th Ave S\, Naples\, FL\, 34102\, United States
CATEGORIES:Estero Events
ATTACH;FMTTYPE=image/jpeg:https://aquafifth.com/wp-content/uploads/Rashae-and-the-Shi-Girls.jpg
END:VEVENT
BEGIN:VEVENT
DTSTART;TZID=America/New_York:20231015T193000
DTEND;TZID=America/New_York:20231015T223000
DTSTAMP:20260423T083002
CREATED:20230816T171221Z
LAST-MODIFIED:20230816T171221Z
UID:10007180-1697398200-1697409000@aquafifth.com
SUMMARY:James Sullivan
DESCRIPTION:
URL:https://aquafifth.com/naples-event/james-sullivan-4/2023-10-15/
LOCATION:Aqua – Naples\, 862 5th Ave S\, Naples\, FL\, 34102\, United States
CATEGORIES:Estero Events
ATTACH;FMTTYPE=image/jpeg:https://aquafifth.com/wp-content/uploads/James-Sullivan-scaled.jpg
END:VEVENT
BEGIN:VEVENT
DTSTART;TZID=America/New_York:20231014T193000
DTEND;TZID=America/New_York:20231014T223000
DTSTAMP:20260423T083002
CREATED:20230816T161805Z
LAST-MODIFIED:20231005T221538Z
UID:10007055-1697311800-1697322600@aquafifth.com
SUMMARY:Larry Roberts
DESCRIPTION:
URL:https://aquafifth.com/naples-event/larry-roberts-2/2023-10-14/
LOCATION:Aqua – Naples\, 862 5th Ave S\, Naples\, FL\, 34102\, United States
CATEGORIES:Estero Events
ATTACH;FMTTYPE=image/jpeg:https://aquafifth.com/wp-content/uploads/Aqua.jpg
END:VEVENT
BEGIN:VEVENT
DTSTART;TZID=America/New_York:20231013T193000
DTEND;TZID=America/New_York:20231013T193000
DTSTAMP:20260423T083002
CREATED:20230816T182419Z
LAST-MODIFIED:20231130T160821Z
UID:10007289-1697225400-1697225400@aquafifth.com
SUMMARY:Rashae and the SHI Girls
DESCRIPTION:
URL:https://aquafifth.com/naples-event/rashae-and-the-shi-girls-2/2023-10-13/
LOCATION:Aqua – Naples\, 862 5th Ave S\, Naples\, FL\, 34102\, United States
CATEGORIES:Estero Events
ATTACH;FMTTYPE=image/jpeg:https://aquafifth.com/wp-content/uploads/Rashae-and-the-Shi-Girls.jpg
END:VEVENT
BEGIN:VEVENT
DTSTART;TZID=America/New_York:20231012T193000
DTEND;TZID=America/New_York:20231012T193000
DTSTAMP:20260423T083002
CREATED:20230816T182419Z
LAST-MODIFIED:20231130T160821Z
UID:10007288-1697139000-1697139000@aquafifth.com
SUMMARY:Rashae and the SHI Girls
DESCRIPTION:
URL:https://aquafifth.com/naples-event/rashae-and-the-shi-girls-2/2023-10-12/
LOCATION:Aqua – Naples\, 862 5th Ave S\, Naples\, FL\, 34102\, United States
CATEGORIES:Estero Events
ATTACH;FMTTYPE=image/jpeg:https://aquafifth.com/wp-content/uploads/Rashae-and-the-Shi-Girls.jpg
END:VEVENT
BEGIN:VEVENT
DTSTART;TZID=America/New_York:20231011T193000
DTEND;TZID=America/New_York:20231011T193000
DTSTAMP:20260423T083002
CREATED:20230816T182419Z
LAST-MODIFIED:20231130T160821Z
UID:10007287-1697052600-1697052600@aquafifth.com
SUMMARY:Rashae and the SHI Girls
DESCRIPTION:
URL:https://aquafifth.com/naples-event/rashae-and-the-shi-girls-2/2023-10-11/
LOCATION:Aqua – Naples\, 862 5th Ave S\, Naples\, FL\, 34102\, United States
CATEGORIES:Estero Events
ATTACH;FMTTYPE=image/jpeg:https://aquafifth.com/wp-content/uploads/Rashae-and-the-Shi-Girls.jpg
END:VEVENT
BEGIN:VEVENT
DTSTART;TZID=America/New_York:20231010T193000
DTEND;TZID=America/New_York:20231010T223000
DTSTAMP:20260423T083002
CREATED:20230816T161805Z
LAST-MODIFIED:20231005T221538Z
UID:10007054-1696966200-1696977000@aquafifth.com
SUMMARY:Larry Roberts
DESCRIPTION:
URL:https://aquafifth.com/naples-event/larry-roberts-2/2023-10-10/
LOCATION:Aqua – Naples\, 862 5th Ave S\, Naples\, FL\, 34102\, United States
CATEGORIES:Estero Events
ATTACH;FMTTYPE=image/jpeg:https://aquafifth.com/wp-content/uploads/Aqua.jpg
END:VEVENT
BEGIN:VEVENT
DTSTART;TZID=America/New_York:20231009T193000
DTEND;TZID=America/New_York:20231009T193000
DTSTAMP:20260423T083002
CREATED:20230816T182419Z
LAST-MODIFIED:20231130T160821Z
UID:10007286-1696879800-1696879800@aquafifth.com
SUMMARY:Rashae and the SHI Girls
DESCRIPTION:
URL:https://aquafifth.com/naples-event/rashae-and-the-shi-girls-2/2023-10-09/
LOCATION:Aqua – Naples\, 862 5th Ave S\, Naples\, FL\, 34102\, United States
CATEGORIES:Estero Events
ATTACH;FMTTYPE=image/jpeg:https://aquafifth.com/wp-content/uploads/Rashae-and-the-Shi-Girls.jpg
END:VEVENT
BEGIN:VEVENT
DTSTART;TZID=America/New_York:20231008T193000
DTEND;TZID=America/New_York:20231008T223000
DTSTAMP:20260423T083002
CREATED:20230816T171221Z
LAST-MODIFIED:20230816T171221Z
UID:10007179-1696793400-1696804200@aquafifth.com
SUMMARY:James Sullivan
DESCRIPTION:
URL:https://aquafifth.com/naples-event/james-sullivan-4/2023-10-08/
LOCATION:Aqua – Naples\, 862 5th Ave S\, Naples\, FL\, 34102\, United States
CATEGORIES:Estero Events
ATTACH;FMTTYPE=image/jpeg:https://aquafifth.com/wp-content/uploads/James-Sullivan-scaled.jpg
END:VEVENT
BEGIN:VEVENT
DTSTART;TZID=America/New_York:20231007T193000
DTEND;TZID=America/New_York:20231007T223000
DTSTAMP:20260423T083002
CREATED:20230816T161805Z
LAST-MODIFIED:20231005T221538Z
UID:10007053-1696707000-1696717800@aquafifth.com
SUMMARY:Larry Roberts
DESCRIPTION:
URL:https://aquafifth.com/naples-event/larry-roberts-2/2023-10-07/
LOCATION:Aqua – Naples\, 862 5th Ave S\, Naples\, FL\, 34102\, United States
CATEGORIES:Estero Events
ATTACH;FMTTYPE=image/jpeg:https://aquafifth.com/wp-content/uploads/Aqua.jpg
END:VEVENT
BEGIN:VEVENT
DTSTART;TZID=America/New_York:20231006T193000
DTEND;TZID=America/New_York:20231006T223000
DTSTAMP:20260423T083002
CREATED:20230816T161805Z
LAST-MODIFIED:20231005T221538Z
UID:10007052-1696620600-1696631400@aquafifth.com
SUMMARY:Larry Roberts
DESCRIPTION:
URL:https://aquafifth.com/naples-event/larry-roberts-2/2023-10-06/
LOCATION:Aqua – Naples\, 862 5th Ave S\, Naples\, FL\, 34102\, United States
CATEGORIES:Estero Events
ATTACH;FMTTYPE=image/jpeg:https://aquafifth.com/wp-content/uploads/Aqua.jpg
END:VEVENT
BEGIN:VEVENT
DTSTART;TZID=America/New_York:20231005T193000
DTEND;TZID=America/New_York:20231005T193000
DTSTAMP:20260423T083002
CREATED:20230816T182419Z
LAST-MODIFIED:20231130T160821Z
UID:10007285-1696534200-1696534200@aquafifth.com
SUMMARY:Rashae and the SHI Girls
DESCRIPTION:
URL:https://aquafifth.com/naples-event/rashae-and-the-shi-girls-2/2023-10-05/
LOCATION:Aqua – Naples\, 862 5th Ave S\, Naples\, FL\, 34102\, United States
CATEGORIES:Estero Events
ATTACH;FMTTYPE=image/jpeg:https://aquafifth.com/wp-content/uploads/Rashae-and-the-Shi-Girls.jpg
END:VEVENT
BEGIN:VEVENT
DTSTART;TZID=America/New_York:20231004T193000
DTEND;TZID=America/New_York:20231004T193000
DTSTAMP:20260423T083002
CREATED:20230816T182419Z
LAST-MODIFIED:20231130T160821Z
UID:10007284-1696447800-1696447800@aquafifth.com
SUMMARY:Rashae and the SHI Girls
DESCRIPTION:
URL:https://aquafifth.com/naples-event/rashae-and-the-shi-girls-2/2023-10-04/
LOCATION:Aqua – Naples\, 862 5th Ave S\, Naples\, FL\, 34102\, United States
CATEGORIES:Estero Events
ATTACH;FMTTYPE=image/jpeg:https://aquafifth.com/wp-content/uploads/Rashae-and-the-Shi-Girls.jpg
END:VEVENT
BEGIN:VEVENT
DTSTART;TZID=America/New_York:20231003T193000
DTEND;TZID=America/New_York:20231003T223000
DTSTAMP:20260423T083002
CREATED:20230816T161805Z
LAST-MODIFIED:20231005T221538Z
UID:10007051-1696361400-1696372200@aquafifth.com
SUMMARY:Larry Roberts
DESCRIPTION:
URL:https://aquafifth.com/naples-event/larry-roberts-2/2023-10-03/
LOCATION:Aqua – Naples\, 862 5th Ave S\, Naples\, FL\, 34102\, United States
CATEGORIES:Estero Events
ATTACH;FMTTYPE=image/jpeg:https://aquafifth.com/wp-content/uploads/Aqua.jpg
END:VEVENT
BEGIN:VEVENT
DTSTART;TZID=America/New_York:20231002T193000
DTEND;TZID=America/New_York:20231002T193000
DTSTAMP:20260423T083002
CREATED:20230816T182419Z
LAST-MODIFIED:20231130T160821Z
UID:10007283-1696275000-1696275000@aquafifth.com
SUMMARY:Rashae and the SHI Girls
DESCRIPTION:
URL:https://aquafifth.com/naples-event/rashae-and-the-shi-girls-2/2023-10-02/
LOCATION:Aqua – Naples\, 862 5th Ave S\, Naples\, FL\, 34102\, United States
CATEGORIES:Estero Events
ATTACH;FMTTYPE=image/jpeg:https://aquafifth.com/wp-content/uploads/Rashae-and-the-Shi-Girls.jpg
END:VEVENT
BEGIN:VEVENT
DTSTART;TZID=America/New_York:20231001T193000
DTEND;TZID=America/New_York:20231001T223000
DTSTAMP:20260423T083002
CREATED:20230816T171221Z
LAST-MODIFIED:20230816T171221Z
UID:10007178-1696188600-1696199400@aquafifth.com
SUMMARY:James Sullivan
DESCRIPTION:
URL:https://aquafifth.com/naples-event/james-sullivan-4/2023-10-01/
LOCATION:Aqua – Naples\, 862 5th Ave S\, Naples\, FL\, 34102\, United States
CATEGORIES:Estero Events
ATTACH;FMTTYPE=image/jpeg:https://aquafifth.com/wp-content/uploads/James-Sullivan-scaled.jpg
END:VEVENT
BEGIN:VEVENT
DTSTART;TZID=America/New_York:20230930T193000
DTEND;TZID=America/New_York:20230930T193000
DTSTAMP:20260423T083002
CREATED:20230816T182419Z
LAST-MODIFIED:20231130T160821Z
UID:10007282-1696102200-1696102200@aquafifth.com
SUMMARY:Rashae and the SHI Girls
DESCRIPTION:
URL:https://aquafifth.com/naples-event/rashae-and-the-shi-girls-2/2023-09-30/
LOCATION:Aqua – Naples\, 862 5th Ave S\, Naples\, FL\, 34102\, United States
CATEGORIES:Estero Events
ATTACH;FMTTYPE=image/jpeg:https://aquafifth.com/wp-content/uploads/Rashae-and-the-Shi-Girls.jpg
END:VEVENT
BEGIN:VEVENT
DTSTART;TZID=America/New_York:20230929T193000
DTEND;TZID=America/New_York:20230929T193000
DTSTAMP:20260423T083002
CREATED:20230816T182419Z
LAST-MODIFIED:20231130T160821Z
UID:10007281-1696015800-1696015800@aquafifth.com
SUMMARY:Rashae and the SHI Girls
DESCRIPTION:
URL:https://aquafifth.com/naples-event/rashae-and-the-shi-girls-2/2023-09-29/
LOCATION:Aqua – Naples\, 862 5th Ave S\, Naples\, FL\, 34102\, United States
CATEGORIES:Estero Events
ATTACH;FMTTYPE=image/jpeg:https://aquafifth.com/wp-content/uploads/Rashae-and-the-Shi-Girls.jpg
END:VEVENT
BEGIN:VEVENT
DTSTART;TZID=America/New_York:20230928T193000
DTEND;TZID=America/New_York:20230928T193000
DTSTAMP:20260423T083002
CREATED:20230816T182419Z
LAST-MODIFIED:20231130T160821Z
UID:10007280-1695929400-1695929400@aquafifth.com
SUMMARY:Rashae and the SHI Girls
DESCRIPTION:
URL:https://aquafifth.com/naples-event/rashae-and-the-shi-girls-2/2023-09-28/
LOCATION:Aqua – Naples\, 862 5th Ave S\, Naples\, FL\, 34102\, United States
CATEGORIES:Estero Events
ATTACH;FMTTYPE=image/jpeg:https://aquafifth.com/wp-content/uploads/Rashae-and-the-Shi-Girls.jpg
END:VEVENT
BEGIN:VEVENT
DTSTART;TZID=America/New_York:20230927T193000
DTEND;TZID=America/New_York:20230927T193000
DTSTAMP:20260423T083002
CREATED:20230816T182419Z
LAST-MODIFIED:20231130T160821Z
UID:10007279-1695843000-1695843000@aquafifth.com
SUMMARY:Rashae and the SHI Girls
DESCRIPTION:
URL:https://aquafifth.com/naples-event/rashae-and-the-shi-girls-2/2023-09-27/
LOCATION:Aqua – Naples\, 862 5th Ave S\, Naples\, FL\, 34102\, United States
CATEGORIES:Estero Events
ATTACH;FMTTYPE=image/jpeg:https://aquafifth.com/wp-content/uploads/Rashae-and-the-Shi-Girls.jpg
END:VEVENT
BEGIN:VEVENT
DTSTART;TZID=America/New_York:20230926T193000
DTEND;TZID=America/New_York:20230926T223000
DTSTAMP:20260423T083002
CREATED:20230816T161805Z
LAST-MODIFIED:20231005T221538Z
UID:10007050-1695756600-1695767400@aquafifth.com
SUMMARY:Larry Roberts
DESCRIPTION:
URL:https://aquafifth.com/naples-event/larry-roberts-2/2023-09-26/
LOCATION:Aqua – Naples\, 862 5th Ave S\, Naples\, FL\, 34102\, United States
CATEGORIES:Estero Events
ATTACH;FMTTYPE=image/jpeg:https://aquafifth.com/wp-content/uploads/Aqua.jpg
END:VEVENT
BEGIN:VEVENT
DTSTART;TZID=America/New_York:20230925T193000
DTEND;TZID=America/New_York:20230925T193000
DTSTAMP:20260423T083002
CREATED:20230816T182419Z
LAST-MODIFIED:20231130T160821Z
UID:10007278-1695670200-1695670200@aquafifth.com
SUMMARY:Rashae and the SHI Girls
DESCRIPTION:
URL:https://aquafifth.com/naples-event/rashae-and-the-shi-girls-2/2023-09-25/
LOCATION:Aqua – Naples\, 862 5th Ave S\, Naples\, FL\, 34102\, United States
CATEGORIES:Estero Events
ATTACH;FMTTYPE=image/jpeg:https://aquafifth.com/wp-content/uploads/Rashae-and-the-Shi-Girls.jpg
END:VEVENT
BEGIN:VEVENT
DTSTART;TZID=America/New_York:20230924T193000
DTEND;TZID=America/New_York:20230924T223000
DTSTAMP:20260423T083002
CREATED:20230816T171221Z
LAST-MODIFIED:20230816T171221Z
UID:10007177-1695583800-1695594600@aquafifth.com
SUMMARY:James Sullivan
DESCRIPTION:
URL:https://aquafifth.com/naples-event/james-sullivan-4/2023-09-24/
LOCATION:Aqua – Naples\, 862 5th Ave S\, Naples\, FL\, 34102\, United States
CATEGORIES:Estero Events
ATTACH;FMTTYPE=image/jpeg:https://aquafifth.com/wp-content/uploads/James-Sullivan-scaled.jpg
END:VEVENT
BEGIN:VEVENT
DTSTART;TZID=America/New_York:20230923T193000
DTEND;TZID=America/New_York:20230923T193000
DTSTAMP:20260423T083002
CREATED:20230816T182419Z
LAST-MODIFIED:20231130T160821Z
UID:10007277-1695497400-1695497400@aquafifth.com
SUMMARY:Rashae and the SHI Girls
DESCRIPTION:
URL:https://aquafifth.com/naples-event/rashae-and-the-shi-girls-2/2023-09-23/
LOCATION:Aqua – Naples\, 862 5th Ave S\, Naples\, FL\, 34102\, United States
CATEGORIES:Estero Events
ATTACH;FMTTYPE=image/jpeg:https://aquafifth.com/wp-content/uploads/Rashae-and-the-Shi-Girls.jpg
END:VEVENT
BEGIN:VEVENT
DTSTART;TZID=America/New_York:20230922T193000
DTEND;TZID=America/New_York:20230922T223000
DTSTAMP:20260423T083002
CREATED:20230816T161805Z
LAST-MODIFIED:20231005T221538Z
UID:10007049-1695411000-1695421800@aquafifth.com
SUMMARY:Larry Roberts
DESCRIPTION:
URL:https://aquafifth.com/naples-event/larry-roberts-2/2023-09-22/
LOCATION:Aqua – Naples\, 862 5th Ave S\, Naples\, FL\, 34102\, United States
CATEGORIES:Estero Events
ATTACH;FMTTYPE=image/jpeg:https://aquafifth.com/wp-content/uploads/Aqua.jpg
END:VEVENT
BEGIN:VEVENT
DTSTART;TZID=America/New_York:20230921T193000
DTEND;TZID=America/New_York:20230921T193000
DTSTAMP:20260423T083002
CREATED:20230816T182419Z
LAST-MODIFIED:20231130T160821Z
UID:10007276-1695324600-1695324600@aquafifth.com
SUMMARY:Rashae and the SHI Girls
DESCRIPTION:
URL:https://aquafifth.com/naples-event/rashae-and-the-shi-girls-2/2023-09-21/
LOCATION:Aqua – Naples\, 862 5th Ave S\, Naples\, FL\, 34102\, United States
CATEGORIES:Estero Events
ATTACH;FMTTYPE=image/jpeg:https://aquafifth.com/wp-content/uploads/Rashae-and-the-Shi-Girls.jpg
END:VEVENT
BEGIN:VEVENT
DTSTART;TZID=America/New_York:20230920T193000
DTEND;TZID=America/New_York:20230920T193000
DTSTAMP:20260423T083002
CREATED:20230816T182419Z
LAST-MODIFIED:20231130T160821Z
UID:10007275-1695238200-1695238200@aquafifth.com
SUMMARY:Rashae and the SHI Girls
DESCRIPTION:
URL:https://aquafifth.com/naples-event/rashae-and-the-shi-girls-2/2023-09-20/
LOCATION:Aqua – Naples\, 862 5th Ave S\, Naples\, FL\, 34102\, United States
CATEGORIES:Estero Events
ATTACH;FMTTYPE=image/jpeg:https://aquafifth.com/wp-content/uploads/Rashae-and-the-Shi-Girls.jpg
END:VEVENT
END:VCALENDAR