BEGIN:VCALENDAR
VERSION:2.0
PRODID:-//Aqua Restaurant - ECPv6.15.20//NONSGML v1.0//EN
CALSCALE:GREGORIAN
METHOD:PUBLISH
X-WR-CALNAME:Aqua Restaurant
X-ORIGINAL-URL:https://aquafifth.com
X-WR-CALDESC:Events for Aqua Restaurant
REFRESH-INTERVAL;VALUE=DURATION:PT1H
X-Robots-Tag:noindex
X-PUBLISHED-TTL:PT1H
BEGIN:VTIMEZONE
TZID:America/New_York
BEGIN:DAYLIGHT
TZOFFSETFROM:-0500
TZOFFSETTO:-0400
TZNAME:EDT
DTSTART:20220313T070000
END:DAYLIGHT
BEGIN:STANDARD
TZOFFSETFROM:-0400
TZOFFSETTO:-0500
TZNAME:EST
DTSTART:20221106T060000
END:STANDARD
BEGIN:DAYLIGHT
TZOFFSETFROM:-0500
TZOFFSETTO:-0400
TZNAME:EDT
DTSTART:20230312T070000
END:DAYLIGHT
BEGIN:STANDARD
TZOFFSETFROM:-0400
TZOFFSETTO:-0500
TZNAME:EST
DTSTART:20231105T060000
END:STANDARD
BEGIN:DAYLIGHT
TZOFFSETFROM:-0500
TZOFFSETTO:-0400
TZNAME:EDT
DTSTART:20240310T070000
END:DAYLIGHT
BEGIN:STANDARD
TZOFFSETFROM:-0400
TZOFFSETTO:-0500
TZNAME:EST
DTSTART:20241103T060000
END:STANDARD
END:VTIMEZONE
BEGIN:VEVENT
DTSTART;TZID=America/New_York:20230808T193000
DTEND;TZID=America/New_York:20230808T223000
DTSTAMP:20260423T164636
CREATED:20230523T213735Z
LAST-MODIFIED:20230523T214223Z
UID:10006167-1691523000-1691533800@aquafifth.com
SUMMARY:Larry Roberts
DESCRIPTION:
URL:https://aquafifth.com/naples-event/larry-roberts/2023-08-08/
LOCATION:Aqua – Naples\, 862 5th Ave S\, Naples\, FL\, 34102\, United States
CATEGORIES:Estero Events
ATTACH;FMTTYPE=image/jpeg:https://aquafifth.com/wp-content/uploads/aqua-naples-florida-restaurant-favicon-270px.jpg
END:VEVENT
BEGIN:VEVENT
DTSTART;TZID=America/New_York:20230807T193000
DTEND;TZID=America/New_York:20230807T223000
DTSTAMP:20260423T164636
CREATED:20230523T213735Z
LAST-MODIFIED:20230523T214223Z
UID:10006166-1691436600-1691447400@aquafifth.com
SUMMARY:Larry Roberts
DESCRIPTION:
URL:https://aquafifth.com/naples-event/larry-roberts/2023-08-07/
LOCATION:Aqua – Naples\, 862 5th Ave S\, Naples\, FL\, 34102\, United States
CATEGORIES:Estero Events
ATTACH;FMTTYPE=image/jpeg:https://aquafifth.com/wp-content/uploads/aqua-naples-florida-restaurant-favicon-270px.jpg
END:VEVENT
BEGIN:VEVENT
DTSTART;TZID=America/New_York:20230806T193000
DTEND;TZID=America/New_York:20230806T223000
DTSTAMP:20260423T164636
CREATED:20230523T215940Z
LAST-MODIFIED:20230523T224034Z
UID:10006226-1691350200-1691361000@aquafifth.com
SUMMARY:James Sullivan
DESCRIPTION:
URL:https://aquafifth.com/naples-event/james-sullivan-3/2023-08-06/
LOCATION:Aqua – Naples\, 862 5th Ave S\, Naples\, FL\, 34102\, United States
CATEGORIES:Estero Events
ATTACH;FMTTYPE=image/jpeg:https://aquafifth.com/wp-content/uploads/James-Sullivan-scaled.jpg
END:VEVENT
BEGIN:VEVENT
DTSTART;TZID=America/New_York:20230805T193000
DTEND;TZID=America/New_York:20230805T223000
DTSTAMP:20260423T164636
CREATED:20230523T213735Z
LAST-MODIFIED:20230523T214223Z
UID:10006165-1691263800-1691274600@aquafifth.com
SUMMARY:Larry Roberts
DESCRIPTION:
URL:https://aquafifth.com/naples-event/larry-roberts/2023-08-05/
LOCATION:Aqua – Naples\, 862 5th Ave S\, Naples\, FL\, 34102\, United States
CATEGORIES:Estero Events
ATTACH;FMTTYPE=image/jpeg:https://aquafifth.com/wp-content/uploads/aqua-naples-florida-restaurant-favicon-270px.jpg
END:VEVENT
BEGIN:VEVENT
DTSTART;TZID=America/New_York:20230804T193000
DTEND;TZID=America/New_York:20230804T223000
DTSTAMP:20260423T164636
CREATED:20230523T213735Z
LAST-MODIFIED:20230523T214223Z
UID:10006164-1691177400-1691188200@aquafifth.com
SUMMARY:Larry Roberts
DESCRIPTION:
URL:https://aquafifth.com/naples-event/larry-roberts/2023-08-04/
LOCATION:Aqua – Naples\, 862 5th Ave S\, Naples\, FL\, 34102\, United States
CATEGORIES:Estero Events
ATTACH;FMTTYPE=image/jpeg:https://aquafifth.com/wp-content/uploads/aqua-naples-florida-restaurant-favicon-270px.jpg
END:VEVENT
BEGIN:VEVENT
DTSTART;TZID=America/New_York:20230803T193000
DTEND;TZID=America/New_York:20230803T223000
DTSTAMP:20260423T164636
CREATED:20230523T223916Z
LAST-MODIFIED:20230523T223916Z
UID:10006290-1691091000-1691101800@aquafifth.com
SUMMARY:Rashae and the SHI Girls
DESCRIPTION:
URL:https://aquafifth.com/naples-event/rashae-and-the-shi-girls/2023-08-03/
LOCATION:Aqua – Naples\, 862 5th Ave S\, Naples\, FL\, 34102\, United States
CATEGORIES:Estero Events
ATTACH;FMTTYPE=image/jpeg:https://aquafifth.com/wp-content/uploads/Rashae.jpeg
END:VEVENT
BEGIN:VEVENT
DTSTART;TZID=America/New_York:20230802T193000
DTEND;TZID=America/New_York:20230802T223000
DTSTAMP:20260423T164636
CREATED:20230523T223916Z
LAST-MODIFIED:20230523T223916Z
UID:10006289-1691004600-1691015400@aquafifth.com
SUMMARY:Rashae and the SHI Girls
DESCRIPTION:
URL:https://aquafifth.com/naples-event/rashae-and-the-shi-girls/2023-08-02/
LOCATION:Aqua – Naples\, 862 5th Ave S\, Naples\, FL\, 34102\, United States
CATEGORIES:Estero Events
ATTACH;FMTTYPE=image/jpeg:https://aquafifth.com/wp-content/uploads/Rashae.jpeg
END:VEVENT
BEGIN:VEVENT
DTSTART;TZID=America/New_York:20230801T193000
DTEND;TZID=America/New_York:20230801T223000
DTSTAMP:20260423T164636
CREATED:20230523T223916Z
LAST-MODIFIED:20230523T223916Z
UID:10006288-1690918200-1690929000@aquafifth.com
SUMMARY:Rashae and the SHI Girls
DESCRIPTION:
URL:https://aquafifth.com/naples-event/rashae-and-the-shi-girls/2023-08-01/
LOCATION:Aqua – Naples\, 862 5th Ave S\, Naples\, FL\, 34102\, United States
CATEGORIES:Estero Events
ATTACH;FMTTYPE=image/jpeg:https://aquafifth.com/wp-content/uploads/Rashae.jpeg
END:VEVENT
BEGIN:VEVENT
DTSTART;TZID=America/New_York:20230731T193000
DTEND;TZID=America/New_York:20230731T223000
DTSTAMP:20260423T164636
CREATED:20230523T223916Z
LAST-MODIFIED:20230523T223916Z
UID:10006287-1690831800-1690842600@aquafifth.com
SUMMARY:Rashae and the SHI Girls
DESCRIPTION:
URL:https://aquafifth.com/naples-event/rashae-and-the-shi-girls/2023-07-31/
LOCATION:Aqua – Naples\, 862 5th Ave S\, Naples\, FL\, 34102\, United States
CATEGORIES:Estero Events
ATTACH;FMTTYPE=image/jpeg:https://aquafifth.com/wp-content/uploads/Rashae.jpeg
END:VEVENT
BEGIN:VEVENT
DTSTART;TZID=America/New_York:20230730T193000
DTEND;TZID=America/New_York:20230730T223000
DTSTAMP:20260423T164636
CREATED:20230523T215940Z
LAST-MODIFIED:20230523T224034Z
UID:10006225-1690745400-1690756200@aquafifth.com
SUMMARY:James Sullivan
DESCRIPTION:
URL:https://aquafifth.com/naples-event/james-sullivan-3/2023-07-30/
LOCATION:Aqua – Naples\, 862 5th Ave S\, Naples\, FL\, 34102\, United States
CATEGORIES:Estero Events
ATTACH;FMTTYPE=image/jpeg:https://aquafifth.com/wp-content/uploads/James-Sullivan-scaled.jpg
END:VEVENT
BEGIN:VEVENT
DTSTART;TZID=America/New_York:20230729T193000
DTEND;TZID=America/New_York:20230729T223000
DTSTAMP:20260423T164636
CREATED:20230523T213735Z
LAST-MODIFIED:20230523T214223Z
UID:10006163-1690659000-1690669800@aquafifth.com
SUMMARY:Larry Roberts
DESCRIPTION:
URL:https://aquafifth.com/naples-event/larry-roberts/2023-07-29/
LOCATION:Aqua – Naples\, 862 5th Ave S\, Naples\, FL\, 34102\, United States
CATEGORIES:Estero Events
ATTACH;FMTTYPE=image/jpeg:https://aquafifth.com/wp-content/uploads/aqua-naples-florida-restaurant-favicon-270px.jpg
END:VEVENT
BEGIN:VEVENT
DTSTART;TZID=America/New_York:20230728T193000
DTEND;TZID=America/New_York:20230728T223000
DTSTAMP:20260423T164636
CREATED:20230523T223916Z
LAST-MODIFIED:20230523T223916Z
UID:10006286-1690572600-1690583400@aquafifth.com
SUMMARY:Rashae and the SHI Girls
DESCRIPTION:
URL:https://aquafifth.com/naples-event/rashae-and-the-shi-girls/2023-07-28/
LOCATION:Aqua – Naples\, 862 5th Ave S\, Naples\, FL\, 34102\, United States
CATEGORIES:Estero Events
ATTACH;FMTTYPE=image/jpeg:https://aquafifth.com/wp-content/uploads/Rashae.jpeg
END:VEVENT
BEGIN:VEVENT
DTSTART;TZID=America/New_York:20230727T193000
DTEND;TZID=America/New_York:20230727T223000
DTSTAMP:20260423T164636
CREATED:20230523T223916Z
LAST-MODIFIED:20230523T223916Z
UID:10006285-1690486200-1690497000@aquafifth.com
SUMMARY:Rashae and the SHI Girls
DESCRIPTION:
URL:https://aquafifth.com/naples-event/rashae-and-the-shi-girls/2023-07-27/
LOCATION:Aqua – Naples\, 862 5th Ave S\, Naples\, FL\, 34102\, United States
CATEGORIES:Estero Events
ATTACH;FMTTYPE=image/jpeg:https://aquafifth.com/wp-content/uploads/Rashae.jpeg
END:VEVENT
BEGIN:VEVENT
DTSTART;TZID=America/New_York:20230726T193000
DTEND;TZID=America/New_York:20230726T223000
DTSTAMP:20260423T164636
CREATED:20230523T223916Z
LAST-MODIFIED:20230523T223916Z
UID:10006284-1690399800-1690410600@aquafifth.com
SUMMARY:Rashae and the SHI Girls
DESCRIPTION:
URL:https://aquafifth.com/naples-event/rashae-and-the-shi-girls/2023-07-26/
LOCATION:Aqua – Naples\, 862 5th Ave S\, Naples\, FL\, 34102\, United States
CATEGORIES:Estero Events
ATTACH;FMTTYPE=image/jpeg:https://aquafifth.com/wp-content/uploads/Rashae.jpeg
END:VEVENT
BEGIN:VEVENT
DTSTART;TZID=America/New_York:20230725T193000
DTEND;TZID=America/New_York:20230725T223000
DTSTAMP:20260423T164636
CREATED:20230523T213735Z
LAST-MODIFIED:20230523T214223Z
UID:10006162-1690313400-1690324200@aquafifth.com
SUMMARY:Larry Roberts
DESCRIPTION:
URL:https://aquafifth.com/naples-event/larry-roberts/2023-07-25/
LOCATION:Aqua – Naples\, 862 5th Ave S\, Naples\, FL\, 34102\, United States
CATEGORIES:Estero Events
ATTACH;FMTTYPE=image/jpeg:https://aquafifth.com/wp-content/uploads/aqua-naples-florida-restaurant-favicon-270px.jpg
END:VEVENT
BEGIN:VEVENT
DTSTART;TZID=America/New_York:20230724T193000
DTEND;TZID=America/New_York:20230724T223000
DTSTAMP:20260423T164636
CREATED:20230523T213735Z
LAST-MODIFIED:20230523T214223Z
UID:10006161-1690227000-1690237800@aquafifth.com
SUMMARY:Larry Roberts
DESCRIPTION:
URL:https://aquafifth.com/naples-event/larry-roberts/2023-07-24/
LOCATION:Aqua – Naples\, 862 5th Ave S\, Naples\, FL\, 34102\, United States
CATEGORIES:Estero Events
ATTACH;FMTTYPE=image/jpeg:https://aquafifth.com/wp-content/uploads/aqua-naples-florida-restaurant-favicon-270px.jpg
END:VEVENT
BEGIN:VEVENT
DTSTART;TZID=America/New_York:20230723T193000
DTEND;TZID=America/New_York:20230723T223000
DTSTAMP:20260423T164636
CREATED:20230523T215940Z
LAST-MODIFIED:20230523T224034Z
UID:10006224-1690140600-1690151400@aquafifth.com
SUMMARY:James Sullivan
DESCRIPTION:
URL:https://aquafifth.com/naples-event/james-sullivan-3/2023-07-23/
LOCATION:Aqua – Naples\, 862 5th Ave S\, Naples\, FL\, 34102\, United States
CATEGORIES:Estero Events
ATTACH;FMTTYPE=image/jpeg:https://aquafifth.com/wp-content/uploads/James-Sullivan-scaled.jpg
END:VEVENT
BEGIN:VEVENT
DTSTART;TZID=America/New_York:20230722T193000
DTEND;TZID=America/New_York:20230722T223000
DTSTAMP:20260423T164636
CREATED:20230523T213735Z
LAST-MODIFIED:20230523T214223Z
UID:10006160-1690054200-1690065000@aquafifth.com
SUMMARY:Larry Roberts
DESCRIPTION:
URL:https://aquafifth.com/naples-event/larry-roberts/2023-07-22/
LOCATION:Aqua – Naples\, 862 5th Ave S\, Naples\, FL\, 34102\, United States
CATEGORIES:Estero Events
ATTACH;FMTTYPE=image/jpeg:https://aquafifth.com/wp-content/uploads/aqua-naples-florida-restaurant-favicon-270px.jpg
END:VEVENT
BEGIN:VEVENT
DTSTART;TZID=America/New_York:20230721T193000
DTEND;TZID=America/New_York:20230721T223000
DTSTAMP:20260423T164636
CREATED:20230523T213735Z
LAST-MODIFIED:20230523T214223Z
UID:10006159-1689967800-1689978600@aquafifth.com
SUMMARY:Larry Roberts
DESCRIPTION:
URL:https://aquafifth.com/naples-event/larry-roberts/2023-07-21/
LOCATION:Aqua – Naples\, 862 5th Ave S\, Naples\, FL\, 34102\, United States
CATEGORIES:Estero Events
ATTACH;FMTTYPE=image/jpeg:https://aquafifth.com/wp-content/uploads/aqua-naples-florida-restaurant-favicon-270px.jpg
END:VEVENT
BEGIN:VEVENT
DTSTART;TZID=America/New_York:20230720T193000
DTEND;TZID=America/New_York:20230720T223000
DTSTAMP:20260423T164636
CREATED:20230523T223916Z
LAST-MODIFIED:20230523T223916Z
UID:10006283-1689881400-1689892200@aquafifth.com
SUMMARY:Rashae and the SHI Girls
DESCRIPTION:
URL:https://aquafifth.com/naples-event/rashae-and-the-shi-girls/2023-07-20/
LOCATION:Aqua – Naples\, 862 5th Ave S\, Naples\, FL\, 34102\, United States
CATEGORIES:Estero Events
ATTACH;FMTTYPE=image/jpeg:https://aquafifth.com/wp-content/uploads/Rashae.jpeg
END:VEVENT
BEGIN:VEVENT
DTSTART;TZID=America/New_York:20230719T193000
DTEND;TZID=America/New_York:20230719T223000
DTSTAMP:20260423T164636
CREATED:20230523T223916Z
LAST-MODIFIED:20230523T223916Z
UID:10006282-1689795000-1689805800@aquafifth.com
SUMMARY:Rashae and the SHI Girls
DESCRIPTION:
URL:https://aquafifth.com/naples-event/rashae-and-the-shi-girls/2023-07-19/
LOCATION:Aqua – Naples\, 862 5th Ave S\, Naples\, FL\, 34102\, United States
CATEGORIES:Estero Events
ATTACH;FMTTYPE=image/jpeg:https://aquafifth.com/wp-content/uploads/Rashae.jpeg
END:VEVENT
BEGIN:VEVENT
DTSTART;TZID=America/New_York:20230718T193000
DTEND;TZID=America/New_York:20230718T223000
DTSTAMP:20260423T164636
CREATED:20230523T213735Z
LAST-MODIFIED:20230523T214223Z
UID:10006158-1689708600-1689719400@aquafifth.com
SUMMARY:Larry Roberts
DESCRIPTION:
URL:https://aquafifth.com/naples-event/larry-roberts/2023-07-18/
LOCATION:Aqua – Naples\, 862 5th Ave S\, Naples\, FL\, 34102\, United States
CATEGORIES:Estero Events
ATTACH;FMTTYPE=image/jpeg:https://aquafifth.com/wp-content/uploads/aqua-naples-florida-restaurant-favicon-270px.jpg
END:VEVENT
BEGIN:VEVENT
DTSTART;TZID=America/New_York:20230717T193000
DTEND;TZID=America/New_York:20230717T223000
DTSTAMP:20260423T164636
CREATED:20230523T213735Z
LAST-MODIFIED:20230523T214223Z
UID:10006157-1689622200-1689633000@aquafifth.com
SUMMARY:Larry Roberts
DESCRIPTION:
URL:https://aquafifth.com/naples-event/larry-roberts/2023-07-17/
LOCATION:Aqua – Naples\, 862 5th Ave S\, Naples\, FL\, 34102\, United States
CATEGORIES:Estero Events
ATTACH;FMTTYPE=image/jpeg:https://aquafifth.com/wp-content/uploads/aqua-naples-florida-restaurant-favicon-270px.jpg
END:VEVENT
BEGIN:VEVENT
DTSTART;TZID=America/New_York:20230716T193000
DTEND;TZID=America/New_York:20230716T223000
DTSTAMP:20260423T164636
CREATED:20230523T215940Z
LAST-MODIFIED:20230523T224034Z
UID:10006223-1689535800-1689546600@aquafifth.com
SUMMARY:James Sullivan
DESCRIPTION:
URL:https://aquafifth.com/naples-event/james-sullivan-3/2023-07-16/
LOCATION:Aqua – Naples\, 862 5th Ave S\, Naples\, FL\, 34102\, United States
CATEGORIES:Estero Events
ATTACH;FMTTYPE=image/jpeg:https://aquafifth.com/wp-content/uploads/James-Sullivan-scaled.jpg
END:VEVENT
BEGIN:VEVENT
DTSTART;TZID=America/New_York:20230715T193000
DTEND;TZID=America/New_York:20230715T223000
DTSTAMP:20260423T164636
CREATED:20230523T223916Z
LAST-MODIFIED:20230523T223916Z
UID:10006281-1689449400-1689460200@aquafifth.com
SUMMARY:Rashae and the SHI Girls
DESCRIPTION:
URL:https://aquafifth.com/naples-event/rashae-and-the-shi-girls/2023-07-15/
LOCATION:Aqua – Naples\, 862 5th Ave S\, Naples\, FL\, 34102\, United States
CATEGORIES:Estero Events
ATTACH;FMTTYPE=image/jpeg:https://aquafifth.com/wp-content/uploads/Rashae.jpeg
END:VEVENT
BEGIN:VEVENT
DTSTART;TZID=America/New_York:20230714T193000
DTEND;TZID=America/New_York:20230714T223000
DTSTAMP:20260423T164636
CREATED:20230523T223916Z
LAST-MODIFIED:20230523T223916Z
UID:10006280-1689363000-1689373800@aquafifth.com
SUMMARY:Rashae and the SHI Girls
DESCRIPTION:
URL:https://aquafifth.com/naples-event/rashae-and-the-shi-girls/2023-07-14/
LOCATION:Aqua – Naples\, 862 5th Ave S\, Naples\, FL\, 34102\, United States
CATEGORIES:Estero Events
ATTACH;FMTTYPE=image/jpeg:https://aquafifth.com/wp-content/uploads/Rashae.jpeg
END:VEVENT
BEGIN:VEVENT
DTSTART;TZID=America/New_York:20230713T193000
DTEND;TZID=America/New_York:20230713T223000
DTSTAMP:20260423T164636
CREATED:20230523T223916Z
LAST-MODIFIED:20230523T223916Z
UID:10006279-1689276600-1689287400@aquafifth.com
SUMMARY:Rashae and the SHI Girls
DESCRIPTION:
URL:https://aquafifth.com/naples-event/rashae-and-the-shi-girls/2023-07-13/
LOCATION:Aqua – Naples\, 862 5th Ave S\, Naples\, FL\, 34102\, United States
CATEGORIES:Estero Events
ATTACH;FMTTYPE=image/jpeg:https://aquafifth.com/wp-content/uploads/Rashae.jpeg
END:VEVENT
BEGIN:VEVENT
DTSTART;TZID=America/New_York:20230712T193000
DTEND;TZID=America/New_York:20230712T223000
DTSTAMP:20260423T164636
CREATED:20230523T223916Z
LAST-MODIFIED:20230523T223916Z
UID:10006278-1689190200-1689201000@aquafifth.com
SUMMARY:Rashae and the SHI Girls
DESCRIPTION:
URL:https://aquafifth.com/naples-event/rashae-and-the-shi-girls/2023-07-12/
LOCATION:Aqua – Naples\, 862 5th Ave S\, Naples\, FL\, 34102\, United States
CATEGORIES:Estero Events
ATTACH;FMTTYPE=image/jpeg:https://aquafifth.com/wp-content/uploads/Rashae.jpeg
END:VEVENT
BEGIN:VEVENT
DTSTART;TZID=America/New_York:20230711T193000
DTEND;TZID=America/New_York:20230711T223000
DTSTAMP:20260423T164636
CREATED:20230523T213735Z
LAST-MODIFIED:20230523T214223Z
UID:10006156-1689103800-1689114600@aquafifth.com
SUMMARY:Larry Roberts
DESCRIPTION:
URL:https://aquafifth.com/naples-event/larry-roberts/2023-07-11/
LOCATION:Aqua – Naples\, 862 5th Ave S\, Naples\, FL\, 34102\, United States
CATEGORIES:Estero Events
ATTACH;FMTTYPE=image/jpeg:https://aquafifth.com/wp-content/uploads/aqua-naples-florida-restaurant-favicon-270px.jpg
END:VEVENT
BEGIN:VEVENT
DTSTART;TZID=America/New_York:20230710T193000
DTEND;TZID=America/New_York:20230710T223000
DTSTAMP:20260423T164636
CREATED:20230523T213735Z
LAST-MODIFIED:20230523T214223Z
UID:10006155-1689017400-1689028200@aquafifth.com
SUMMARY:Larry Roberts
DESCRIPTION:
URL:https://aquafifth.com/naples-event/larry-roberts/2023-07-10/
LOCATION:Aqua – Naples\, 862 5th Ave S\, Naples\, FL\, 34102\, United States
CATEGORIES:Estero Events
ATTACH;FMTTYPE=image/jpeg:https://aquafifth.com/wp-content/uploads/aqua-naples-florida-restaurant-favicon-270px.jpg
END:VEVENT
END:VCALENDAR