BEGIN:VCALENDAR
VERSION:2.0
PRODID:-//Aqua Restaurant - ECPv6.15.20//NONSGML v1.0//EN
CALSCALE:GREGORIAN
METHOD:PUBLISH
X-ORIGINAL-URL:https://aquafifth.com
X-WR-CALDESC:Events for Aqua Restaurant
REFRESH-INTERVAL;VALUE=DURATION:PT1H
X-Robots-Tag:noindex
X-PUBLISHED-TTL:PT1H
BEGIN:VTIMEZONE
TZID:America/New_York
BEGIN:DAYLIGHT
TZOFFSETFROM:-0500
TZOFFSETTO:-0400
TZNAME:EDT
DTSTART:20220313T070000
END:DAYLIGHT
BEGIN:STANDARD
TZOFFSETFROM:-0400
TZOFFSETTO:-0500
TZNAME:EST
DTSTART:20221106T060000
END:STANDARD
BEGIN:DAYLIGHT
TZOFFSETFROM:-0500
TZOFFSETTO:-0400
TZNAME:EDT
DTSTART:20230312T070000
END:DAYLIGHT
BEGIN:STANDARD
TZOFFSETFROM:-0400
TZOFFSETTO:-0500
TZNAME:EST
DTSTART:20231105T060000
END:STANDARD
BEGIN:DAYLIGHT
TZOFFSETFROM:-0500
TZOFFSETTO:-0400
TZNAME:EDT
DTSTART:20240310T070000
END:DAYLIGHT
BEGIN:STANDARD
TZOFFSETFROM:-0400
TZOFFSETTO:-0500
TZNAME:EST
DTSTART:20241103T060000
END:STANDARD
END:VTIMEZONE
BEGIN:VEVENT
DTSTART;TZID=America/New_York:20230529T193000
DTEND;TZID=America/New_York:20230529T223000
DTSTAMP:20260424T011137
CREATED:20230523T223916Z
LAST-MODIFIED:20230523T223916Z
UID:10006255-1685388600-1685399400@aquafifth.com
SUMMARY:Rashae and the SHI Girls
DESCRIPTION:
URL:https://aquafifth.com/naples-event/rashae-and-the-shi-girls/2023-05-29/
LOCATION:Aqua – Naples\, 862 5th Ave S\, Naples\, FL\, 34102\, United States
CATEGORIES:Estero Events
ATTACH;FMTTYPE=image/jpeg:https://aquafifth.com/wp-content/uploads/Rashae.jpeg
END:VEVENT
BEGIN:VEVENT
DTSTART;TZID=America/New_York:20230528T193000
DTEND;TZID=America/New_York:20230528T223000
DTSTAMP:20260424T011137
CREATED:20230523T215940Z
LAST-MODIFIED:20230523T224034Z
UID:10006216-1685302200-1685313000@aquafifth.com
SUMMARY:James Sullivan
DESCRIPTION:
URL:https://aquafifth.com/naples-event/james-sullivan-3/2023-05-28/
LOCATION:Aqua – Naples\, 862 5th Ave S\, Naples\, FL\, 34102\, United States
CATEGORIES:Estero Events
ATTACH;FMTTYPE=image/jpeg:https://aquafifth.com/wp-content/uploads/James-Sullivan-scaled.jpg
END:VEVENT
BEGIN:VEVENT
DTSTART;TZID=America/New_York:20230527T193000
DTEND;TZID=America/New_York:20230527T223000
DTSTAMP:20260424T011137
CREATED:20230523T223916Z
LAST-MODIFIED:20230523T223916Z
UID:10006254-1685215800-1685226600@aquafifth.com
SUMMARY:Rashae and the SHI Girls
DESCRIPTION:
URL:https://aquafifth.com/naples-event/rashae-and-the-shi-girls/2023-05-27/
LOCATION:Aqua – Naples\, 862 5th Ave S\, Naples\, FL\, 34102\, United States
CATEGORIES:Estero Events
ATTACH;FMTTYPE=image/jpeg:https://aquafifth.com/wp-content/uploads/Rashae.jpeg
END:VEVENT
BEGIN:VEVENT
DTSTART;TZID=America/New_York:20230526T193000
DTEND;TZID=America/New_York:20230526T223000
DTSTAMP:20260424T011137
CREATED:20230523T213735Z
LAST-MODIFIED:20230523T214223Z
UID:10006145-1685129400-1685140200@aquafifth.com
SUMMARY:Larry Roberts
DESCRIPTION:
URL:https://aquafifth.com/naples-event/larry-roberts/2023-05-26/
LOCATION:Aqua – Naples\, 862 5th Ave S\, Naples\, FL\, 34102\, United States
CATEGORIES:Estero Events
ATTACH;FMTTYPE=image/jpeg:https://aquafifth.com/wp-content/uploads/aqua-naples-florida-restaurant-favicon-270px.jpg
END:VEVENT
BEGIN:VEVENT
DTSTART;TZID=America/New_York:20230525T193000
DTEND;TZID=America/New_York:20230525T223000
DTSTAMP:20260424T011137
CREATED:20230523T215940Z
LAST-MODIFIED:20230523T224034Z
UID:10006215-1685043000-1685053800@aquafifth.com
SUMMARY:James Sullivan
DESCRIPTION:
URL:https://aquafifth.com/naples-event/james-sullivan-3/2023-05-25/
LOCATION:Aqua – Naples\, 862 5th Ave S\, Naples\, FL\, 34102\, United States
CATEGORIES:Estero Events
ATTACH;FMTTYPE=image/jpeg:https://aquafifth.com/wp-content/uploads/James-Sullivan-scaled.jpg
END:VEVENT
BEGIN:VEVENT
DTSTART;TZID=America/New_York:20230524T193000
DTEND;TZID=America/New_York:20230524T223000
DTSTAMP:20260424T011137
CREATED:20230523T213735Z
LAST-MODIFIED:20230523T214223Z
UID:10006144-1684956600-1684967400@aquafifth.com
SUMMARY:Larry Roberts
DESCRIPTION:
URL:https://aquafifth.com/naples-event/larry-roberts/2023-05-24/
LOCATION:Aqua – Naples\, 862 5th Ave S\, Naples\, FL\, 34102\, United States
CATEGORIES:Estero Events
ATTACH;FMTTYPE=image/jpeg:https://aquafifth.com/wp-content/uploads/aqua-naples-florida-restaurant-favicon-270px.jpg
END:VEVENT
BEGIN:VEVENT
DTSTART;TZID=America/New_York:20230331T193000
DTEND;TZID=America/New_York:20230331T235900
DTSTAMP:20260424T011137
CREATED:20230125T174940Z
LAST-MODIFIED:20230213T184517Z
UID:10005751-1680291000-1680307140@aquafifth.com
SUMMARY:James Sullivan
DESCRIPTION:
URL:https://aquafifth.com/naples-event/james-sullivan-2/2023-03-31/
LOCATION:Aqua – Naples\, 862 5th Ave S\, Naples\, FL\, 34102\, United States
CATEGORIES:Estero Events
ATTACH;FMTTYPE=image/jpeg:https://aquafifth.com/wp-content/uploads/James-Sullivan-scaled.jpg
END:VEVENT
BEGIN:VEVENT
DTSTART;TZID=America/New_York:20230330T193000
DTEND;TZID=America/New_York:20230330T223000
DTSTAMP:20260424T011137
CREATED:20230123T182633Z
LAST-MODIFIED:20230213T185137Z
UID:10005392-1680204600-1680215400@aquafifth.com
SUMMARY:Rashae and the SHI Girls
DESCRIPTION:
URL:https://aquafifth.com/naples-event/rashae-and-the-shi-girls-aqua-restaurant-live-music-bonita-springs/2023-03-30/
LOCATION:Aqua – Naples\, 862 5th Ave S\, Naples\, FL\, 34102\, United States
CATEGORIES:Estero Events
ATTACH;FMTTYPE=image/jpeg:https://aquafifth.com/wp-content/uploads/Rashae.jpeg
END:VEVENT
BEGIN:VEVENT
DTSTART;TZID=America/New_York:20230329T193000
DTEND;TZID=America/New_York:20230329T223000
DTSTAMP:20260424T011137
CREATED:20230123T184913Z
LAST-MODIFIED:20230213T183838Z
UID:10005404-1680118200-1680129000@aquafifth.com
SUMMARY:Alissa Musto
DESCRIPTION:
URL:https://aquafifth.com/naples-event/alissa-musto-aqua-restaurant-live-music-bonita-springs/2023-03-29/
LOCATION:Aqua – Naples\, 862 5th Ave S\, Naples\, FL\, 34102\, United States
CATEGORIES:Estero Events
ATTACH;FMTTYPE=image/jpeg:https://aquafifth.com/wp-content/uploads/Alissa-Musto.jpeg
END:VEVENT
BEGIN:VEVENT
DTSTART;TZID=America/New_York:20230328T193000
DTEND;TZID=America/New_York:20230328T223000
DTSTAMP:20260424T011137
CREATED:20230123T202244Z
LAST-MODIFIED:20230213T185433Z
UID:10005766-1680031800-1680042600@aquafifth.com
SUMMARY:Fire and Ice
DESCRIPTION:
URL:https://aquafifth.com/naples-event/fire-and-ice-aqua-restaurant-live-music-bonita-springs/2023-03-28/
LOCATION:Aqua – Naples\, 862 5th Ave S\, Naples\, FL\, 34102\, United States
CATEGORIES:Estero Events
ATTACH;FMTTYPE=image/jpeg:https://aquafifth.com/wp-content/uploads/aqua-naples-florida-restaurant-favicon-270px.jpg
END:VEVENT
BEGIN:VEVENT
DTSTART;TZID=America/New_York:20230327T193000
DTEND;TZID=America/New_York:20230327T223000
DTSTAMP:20260424T011137
CREATED:20230123T182633Z
LAST-MODIFIED:20230213T185137Z
UID:10005391-1679945400-1679956200@aquafifth.com
SUMMARY:Rashae and the SHI Girls
DESCRIPTION:
URL:https://aquafifth.com/naples-event/rashae-and-the-shi-girls-aqua-restaurant-live-music-bonita-springs/2023-03-27/
LOCATION:Aqua – Naples\, 862 5th Ave S\, Naples\, FL\, 34102\, United States
CATEGORIES:Estero Events
ATTACH;FMTTYPE=image/jpeg:https://aquafifth.com/wp-content/uploads/Rashae.jpeg
END:VEVENT
BEGIN:VEVENT
DTSTART;TZID=America/New_York:20230326T193000
DTEND;TZID=America/New_York:20230326T223000
DTSTAMP:20260424T011137
CREATED:20230125T174940Z
LAST-MODIFIED:20230213T184517Z
UID:10005750-1679859000-1679869800@aquafifth.com
SUMMARY:James Sullivan
DESCRIPTION:
URL:https://aquafifth.com/naples-event/james-sullivan-2/2023-03-26/
LOCATION:Aqua – Naples\, 862 5th Ave S\, Naples\, FL\, 34102\, United States
CATEGORIES:Estero Events
ATTACH;FMTTYPE=image/jpeg:https://aquafifth.com/wp-content/uploads/James-Sullivan-scaled.jpg
END:VEVENT
BEGIN:VEVENT
DTSTART;TZID=America/New_York:20230325T193000
DTEND;TZID=America/New_York:20230325T223000
DTSTAMP:20260424T011137
CREATED:20230123T184913Z
LAST-MODIFIED:20230213T183838Z
UID:10005403-1679772600-1679783400@aquafifth.com
SUMMARY:Alissa Musto
DESCRIPTION:
URL:https://aquafifth.com/naples-event/alissa-musto-aqua-restaurant-live-music-bonita-springs/2023-03-25/
LOCATION:Aqua – Naples\, 862 5th Ave S\, Naples\, FL\, 34102\, United States
CATEGORIES:Estero Events
ATTACH;FMTTYPE=image/jpeg:https://aquafifth.com/wp-content/uploads/Alissa-Musto.jpeg
END:VEVENT
BEGIN:VEVENT
DTSTART;TZID=America/New_York:20230324T193000
DTEND;TZID=America/New_York:20230324T223000
DTSTAMP:20260424T011137
CREATED:20230123T184913Z
LAST-MODIFIED:20230213T183838Z
UID:10005765-1679686200-1679697000@aquafifth.com
SUMMARY:Alissa Musto
DESCRIPTION:
URL:https://aquafifth.com/naples-event/alissa-musto-aqua-restaurant-live-music-bonita-springs/2023-03-24/
LOCATION:Aqua – Naples\, 862 5th Ave S\, Naples\, FL\, 34102\, United States
CATEGORIES:Estero Events
ATTACH;FMTTYPE=image/jpeg:https://aquafifth.com/wp-content/uploads/Alissa-Musto.jpeg
END:VEVENT
BEGIN:VEVENT
DTSTART;TZID=America/New_York:20230323T193000
DTEND;TZID=America/New_York:20230323T223000
DTSTAMP:20260424T011137
CREATED:20230123T184913Z
LAST-MODIFIED:20230213T183838Z
UID:10005401-1679599800-1679610600@aquafifth.com
SUMMARY:Alissa Musto
DESCRIPTION:
URL:https://aquafifth.com/naples-event/alissa-musto-aqua-restaurant-live-music-bonita-springs/2023-03-23/
LOCATION:Aqua – Naples\, 862 5th Ave S\, Naples\, FL\, 34102\, United States
CATEGORIES:Estero Events
ATTACH;FMTTYPE=image/jpeg:https://aquafifth.com/wp-content/uploads/Alissa-Musto.jpeg
END:VEVENT
BEGIN:VEVENT
DTSTART;TZID=America/New_York:20230322T193000
DTEND;TZID=America/New_York:20230322T193000
DTSTAMP:20260424T011137
CREATED:20230125T182457Z
LAST-MODIFIED:20230213T185300Z
UID:10005764-1679513400-1679513400@aquafifth.com
SUMMARY:Larry Roberts
DESCRIPTION:
URL:https://aquafifth.com/naples-event/larry-roberts-aqua-restaurant-live-music-bonita-springs-2/2023-03-22/
LOCATION:Aqua – Naples\, 862 5th Ave S\, Naples\, FL\, 34102\, United States
CATEGORIES:Estero Events
ATTACH;FMTTYPE=image/jpeg:https://aquafifth.com/wp-content/uploads/aqua-naples-florida-restaurant-favicon-270px.jpg
END:VEVENT
BEGIN:VEVENT
DTSTART;TZID=America/New_York:20230321T193000
DTEND;TZID=America/New_York:20230321T223000
DTSTAMP:20260424T011137
CREATED:20230123T182633Z
LAST-MODIFIED:20230213T185137Z
UID:10005390-1679427000-1679437800@aquafifth.com
SUMMARY:Rashae and the SHI Girls
DESCRIPTION:
URL:https://aquafifth.com/naples-event/rashae-and-the-shi-girls-aqua-restaurant-live-music-bonita-springs/2023-03-21/
LOCATION:Aqua – Naples\, 862 5th Ave S\, Naples\, FL\, 34102\, United States
CATEGORIES:Estero Events
ATTACH;FMTTYPE=image/jpeg:https://aquafifth.com/wp-content/uploads/Rashae.jpeg
END:VEVENT
BEGIN:VEVENT
DTSTART;TZID=America/New_York:20230320T193000
DTEND;TZID=America/New_York:20230320T223000
DTSTAMP:20260424T011137
CREATED:20230123T182633Z
LAST-MODIFIED:20230213T185137Z
UID:10005389-1679340600-1679351400@aquafifth.com
SUMMARY:Rashae and the SHI Girls
DESCRIPTION:
URL:https://aquafifth.com/naples-event/rashae-and-the-shi-girls-aqua-restaurant-live-music-bonita-springs/2023-03-20/
LOCATION:Aqua – Naples\, 862 5th Ave S\, Naples\, FL\, 34102\, United States
CATEGORIES:Estero Events
ATTACH;FMTTYPE=image/jpeg:https://aquafifth.com/wp-content/uploads/Rashae.jpeg
END:VEVENT
BEGIN:VEVENT
DTSTART;TZID=America/New_York:20230319T193000
DTEND;TZID=America/New_York:20230319T223000
DTSTAMP:20260424T011137
CREATED:20230125T174940Z
LAST-MODIFIED:20230213T184517Z
UID:10005749-1679254200-1679265000@aquafifth.com
SUMMARY:James Sullivan
DESCRIPTION:
URL:https://aquafifth.com/naples-event/james-sullivan-2/2023-03-19/
LOCATION:Aqua – Naples\, 862 5th Ave S\, Naples\, FL\, 34102\, United States
CATEGORIES:Estero Events
ATTACH;FMTTYPE=image/jpeg:https://aquafifth.com/wp-content/uploads/James-Sullivan-scaled.jpg
END:VEVENT
BEGIN:VEVENT
DTSTART;TZID=America/New_York:20230318T193000
DTEND;TZID=America/New_York:20230318T223000
DTSTAMP:20260424T011137
CREATED:20230125T174940Z
LAST-MODIFIED:20230213T184517Z
UID:10005748-1679167800-1679178600@aquafifth.com
SUMMARY:James Sullivan
DESCRIPTION:
URL:https://aquafifth.com/naples-event/james-sullivan-2/2023-03-18/
LOCATION:Aqua – Naples\, 862 5th Ave S\, Naples\, FL\, 34102\, United States
CATEGORIES:Estero Events
ATTACH;FMTTYPE=image/jpeg:https://aquafifth.com/wp-content/uploads/James-Sullivan-scaled.jpg
END:VEVENT
BEGIN:VEVENT
DTSTART;TZID=America/New_York:20230317T193000
DTEND;TZID=America/New_York:20230317T223000
DTSTAMP:20260424T011137
CREATED:20230123T182633Z
LAST-MODIFIED:20230213T185137Z
UID:10005388-1679081400-1679092200@aquafifth.com
SUMMARY:Rashae and the SHI Girls
DESCRIPTION:
URL:https://aquafifth.com/naples-event/rashae-and-the-shi-girls-aqua-restaurant-live-music-bonita-springs/2023-03-17/
LOCATION:Aqua – Naples\, 862 5th Ave S\, Naples\, FL\, 34102\, United States
CATEGORIES:Estero Events
ATTACH;FMTTYPE=image/jpeg:https://aquafifth.com/wp-content/uploads/Rashae.jpeg
END:VEVENT
BEGIN:VEVENT
DTSTART;TZID=America/New_York:20230316T193000
DTEND;TZID=America/New_York:20230316T223000
DTSTAMP:20260424T011137
CREATED:20230123T182633Z
LAST-MODIFIED:20230213T185137Z
UID:10005387-1678995000-1679005800@aquafifth.com
SUMMARY:Rashae and the SHI Girls
DESCRIPTION:
URL:https://aquafifth.com/naples-event/rashae-and-the-shi-girls-aqua-restaurant-live-music-bonita-springs/2023-03-16/
LOCATION:Aqua – Naples\, 862 5th Ave S\, Naples\, FL\, 34102\, United States
CATEGORIES:Estero Events
ATTACH;FMTTYPE=image/jpeg:https://aquafifth.com/wp-content/uploads/Rashae.jpeg
END:VEVENT
BEGIN:VEVENT
DTSTART;TZID=America/New_York:20230315T193000
DTEND;TZID=America/New_York:20230315T223000
DTSTAMP:20260424T011137
CREATED:20230123T184913Z
LAST-MODIFIED:20230213T183838Z
UID:10005400-1678908600-1678919400@aquafifth.com
SUMMARY:Alissa Musto
DESCRIPTION:
URL:https://aquafifth.com/naples-event/alissa-musto-aqua-restaurant-live-music-bonita-springs/2023-03-15/
LOCATION:Aqua – Naples\, 862 5th Ave S\, Naples\, FL\, 34102\, United States
CATEGORIES:Estero Events
ATTACH;FMTTYPE=image/jpeg:https://aquafifth.com/wp-content/uploads/Alissa-Musto.jpeg
END:VEVENT
BEGIN:VEVENT
DTSTART;TZID=America/New_York:20230314T193000
DTEND;TZID=America/New_York:20230314T223000
DTSTAMP:20260424T011137
CREATED:20230123T182633Z
LAST-MODIFIED:20230213T185137Z
UID:10005386-1678822200-1678833000@aquafifth.com
SUMMARY:Rashae and the SHI Girls
DESCRIPTION:
URL:https://aquafifth.com/naples-event/rashae-and-the-shi-girls-aqua-restaurant-live-music-bonita-springs/2023-03-14/
LOCATION:Aqua – Naples\, 862 5th Ave S\, Naples\, FL\, 34102\, United States
CATEGORIES:Estero Events
ATTACH;FMTTYPE=image/jpeg:https://aquafifth.com/wp-content/uploads/Rashae.jpeg
END:VEVENT
BEGIN:VEVENT
DTSTART;TZID=America/New_York:20230313T193000
DTEND;TZID=America/New_York:20230313T223000
DTSTAMP:20260424T011137
CREATED:20230123T182633Z
LAST-MODIFIED:20230213T185137Z
UID:10005385-1678735800-1678746600@aquafifth.com
SUMMARY:Rashae and the SHI Girls
DESCRIPTION:
URL:https://aquafifth.com/naples-event/rashae-and-the-shi-girls-aqua-restaurant-live-music-bonita-springs/2023-03-13/
LOCATION:Aqua – Naples\, 862 5th Ave S\, Naples\, FL\, 34102\, United States
CATEGORIES:Estero Events
ATTACH;FMTTYPE=image/jpeg:https://aquafifth.com/wp-content/uploads/Rashae.jpeg
END:VEVENT
BEGIN:VEVENT
DTSTART;TZID=America/New_York:20230312T193000
DTEND;TZID=America/New_York:20230312T223000
DTSTAMP:20260424T011137
CREATED:20230125T174940Z
LAST-MODIFIED:20230213T184517Z
UID:10005747-1678649400-1678660200@aquafifth.com
SUMMARY:James Sullivan
DESCRIPTION:
URL:https://aquafifth.com/naples-event/james-sullivan-2/2023-03-12/
LOCATION:Aqua – Naples\, 862 5th Ave S\, Naples\, FL\, 34102\, United States
CATEGORIES:Estero Events
ATTACH;FMTTYPE=image/jpeg:https://aquafifth.com/wp-content/uploads/James-Sullivan-scaled.jpg
END:VEVENT
BEGIN:VEVENT
DTSTART;TZID=America/New_York:20230311T193000
DTEND;TZID=America/New_York:20230311T223000
DTSTAMP:20260424T011137
CREATED:20230125T174940Z
LAST-MODIFIED:20230213T184517Z
UID:10005746-1678563000-1678573800@aquafifth.com
SUMMARY:James Sullivan
DESCRIPTION:
URL:https://aquafifth.com/naples-event/james-sullivan-2/2023-03-11/
LOCATION:Aqua – Naples\, 862 5th Ave S\, Naples\, FL\, 34102\, United States
CATEGORIES:Estero Events
ATTACH;FMTTYPE=image/jpeg:https://aquafifth.com/wp-content/uploads/James-Sullivan-scaled.jpg
END:VEVENT
BEGIN:VEVENT
DTSTART;TZID=America/New_York:20230310T193000
DTEND;TZID=America/New_York:20230310T223000
DTSTAMP:20260424T011137
CREATED:20230125T174940Z
LAST-MODIFIED:20230213T184517Z
UID:10005745-1678476600-1678487400@aquafifth.com
SUMMARY:James Sullivan
DESCRIPTION:
URL:https://aquafifth.com/naples-event/james-sullivan-2/2023-03-10/
LOCATION:Aqua – Naples\, 862 5th Ave S\, Naples\, FL\, 34102\, United States
CATEGORIES:Estero Events
ATTACH;FMTTYPE=image/jpeg:https://aquafifth.com/wp-content/uploads/James-Sullivan-scaled.jpg
END:VEVENT
BEGIN:VEVENT
DTSTART;TZID=America/New_York:20230309T193000
DTEND;TZID=America/New_York:20230309T223000
DTSTAMP:20260424T011137
CREATED:20230123T182633Z
LAST-MODIFIED:20230213T185137Z
UID:10005384-1678390200-1678401000@aquafifth.com
SUMMARY:Rashae and the SHI Girls
DESCRIPTION:
URL:https://aquafifth.com/naples-event/rashae-and-the-shi-girls-aqua-restaurant-live-music-bonita-springs/2023-03-09/
LOCATION:Aqua – Naples\, 862 5th Ave S\, Naples\, FL\, 34102\, United States
CATEGORIES:Estero Events
ATTACH;FMTTYPE=image/jpeg:https://aquafifth.com/wp-content/uploads/Rashae.jpeg
END:VEVENT
BEGIN:VEVENT
DTSTART;TZID=America/New_York:20230308T193000
DTEND;TZID=America/New_York:20230308T193000
DTSTAMP:20260424T011137
CREATED:20230125T182457Z
LAST-MODIFIED:20230213T185300Z
UID:10005763-1678303800-1678303800@aquafifth.com
SUMMARY:Larry Roberts
DESCRIPTION:
URL:https://aquafifth.com/naples-event/larry-roberts-aqua-restaurant-live-music-bonita-springs-2/2023-03-08/
LOCATION:Aqua – Naples\, 862 5th Ave S\, Naples\, FL\, 34102\, United States
CATEGORIES:Estero Events
ATTACH;FMTTYPE=image/jpeg:https://aquafifth.com/wp-content/uploads/aqua-naples-florida-restaurant-favicon-270px.jpg
END:VEVENT
END:VCALENDAR