BEGIN:VCALENDAR
VERSION:2.0
PRODID:-//Aqua Restaurant - ECPv6.15.20//NONSGML v1.0//EN
CALSCALE:GREGORIAN
METHOD:PUBLISH
X-WR-CALNAME:Aqua Restaurant
X-ORIGINAL-URL:https://aquafifth.com
X-WR-CALDESC:Events for Aqua Restaurant
REFRESH-INTERVAL;VALUE=DURATION:PT1H
X-Robots-Tag:noindex
X-PUBLISHED-TTL:PT1H
BEGIN:VTIMEZONE
TZID:America/New_York
BEGIN:DAYLIGHT
TZOFFSETFROM:-0500
TZOFFSETTO:-0400
TZNAME:EDT
DTSTART:20220313T070000
END:DAYLIGHT
BEGIN:STANDARD
TZOFFSETFROM:-0400
TZOFFSETTO:-0500
TZNAME:EST
DTSTART:20221106T060000
END:STANDARD
BEGIN:DAYLIGHT
TZOFFSETFROM:-0500
TZOFFSETTO:-0400
TZNAME:EDT
DTSTART:20230312T070000
END:DAYLIGHT
BEGIN:STANDARD
TZOFFSETFROM:-0400
TZOFFSETTO:-0500
TZNAME:EST
DTSTART:20231105T060000
END:STANDARD
BEGIN:DAYLIGHT
TZOFFSETFROM:-0500
TZOFFSETTO:-0400
TZNAME:EDT
DTSTART:20240310T070000
END:DAYLIGHT
BEGIN:STANDARD
TZOFFSETFROM:-0400
TZOFFSETTO:-0500
TZNAME:EST
DTSTART:20241103T060000
END:STANDARD
END:VTIMEZONE
BEGIN:VEVENT
DTSTART;TZID=America/New_York:20230301T193000
DTEND;TZID=America/New_York:20230301T193000
DTSTAMP:20260424T053108
CREATED:20230125T182457Z
LAST-MODIFIED:20230213T185300Z
UID:10005762-1677699000-1677699000@aquafifth.com
SUMMARY:Larry Roberts
DESCRIPTION:
URL:https://aquafifth.com/naples-event/larry-roberts-aqua-restaurant-live-music-bonita-springs-2/2023-03-01/
LOCATION:Aqua – Naples\, 862 5th Ave S\, Naples\, FL\, 34102\, United States
CATEGORIES:Estero Events
ATTACH;FMTTYPE=image/jpeg:https://aquafifth.com/wp-content/uploads/aqua-naples-florida-restaurant-favicon-270px.jpg
END:VEVENT
BEGIN:VEVENT
DTSTART;TZID=America/New_York:20230228T193000
DTEND;TZID=America/New_York:20230228T223000
DTSTAMP:20260424T053108
CREATED:20230123T182633Z
LAST-MODIFIED:20230213T185137Z
UID:10005380-1677612600-1677623400@aquafifth.com
SUMMARY:Rashae and the SHI Girls
DESCRIPTION:
URL:https://aquafifth.com/naples-event/rashae-and-the-shi-girls-aqua-restaurant-live-music-bonita-springs/2023-02-28/
LOCATION:Aqua – Naples\, 862 5th Ave S\, Naples\, FL\, 34102\, United States
CATEGORIES:Estero Events
ATTACH;FMTTYPE=image/jpeg:https://aquafifth.com/wp-content/uploads/Rashae.jpeg
END:VEVENT
BEGIN:VEVENT
DTSTART;TZID=America/New_York:20230227T193000
DTEND;TZID=America/New_York:20230227T223000
DTSTAMP:20260424T053108
CREATED:20230123T182633Z
LAST-MODIFIED:20230213T185137Z
UID:10005379-1677526200-1677537000@aquafifth.com
SUMMARY:Rashae and the SHI Girls
DESCRIPTION:
URL:https://aquafifth.com/naples-event/rashae-and-the-shi-girls-aqua-restaurant-live-music-bonita-springs/2023-02-27/
LOCATION:Aqua – Naples\, 862 5th Ave S\, Naples\, FL\, 34102\, United States
CATEGORIES:Estero Events
ATTACH;FMTTYPE=image/jpeg:https://aquafifth.com/wp-content/uploads/Rashae.jpeg
END:VEVENT
BEGIN:VEVENT
DTSTART;TZID=America/New_York:20230226T193000
DTEND;TZID=America/New_York:20230226T223000
DTSTAMP:20260424T053109
CREATED:20230125T174940Z
LAST-MODIFIED:20230213T184517Z
UID:10005741-1677439800-1677450600@aquafifth.com
SUMMARY:James Sullivan
DESCRIPTION:
URL:https://aquafifth.com/naples-event/james-sullivan-2/2023-02-26/
LOCATION:Aqua – Naples\, 862 5th Ave S\, Naples\, FL\, 34102\, United States
CATEGORIES:Estero Events
ATTACH;FMTTYPE=image/jpeg:https://aquafifth.com/wp-content/uploads/James-Sullivan-scaled.jpg
END:VEVENT
BEGIN:VEVENT
DTSTART;TZID=America/New_York:20230225T193000
DTEND;TZID=America/New_York:20230225T223000
DTSTAMP:20260424T053109
CREATED:20230125T174940Z
LAST-MODIFIED:20230213T184517Z
UID:10005740-1677353400-1677364200@aquafifth.com
SUMMARY:James Sullivan
DESCRIPTION:
URL:https://aquafifth.com/naples-event/james-sullivan-2/2023-02-25/
LOCATION:Aqua – Naples\, 862 5th Ave S\, Naples\, FL\, 34102\, United States
CATEGORIES:Estero Events
ATTACH;FMTTYPE=image/jpeg:https://aquafifth.com/wp-content/uploads/James-Sullivan-scaled.jpg
END:VEVENT
BEGIN:VEVENT
DTSTART;TZID=America/New_York:20230224T193000
DTEND;TZID=America/New_York:20230224T223000
DTSTAMP:20260424T053109
CREATED:20230125T174940Z
LAST-MODIFIED:20230213T184517Z
UID:10005739-1677267000-1677277800@aquafifth.com
SUMMARY:James Sullivan
DESCRIPTION:
URL:https://aquafifth.com/naples-event/james-sullivan-2/2023-02-24/
LOCATION:Aqua – Naples\, 862 5th Ave S\, Naples\, FL\, 34102\, United States
CATEGORIES:Estero Events
ATTACH;FMTTYPE=image/jpeg:https://aquafifth.com/wp-content/uploads/James-Sullivan-scaled.jpg
END:VEVENT
BEGIN:VEVENT
DTSTART;TZID=America/New_York:20230223T193000
DTEND;TZID=America/New_York:20230223T223000
DTSTAMP:20260424T053109
CREATED:20230123T182633Z
LAST-MODIFIED:20230213T185137Z
UID:10005378-1677180600-1677191400@aquafifth.com
SUMMARY:Rashae and the SHI Girls
DESCRIPTION:
URL:https://aquafifth.com/naples-event/rashae-and-the-shi-girls-aqua-restaurant-live-music-bonita-springs/2023-02-23/
LOCATION:Aqua – Naples\, 862 5th Ave S\, Naples\, FL\, 34102\, United States
CATEGORIES:Estero Events
ATTACH;FMTTYPE=image/jpeg:https://aquafifth.com/wp-content/uploads/Rashae.jpeg
END:VEVENT
BEGIN:VEVENT
DTSTART;TZID=America/New_York:20230222T193000
DTEND;TZID=America/New_York:20230222T193000
DTSTAMP:20260424T053109
CREATED:20230125T182457Z
LAST-MODIFIED:20230213T185300Z
UID:10005708-1677094200-1677094200@aquafifth.com
SUMMARY:Larry Roberts
DESCRIPTION:
URL:https://aquafifth.com/naples-event/larry-roberts-aqua-restaurant-live-music-bonita-springs-2/2023-02-22/
LOCATION:Aqua – Naples\, 862 5th Ave S\, Naples\, FL\, 34102\, United States
CATEGORIES:Estero Events
ATTACH;FMTTYPE=image/jpeg:https://aquafifth.com/wp-content/uploads/aqua-naples-florida-restaurant-favicon-270px.jpg
END:VEVENT
BEGIN:VEVENT
DTSTART;TZID=America/New_York:20230221T193000
DTEND;TZID=America/New_York:20230221T223000
DTSTAMP:20260424T053109
CREATED:20230123T182633Z
LAST-MODIFIED:20230213T185137Z
UID:10005377-1677007800-1677018600@aquafifth.com
SUMMARY:Rashae and the SHI Girls
DESCRIPTION:
URL:https://aquafifth.com/naples-event/rashae-and-the-shi-girls-aqua-restaurant-live-music-bonita-springs/2023-02-21/
LOCATION:Aqua – Naples\, 862 5th Ave S\, Naples\, FL\, 34102\, United States
CATEGORIES:Estero Events
ATTACH;FMTTYPE=image/jpeg:https://aquafifth.com/wp-content/uploads/Rashae.jpeg
END:VEVENT
BEGIN:VEVENT
DTSTART;TZID=America/New_York:20230220T193000
DTEND;TZID=America/New_York:20230220T223000
DTSTAMP:20260424T053109
CREATED:20230123T182633Z
LAST-MODIFIED:20230213T185137Z
UID:10005376-1676921400-1676932200@aquafifth.com
SUMMARY:Rashae and the SHI Girls
DESCRIPTION:
URL:https://aquafifth.com/naples-event/rashae-and-the-shi-girls-aqua-restaurant-live-music-bonita-springs/2023-02-20/
LOCATION:Aqua – Naples\, 862 5th Ave S\, Naples\, FL\, 34102\, United States
CATEGORIES:Estero Events
ATTACH;FMTTYPE=image/jpeg:https://aquafifth.com/wp-content/uploads/Rashae.jpeg
END:VEVENT
BEGIN:VEVENT
DTSTART;TZID=America/New_York:20230219T193000
DTEND;TZID=America/New_York:20230219T223000
DTSTAMP:20260424T053109
CREATED:20230125T174940Z
LAST-MODIFIED:20230213T184517Z
UID:10005738-1676835000-1676845800@aquafifth.com
SUMMARY:James Sullivan
DESCRIPTION:
URL:https://aquafifth.com/naples-event/james-sullivan-2/2023-02-19/
LOCATION:Aqua – Naples\, 862 5th Ave S\, Naples\, FL\, 34102\, United States
CATEGORIES:Estero Events
ATTACH;FMTTYPE=image/jpeg:https://aquafifth.com/wp-content/uploads/James-Sullivan-scaled.jpg
END:VEVENT
BEGIN:VEVENT
DTSTART;TZID=America/New_York:20230218T193000
DTEND;TZID=America/New_York:20230218T223000
DTSTAMP:20260424T053109
CREATED:20230123T182633Z
LAST-MODIFIED:20230213T185137Z
UID:10005375-1676748600-1676759400@aquafifth.com
SUMMARY:Rashae and the SHI Girls
DESCRIPTION:
URL:https://aquafifth.com/naples-event/rashae-and-the-shi-girls-aqua-restaurant-live-music-bonita-springs/2023-02-18/
LOCATION:Aqua – Naples\, 862 5th Ave S\, Naples\, FL\, 34102\, United States
CATEGORIES:Estero Events
ATTACH;FMTTYPE=image/jpeg:https://aquafifth.com/wp-content/uploads/Rashae.jpeg
END:VEVENT
BEGIN:VEVENT
DTSTART;TZID=America/New_York:20230217T193000
DTEND;TZID=America/New_York:20230217T223000
DTSTAMP:20260424T053109
CREATED:20230125T174940Z
LAST-MODIFIED:20230213T184517Z
UID:10005737-1676662200-1676673000@aquafifth.com
SUMMARY:James Sullivan
DESCRIPTION:
URL:https://aquafifth.com/naples-event/james-sullivan-2/2023-02-17/
LOCATION:Aqua – Naples\, 862 5th Ave S\, Naples\, FL\, 34102\, United States
CATEGORIES:Estero Events
ATTACH;FMTTYPE=image/jpeg:https://aquafifth.com/wp-content/uploads/James-Sullivan-scaled.jpg
END:VEVENT
BEGIN:VEVENT
DTSTART;TZID=America/New_York:20230216T193000
DTEND;TZID=America/New_York:20230216T223000
DTSTAMP:20260424T053109
CREATED:20230125T174940Z
LAST-MODIFIED:20230213T184517Z
UID:10005736-1676575800-1676586600@aquafifth.com
SUMMARY:James Sullivan
DESCRIPTION:
URL:https://aquafifth.com/naples-event/james-sullivan-2/2023-02-16/
LOCATION:Aqua – Naples\, 862 5th Ave S\, Naples\, FL\, 34102\, United States
CATEGORIES:Estero Events
ATTACH;FMTTYPE=image/jpeg:https://aquafifth.com/wp-content/uploads/James-Sullivan-scaled.jpg
END:VEVENT
BEGIN:VEVENT
DTSTART;TZID=America/New_York:20230215T193000
DTEND;TZID=America/New_York:20230215T223000
DTSTAMP:20260424T053109
CREATED:20230123T184913Z
LAST-MODIFIED:20230213T183838Z
UID:10005399-1676489400-1676500200@aquafifth.com
SUMMARY:Alissa Musto
DESCRIPTION:
URL:https://aquafifth.com/naples-event/alissa-musto-aqua-restaurant-live-music-bonita-springs/2023-02-15/
LOCATION:Aqua – Naples\, 862 5th Ave S\, Naples\, FL\, 34102\, United States
CATEGORIES:Estero Events
ATTACH;FMTTYPE=image/jpeg:https://aquafifth.com/wp-content/uploads/Alissa-Musto.jpeg
END:VEVENT
BEGIN:VEVENT
DTSTART;TZID=America/New_York:20230214T193000
DTEND;TZID=America/New_York:20230214T223000
DTSTAMP:20260424T053109
CREATED:20230123T202244Z
LAST-MODIFIED:20230213T185433Z
UID:10005753-1676403000-1676413800@aquafifth.com
SUMMARY:Fire and Ice
DESCRIPTION:
URL:https://aquafifth.com/naples-event/fire-and-ice-aqua-restaurant-live-music-bonita-springs/2023-02-14/
LOCATION:Aqua – Naples\, 862 5th Ave S\, Naples\, FL\, 34102\, United States
CATEGORIES:Estero Events
ATTACH;FMTTYPE=image/jpeg:https://aquafifth.com/wp-content/uploads/aqua-naples-florida-restaurant-favicon-270px.jpg
END:VEVENT
BEGIN:VEVENT
DTSTART;TZID=America/New_York:20230213T193000
DTEND;TZID=America/New_York:20230213T223000
DTSTAMP:20260424T053109
CREATED:20230123T182633Z
LAST-MODIFIED:20230213T185137Z
UID:10005374-1676316600-1676327400@aquafifth.com
SUMMARY:Rashae and the SHI Girls
DESCRIPTION:
URL:https://aquafifth.com/naples-event/rashae-and-the-shi-girls-aqua-restaurant-live-music-bonita-springs/2023-02-13/
LOCATION:Aqua – Naples\, 862 5th Ave S\, Naples\, FL\, 34102\, United States
CATEGORIES:Estero Events
ATTACH;FMTTYPE=image/jpeg:https://aquafifth.com/wp-content/uploads/Rashae.jpeg
END:VEVENT
BEGIN:VEVENT
DTSTART;TZID=America/New_York:20230211T193000
DTEND;TZID=America/New_York:20230211T223000
DTSTAMP:20260424T053109
CREATED:20230125T174940Z
LAST-MODIFIED:20230213T184517Z
UID:10005734-1676143800-1676154600@aquafifth.com
SUMMARY:James Sullivan
DESCRIPTION:
URL:https://aquafifth.com/naples-event/james-sullivan-2/2023-02-11/
LOCATION:Aqua – Naples\, 862 5th Ave S\, Naples\, FL\, 34102\, United States
CATEGORIES:Estero Events
ATTACH;FMTTYPE=image/jpeg:https://aquafifth.com/wp-content/uploads/James-Sullivan-scaled.jpg
END:VEVENT
BEGIN:VEVENT
DTSTART;TZID=America/New_York:20230210T193000
DTEND;TZID=America/New_York:20230210T223000
DTSTAMP:20260424T053109
CREATED:20230123T202244Z
LAST-MODIFIED:20230213T185433Z
UID:10005774-1676057400-1676068200@aquafifth.com
SUMMARY:Fire and Ice
DESCRIPTION:
URL:https://aquafifth.com/naples-event/fire-and-ice-aqua-restaurant-live-music-bonita-springs/2023-02-10/
LOCATION:Aqua – Naples\, 862 5th Ave S\, Naples\, FL\, 34102\, United States
CATEGORIES:Estero Events
ATTACH;FMTTYPE=image/jpeg:https://aquafifth.com/wp-content/uploads/aqua-naples-florida-restaurant-favicon-270px.jpg
END:VEVENT
BEGIN:VEVENT
DTSTART;TZID=America/New_York:20230209T193000
DTEND;TZID=America/New_York:20230209T223000
DTSTAMP:20260424T053109
CREATED:20230123T182633Z
LAST-MODIFIED:20230213T185137Z
UID:10005373-1675971000-1675981800@aquafifth.com
SUMMARY:Rashae and the SHI Girls
DESCRIPTION:
URL:https://aquafifth.com/naples-event/rashae-and-the-shi-girls-aqua-restaurant-live-music-bonita-springs/2023-02-09/
LOCATION:Aqua – Naples\, 862 5th Ave S\, Naples\, FL\, 34102\, United States
CATEGORIES:Estero Events
ATTACH;FMTTYPE=image/jpeg:https://aquafifth.com/wp-content/uploads/Rashae.jpeg
END:VEVENT
BEGIN:VEVENT
DTSTART;TZID=America/New_York:20230208T193000
DTEND;TZID=America/New_York:20230208T223000
DTSTAMP:20260424T053109
CREATED:20230123T184913Z
LAST-MODIFIED:20230213T183838Z
UID:10005398-1675884600-1675895400@aquafifth.com
SUMMARY:Alissa Musto
DESCRIPTION:
URL:https://aquafifth.com/naples-event/alissa-musto-aqua-restaurant-live-music-bonita-springs/2023-02-08/
LOCATION:Aqua – Naples\, 862 5th Ave S\, Naples\, FL\, 34102\, United States
CATEGORIES:Estero Events
ATTACH;FMTTYPE=image/jpeg:https://aquafifth.com/wp-content/uploads/Alissa-Musto.jpeg
END:VEVENT
BEGIN:VEVENT
DTSTART;TZID=America/New_York:20230207T193000
DTEND;TZID=America/New_York:20230207T223000
DTSTAMP:20260424T053109
CREATED:20230123T184913Z
LAST-MODIFIED:20230213T183838Z
UID:10005397-1675798200-1675809000@aquafifth.com
SUMMARY:Alissa Musto
DESCRIPTION:
URL:https://aquafifth.com/naples-event/alissa-musto-aqua-restaurant-live-music-bonita-springs/2023-02-07/
LOCATION:Aqua – Naples\, 862 5th Ave S\, Naples\, FL\, 34102\, United States
CATEGORIES:Estero Events
ATTACH;FMTTYPE=image/jpeg:https://aquafifth.com/wp-content/uploads/Alissa-Musto.jpeg
END:VEVENT
BEGIN:VEVENT
DTSTART;TZID=America/New_York:20230206T193000
DTEND;TZID=America/New_York:20230206T223000
DTSTAMP:20260424T053109
CREATED:20230123T182633Z
LAST-MODIFIED:20230213T185137Z
UID:10005372-1675711800-1675722600@aquafifth.com
SUMMARY:Rashae and the SHI Girls
DESCRIPTION:
URL:https://aquafifth.com/naples-event/rashae-and-the-shi-girls-aqua-restaurant-live-music-bonita-springs/2023-02-06/
LOCATION:Aqua – Naples\, 862 5th Ave S\, Naples\, FL\, 34102\, United States
CATEGORIES:Estero Events
ATTACH;FMTTYPE=image/jpeg:https://aquafifth.com/wp-content/uploads/Rashae.jpeg
END:VEVENT
BEGIN:VEVENT
DTSTART;TZID=America/New_York:20230205T193000
DTEND;TZID=America/New_York:20230205T223000
DTSTAMP:20260424T053109
CREATED:20230125T174940Z
LAST-MODIFIED:20230213T184517Z
UID:10005733-1675625400-1675636200@aquafifth.com
SUMMARY:James Sullivan
DESCRIPTION:
URL:https://aquafifth.com/naples-event/james-sullivan-2/2023-02-05/
LOCATION:Aqua – Naples\, 862 5th Ave S\, Naples\, FL\, 34102\, United States
CATEGORIES:Estero Events
ATTACH;FMTTYPE=image/jpeg:https://aquafifth.com/wp-content/uploads/James-Sullivan-scaled.jpg
END:VEVENT
BEGIN:VEVENT
DTSTART;TZID=America/New_York:20230204T193000
DTEND;TZID=America/New_York:20230204T223000
DTSTAMP:20260424T053109
CREATED:20230125T174940Z
LAST-MODIFIED:20230213T184517Z
UID:10005732-1675539000-1675549800@aquafifth.com
SUMMARY:James Sullivan
DESCRIPTION:
URL:https://aquafifth.com/naples-event/james-sullivan-2/2023-02-04/
LOCATION:Aqua – Naples\, 862 5th Ave S\, Naples\, FL\, 34102\, United States
CATEGORIES:Estero Events
ATTACH;FMTTYPE=image/jpeg:https://aquafifth.com/wp-content/uploads/James-Sullivan-scaled.jpg
END:VEVENT
BEGIN:VEVENT
DTSTART;TZID=America/New_York:20230203T193000
DTEND;TZID=America/New_York:20230203T223000
DTSTAMP:20260424T053109
CREATED:20230125T174940Z
LAST-MODIFIED:20230213T184517Z
UID:10005731-1675452600-1675463400@aquafifth.com
SUMMARY:James Sullivan
DESCRIPTION:
URL:https://aquafifth.com/naples-event/james-sullivan-2/2023-02-03/
LOCATION:Aqua – Naples\, 862 5th Ave S\, Naples\, FL\, 34102\, United States
CATEGORIES:Estero Events
ATTACH;FMTTYPE=image/jpeg:https://aquafifth.com/wp-content/uploads/James-Sullivan-scaled.jpg
END:VEVENT
BEGIN:VEVENT
DTSTART;TZID=America/New_York:20230202T193000
DTEND;TZID=America/New_York:20230202T223000
DTSTAMP:20260424T053109
CREATED:20230123T184913Z
LAST-MODIFIED:20230213T183838Z
UID:10005396-1675366200-1675377000@aquafifth.com
SUMMARY:Alissa Musto
DESCRIPTION:
URL:https://aquafifth.com/naples-event/alissa-musto-aqua-restaurant-live-music-bonita-springs/2023-02-02/
LOCATION:Aqua – Naples\, 862 5th Ave S\, Naples\, FL\, 34102\, United States
CATEGORIES:Estero Events
ATTACH;FMTTYPE=image/jpeg:https://aquafifth.com/wp-content/uploads/Alissa-Musto.jpeg
END:VEVENT
BEGIN:VEVENT
DTSTART;TZID=America/New_York:20230201T193000
DTEND;TZID=America/New_York:20230201T223000
DTSTAMP:20260424T053109
CREATED:20230213T183411Z
LAST-MODIFIED:20230213T183412Z
UID:10005756-1675279800-1675290600@aquafifth.com
SUMMARY:Fire and Ice
DESCRIPTION:
URL:https://aquafifth.com/naples-event/fire-and-ice-aqua-restaurant-live-music-bonita-springs-2/
LOCATION:Aqua – Naples\, 862 5th Ave S\, Naples\, FL\, 34102\, United States
CATEGORIES:Estero Events
ATTACH;FMTTYPE=image/jpeg:https://aquafifth.com/wp-content/uploads/aqua-naples-florida-restaurant-favicon-270px.jpg
END:VEVENT
BEGIN:VEVENT
DTSTART;TZID=America/New_York:20230131T193000
DTEND;TZID=America/New_York:20230131T235900
DTSTAMP:20260424T053109
CREATED:20230123T184913Z
LAST-MODIFIED:20230213T183838Z
UID:10005395-1675193400-1675209540@aquafifth.com
SUMMARY:Alissa Musto
DESCRIPTION:
URL:https://aquafifth.com/naples-event/alissa-musto-aqua-restaurant-live-music-bonita-springs/2023-01-31/
LOCATION:Aqua – Naples\, 862 5th Ave S\, Naples\, FL\, 34102\, United States
CATEGORIES:Estero Events
ATTACH;FMTTYPE=image/jpeg:https://aquafifth.com/wp-content/uploads/Alissa-Musto.jpeg
END:VEVENT
BEGIN:VEVENT
DTSTART;TZID=America/New_York:20230130T193000
DTEND;TZID=America/New_York:20230130T223000
DTSTAMP:20260424T053109
CREATED:20230123T182633Z
LAST-MODIFIED:20230213T185137Z
UID:10005371-1675107000-1675117800@aquafifth.com
SUMMARY:Rashae and the SHI Girls
DESCRIPTION:
URL:https://aquafifth.com/naples-event/rashae-and-the-shi-girls-aqua-restaurant-live-music-bonita-springs/2023-01-30/
LOCATION:Aqua – Naples\, 862 5th Ave S\, Naples\, FL\, 34102\, United States
CATEGORIES:Estero Events
ATTACH;FMTTYPE=image/jpeg:https://aquafifth.com/wp-content/uploads/Rashae.jpeg
END:VEVENT
END:VCALENDAR