BEGIN:VCALENDAR
VERSION:2.0
PRODID:-//Aqua Restaurant - ECPv6.15.20//NONSGML v1.0//EN
CALSCALE:GREGORIAN
METHOD:PUBLISH
X-ORIGINAL-URL:https://aquafifth.com
X-WR-CALDESC:Events for Aqua Restaurant
REFRESH-INTERVAL;VALUE=DURATION:PT1H
X-Robots-Tag:noindex
X-PUBLISHED-TTL:PT1H
BEGIN:VTIMEZONE
TZID:America/New_York
BEGIN:DAYLIGHT
TZOFFSETFROM:-0500
TZOFFSETTO:-0400
TZNAME:EDT
DTSTART:20210314T070000
END:DAYLIGHT
BEGIN:STANDARD
TZOFFSETFROM:-0400
TZOFFSETTO:-0500
TZNAME:EST
DTSTART:20211107T060000
END:STANDARD
BEGIN:DAYLIGHT
TZOFFSETFROM:-0500
TZOFFSETTO:-0400
TZNAME:EDT
DTSTART:20220313T070000
END:DAYLIGHT
BEGIN:STANDARD
TZOFFSETFROM:-0400
TZOFFSETTO:-0500
TZNAME:EST
DTSTART:20221106T060000
END:STANDARD
BEGIN:DAYLIGHT
TZOFFSETFROM:-0500
TZOFFSETTO:-0400
TZNAME:EDT
DTSTART:20230312T070000
END:DAYLIGHT
BEGIN:STANDARD
TZOFFSETFROM:-0400
TZOFFSETTO:-0500
TZNAME:EST
DTSTART:20231105T060000
END:STANDARD
BEGIN:DAYLIGHT
TZOFFSETFROM:-0500
TZOFFSETTO:-0400
TZNAME:EDT
DTSTART:20240310T070000
END:DAYLIGHT
BEGIN:STANDARD
TZOFFSETFROM:-0400
TZOFFSETTO:-0500
TZNAME:EST
DTSTART:20241103T060000
END:STANDARD
END:VTIMEZONE
BEGIN:VEVENT
DTSTART;TZID=America/New_York:20230123T193000
DTEND;TZID=America/New_York:20230123T235900
DTSTAMP:20260424T093153
CREATED:20230123T182633Z
LAST-MODIFIED:20230213T185137Z
UID:10005712-1674502200-1674518340@aquafifth.com
SUMMARY:Rashae and the SHI Girls
DESCRIPTION:
URL:https://aquafifth.com/naples-event/rashae-and-the-shi-girls-aqua-restaurant-live-music-bonita-springs/2023-01-23/
LOCATION:Aqua – Naples\, 862 5th Ave S\, Naples\, FL\, 34102\, United States
CATEGORIES:Estero Events
ATTACH;FMTTYPE=image/jpeg:https://aquafifth.com/wp-content/uploads/Rashae.jpeg
END:VEVENT
BEGIN:VEVENT
DTSTART;TZID=America/New_York:20230122T193000
DTEND;TZID=America/New_York:20230122T193000
DTSTAMP:20260424T093153
CREATED:20221108T222433Z
LAST-MODIFIED:20231129T214908Z
UID:10007824-1674415800-1674415800@aquafifth.com
SUMMARY:James Sullivan
DESCRIPTION:
URL:https://aquafifth.com/naples-event/james-sullivan/2023-01-22/
LOCATION:Aqua – Naples\, 862 5th Ave S\, Naples\, FL\, 34102\, United States
CATEGORIES:Estero Events
ATTACH;FMTTYPE=image/jpeg:https://aquafifth.com/wp-content/uploads/James-Sullivan-scaled.jpg
END:VEVENT
BEGIN:VEVENT
DTSTART;TZID=America/New_York:20230115T193000
DTEND;TZID=America/New_York:20230115T193000
DTSTAMP:20260424T093153
CREATED:20221108T222433Z
LAST-MODIFIED:20231129T214908Z
UID:10007823-1673811000-1673811000@aquafifth.com
SUMMARY:James Sullivan
DESCRIPTION:
URL:https://aquafifth.com/naples-event/james-sullivan/2023-01-15/
LOCATION:Aqua – Naples\, 862 5th Ave S\, Naples\, FL\, 34102\, United States
CATEGORIES:Estero Events
ATTACH;FMTTYPE=image/jpeg:https://aquafifth.com/wp-content/uploads/James-Sullivan-scaled.jpg
END:VEVENT
BEGIN:VEVENT
DTSTART;TZID=America/New_York:20230108T193000
DTEND;TZID=America/New_York:20230108T193000
DTSTAMP:20260424T093153
CREATED:20221108T222433Z
LAST-MODIFIED:20231129T214908Z
UID:10007822-1673206200-1673206200@aquafifth.com
SUMMARY:James Sullivan
DESCRIPTION:
URL:https://aquafifth.com/naples-event/james-sullivan/2023-01-08/
LOCATION:Aqua – Naples\, 862 5th Ave S\, Naples\, FL\, 34102\, United States
CATEGORIES:Estero Events
ATTACH;FMTTYPE=image/jpeg:https://aquafifth.com/wp-content/uploads/James-Sullivan-scaled.jpg
END:VEVENT
BEGIN:VEVENT
DTSTART;TZID=America/New_York:20230101T193000
DTEND;TZID=America/New_York:20230101T193000
DTSTAMP:20260424T093153
CREATED:20221108T222433Z
LAST-MODIFIED:20231129T214908Z
UID:10007821-1672601400-1672601400@aquafifth.com
SUMMARY:James Sullivan
DESCRIPTION:
URL:https://aquafifth.com/naples-event/james-sullivan/2023-01-01/
LOCATION:Aqua – Naples\, 862 5th Ave S\, Naples\, FL\, 34102\, United States
CATEGORIES:Estero Events
ATTACH;FMTTYPE=image/jpeg:https://aquafifth.com/wp-content/uploads/James-Sullivan-scaled.jpg
END:VEVENT
BEGIN:VEVENT
DTSTART;TZID=America/New_York:20221225T193000
DTEND;TZID=America/New_York:20221225T193000
DTSTAMP:20260424T093153
CREATED:20221108T222433Z
LAST-MODIFIED:20231129T214908Z
UID:10007820-1671996600-1671996600@aquafifth.com
SUMMARY:James Sullivan
DESCRIPTION:
URL:https://aquafifth.com/naples-event/james-sullivan/2022-12-25/
LOCATION:Aqua – Naples\, 862 5th Ave S\, Naples\, FL\, 34102\, United States
CATEGORIES:Estero Events
ATTACH;FMTTYPE=image/jpeg:https://aquafifth.com/wp-content/uploads/James-Sullivan-scaled.jpg
END:VEVENT
BEGIN:VEVENT
DTSTART;TZID=America/New_York:20221218T193000
DTEND;TZID=America/New_York:20221218T193000
DTSTAMP:20260424T093153
CREATED:20221108T222433Z
LAST-MODIFIED:20231129T214908Z
UID:10007819-1671391800-1671391800@aquafifth.com
SUMMARY:James Sullivan
DESCRIPTION:
URL:https://aquafifth.com/naples-event/james-sullivan/2022-12-18/
LOCATION:Aqua – Naples\, 862 5th Ave S\, Naples\, FL\, 34102\, United States
CATEGORIES:Estero Events
ATTACH;FMTTYPE=image/jpeg:https://aquafifth.com/wp-content/uploads/James-Sullivan-scaled.jpg
END:VEVENT
BEGIN:VEVENT
DTSTART;TZID=America/New_York:20221211T193000
DTEND;TZID=America/New_York:20221211T193000
DTSTAMP:20260424T093153
CREATED:20221108T222433Z
LAST-MODIFIED:20231129T214908Z
UID:10007818-1670787000-1670787000@aquafifth.com
SUMMARY:James Sullivan
DESCRIPTION:
URL:https://aquafifth.com/naples-event/james-sullivan/2022-12-11/
LOCATION:Aqua – Naples\, 862 5th Ave S\, Naples\, FL\, 34102\, United States
CATEGORIES:Estero Events
ATTACH;FMTTYPE=image/jpeg:https://aquafifth.com/wp-content/uploads/James-Sullivan-scaled.jpg
END:VEVENT
BEGIN:VEVENT
DTSTART;TZID=America/New_York:20221204T193000
DTEND;TZID=America/New_York:20221204T193000
DTSTAMP:20260424T093153
CREATED:20221108T222433Z
LAST-MODIFIED:20231129T214908Z
UID:10007817-1670182200-1670182200@aquafifth.com
SUMMARY:James Sullivan
DESCRIPTION:
URL:https://aquafifth.com/naples-event/james-sullivan/2022-12-04/
LOCATION:Aqua – Naples\, 862 5th Ave S\, Naples\, FL\, 34102\, United States
CATEGORIES:Estero Events
ATTACH;FMTTYPE=image/jpeg:https://aquafifth.com/wp-content/uploads/James-Sullivan-scaled.jpg
END:VEVENT
BEGIN:VEVENT
DTSTART;TZID=America/New_York:20221127T193000
DTEND;TZID=America/New_York:20221127T193000
DTSTAMP:20260424T093153
CREATED:20221108T222433Z
LAST-MODIFIED:20231129T214908Z
UID:10007816-1669577400-1669577400@aquafifth.com
SUMMARY:James Sullivan
DESCRIPTION:
URL:https://aquafifth.com/naples-event/james-sullivan/2022-11-27/
LOCATION:Aqua – Naples\, 862 5th Ave S\, Naples\, FL\, 34102\, United States
CATEGORIES:Estero Events
ATTACH;FMTTYPE=image/jpeg:https://aquafifth.com/wp-content/uploads/James-Sullivan-scaled.jpg
END:VEVENT
BEGIN:VEVENT
DTSTART;TZID=America/New_York:20221120T193000
DTEND;TZID=America/New_York:20221120T193000
DTSTAMP:20260424T093153
CREATED:20221108T222433Z
LAST-MODIFIED:20231129T214908Z
UID:10007815-1668972600-1668972600@aquafifth.com
SUMMARY:James Sullivan
DESCRIPTION:
URL:https://aquafifth.com/naples-event/james-sullivan/2022-11-20/
LOCATION:Aqua – Naples\, 862 5th Ave S\, Naples\, FL\, 34102\, United States
CATEGORIES:Estero Events
ATTACH;FMTTYPE=image/jpeg:https://aquafifth.com/wp-content/uploads/James-Sullivan-scaled.jpg
END:VEVENT
BEGIN:VEVENT
DTSTART;TZID=America/New_York:20221113T193000
DTEND;TZID=America/New_York:20221113T193000
DTSTAMP:20260424T093153
CREATED:20221108T222433Z
LAST-MODIFIED:20231129T214908Z
UID:10007814-1668367800-1668367800@aquafifth.com
SUMMARY:James Sullivan
DESCRIPTION:
URL:https://aquafifth.com/naples-event/james-sullivan/2022-11-13/
LOCATION:Aqua – Naples\, 862 5th Ave S\, Naples\, FL\, 34102\, United States
CATEGORIES:Estero Events
ATTACH;FMTTYPE=image/jpeg:https://aquafifth.com/wp-content/uploads/James-Sullivan-scaled.jpg
END:VEVENT
END:VCALENDAR