BEGIN:VCALENDAR
VERSION:2.0
PRODID:-//Aqua Restaurant - ECPv6.15.20//NONSGML v1.0//EN
CALSCALE:GREGORIAN
METHOD:PUBLISH
X-ORIGINAL-URL:https://aquafifth.com
X-WR-CALDESC:Events for Aqua Restaurant
REFRESH-INTERVAL;VALUE=DURATION:PT1H
X-Robots-Tag:noindex
X-PUBLISHED-TTL:PT1H
BEGIN:VTIMEZONE
TZID:America/New_York
BEGIN:DAYLIGHT
TZOFFSETFROM:-0500
TZOFFSETTO:-0400
TZNAME:EDT
DTSTART:20250309T070000
END:DAYLIGHT
BEGIN:STANDARD
TZOFFSETFROM:-0400
TZOFFSETTO:-0500
TZNAME:EST
DTSTART:20251102T060000
END:STANDARD
BEGIN:DAYLIGHT
TZOFFSETFROM:-0500
TZOFFSETTO:-0400
TZNAME:EDT
DTSTART:20260308T070000
END:DAYLIGHT
BEGIN:STANDARD
TZOFFSETFROM:-0400
TZOFFSETTO:-0500
TZNAME:EST
DTSTART:20261101T060000
END:STANDARD
BEGIN:DAYLIGHT
TZOFFSETFROM:-0500
TZOFFSETTO:-0400
TZNAME:EDT
DTSTART:20270314T070000
END:DAYLIGHT
BEGIN:STANDARD
TZOFFSETFROM:-0400
TZOFFSETTO:-0500
TZNAME:EST
DTSTART:20271107T060000
END:STANDARD
END:VTIMEZONE
BEGIN:VEVENT
DTSTART;TZID=America/New_York:20260306T190000
DTEND;TZID=America/New_York:20260306T220000
DTSTAMP:20260424T195128
CREATED:20251231T190447Z
LAST-MODIFIED:20251231T192631Z
UID:10010451-1772823600-1772834400@aquafifth.com
SUMMARY:Hot Damn
DESCRIPTION:“Hot Damn” is the duo act of husband and wife team\, Norm and Debbie Pelletier\, with the true sound of a full band.
URL:https://aquafifth.com/naples-event/hot-damn/
LOCATION:Aqua – North Naples\, 2348 Immokalee Rd\, Naples\, FL\, 34110\, United States
CATEGORIES:North Naples Events
ATTACH;FMTTYPE=image/jpeg:https://aquafifth.com/wp-content/uploads/Hot-Damn-Show.jpg
END:VEVENT
BEGIN:VEVENT
DTSTART;TZID=America/New_York:20260305T190000
DTEND;TZID=America/New_York:20260305T220000
DTSTAMP:20260424T195128
CREATED:20251007T171732Z
LAST-MODIFIED:20251020T161805Z
UID:10009994-1772737200-1772748000@aquafifth.com
SUMMARY:Larry D
DESCRIPTION:Larry D – Singer.
URL:https://aquafifth.com/naples-event/larry-d/2026-03-05/
LOCATION:Aqua – North Naples\, 2348 Immokalee Rd\, Naples\, FL\, 34110\, United States
CATEGORIES:North Naples Events
ATTACH;FMTTYPE=image/jpeg:https://aquafifth.com/wp-content/uploads/Larry-D.jpg
END:VEVENT
BEGIN:VEVENT
DTSTART;TZID=America/New_York:20260304T180000
DTEND;TZID=America/New_York:20260304T210000
DTSTAMP:20260424T195128
CREATED:20251007T170911Z
LAST-MODIFIED:20260202T190843Z
UID:10010564-1772647200-1772658000@aquafifth.com
SUMMARY:Matty B Saxophone
DESCRIPTION:Saxophone and Singer.
URL:https://aquafifth.com/naples-event/matty-b-2-2/2026-03-04/
LOCATION:Aqua – North Naples\, 2348 Immokalee Rd\, Naples\, FL\, 34110\, United States
CATEGORIES:North Naples Events
ATTACH;FMTTYPE=image/jpeg:https://aquafifth.com/wp-content/uploads/Matty-B-Saxophone.jpg
END:VEVENT
BEGIN:VEVENT
DTSTART;TZID=America/New_York:20260303T180000
DTEND;TZID=America/New_York:20260303T210000
DTSTAMP:20260424T195128
CREATED:20250409T152125Z
LAST-MODIFIED:20260202T190310Z
UID:10010539-1772560800-1772571600@aquafifth.com
SUMMARY:Rashae and the SHI Girls
DESCRIPTION:
URL:https://aquafifth.com/naples-event/rashae-and-the-shi-girls-6/2026-03-03/
LOCATION:Aqua – North Naples\, 2348 Immokalee Rd\, Naples\, FL\, 34110\, United States
CATEGORIES:North Naples Events
ATTACH;FMTTYPE=image/jpeg:https://aquafifth.com/wp-content/uploads/Rashae-and-the-Shi-Girls.jpg
END:VEVENT
BEGIN:VEVENT
DTSTART;TZID=America/New_York:20260302T180000
DTEND;TZID=America/New_York:20260302T210000
DTSTAMP:20260424T195128
CREATED:20251007T165808Z
LAST-MODIFIED:20260202T185020Z
UID:10010509-1772474400-1772485200@aquafifth.com
SUMMARY:Cabin Fever
DESCRIPTION:Cabin Fever.
URL:https://aquafifth.com/naples-event/cabin-fever/2026-03-02/
LOCATION:Aqua – North Naples\, 2348 Immokalee Rd\, Naples\, FL\, 34110\, United States
CATEGORIES:North Naples Events
ATTACH;FMTTYPE=image/jpeg:https://aquafifth.com/wp-content/uploads/Cabin-Fever-Aqua.jpg
END:VEVENT
BEGIN:VEVENT
DTSTART;TZID=America/New_York:20260301T180000
DTEND;TZID=America/New_York:20260301T210000
DTSTAMP:20260424T195128
CREATED:20251007T165221Z
LAST-MODIFIED:20260202T184914Z
UID:10010478-1772388000-1772398800@aquafifth.com
SUMMARY:Juliet
DESCRIPTION:Juliet – Singer
URL:https://aquafifth.com/naples-event/juliet-2/2026-03-01/
LOCATION:Aqua – North Naples\, 2348 Immokalee Rd\, Naples\, FL\, 34110\, United States
CATEGORIES:North Naples Events
ATTACH;FMTTYPE=image/jpeg:https://aquafifth.com/wp-content/uploads/Juliet.jpg
END:VEVENT
BEGIN:VEVENT
DTSTART;TZID=America/New_York:20260228T190000
DTEND;TZID=America/New_York:20260228T220000
DTSTAMP:20260424T195128
CREATED:20250530T160820Z
LAST-MODIFIED:20260113T155413Z
UID:10010054-1772305200-1772316000@aquafifth.com
SUMMARY:Piano Man Breeze
DESCRIPTION:Piano and Singer. \n \n 
URL:https://aquafifth.com/naples-event/breeze-3-2/2026-02-28/
LOCATION:Aqua – North Naples\, 2348 Immokalee Rd\, Naples\, FL\, 34110\, United States
CATEGORIES:North Naples Events
ATTACH;FMTTYPE=image/jpeg:https://aquafifth.com/wp-content/uploads/Piano-Man-Breeze.jpg
END:VEVENT
BEGIN:VEVENT
DTSTART;TZID=America/New_York:20260227T190000
DTEND;TZID=America/New_York:20260227T220000
DTSTAMP:20260424T195128
CREATED:20251007T170911Z
LAST-MODIFIED:20260202T190843Z
UID:10010381-1772218800-1772229600@aquafifth.com
SUMMARY:Matty B Saxophone
DESCRIPTION:Saxophone and Singer.
URL:https://aquafifth.com/naples-event/matty-b-2-2/2026-02-27/
LOCATION:Aqua – North Naples\, 2348 Immokalee Rd\, Naples\, FL\, 34110\, United States
CATEGORIES:North Naples Events
ATTACH;FMTTYPE=image/jpeg:https://aquafifth.com/wp-content/uploads/Matty-B-Saxophone.jpg
END:VEVENT
BEGIN:VEVENT
DTSTART;TZID=America/New_York:20260226T190000
DTEND;TZID=America/New_York:20260226T220000
DTSTAMP:20260424T195128
CREATED:20251007T171732Z
LAST-MODIFIED:20251020T161805Z
UID:10009993-1772132400-1772143200@aquafifth.com
SUMMARY:Larry D
DESCRIPTION:Larry D – Singer.
URL:https://aquafifth.com/naples-event/larry-d/2026-02-26/
LOCATION:Aqua – North Naples\, 2348 Immokalee Rd\, Naples\, FL\, 34110\, United States
CATEGORIES:North Naples Events
ATTACH;FMTTYPE=image/jpeg:https://aquafifth.com/wp-content/uploads/Larry-D.jpg
END:VEVENT
BEGIN:VEVENT
DTSTART;TZID=America/New_York:20260225T180000
DTEND;TZID=America/New_York:20260225T210000
DTSTAMP:20260424T195128
CREATED:20251007T170911Z
LAST-MODIFIED:20260202T190843Z
UID:10010563-1772042400-1772053200@aquafifth.com
SUMMARY:Matty B Saxophone
DESCRIPTION:Saxophone and Singer.
URL:https://aquafifth.com/naples-event/matty-b-2-2/2026-02-25/
LOCATION:Aqua – North Naples\, 2348 Immokalee Rd\, Naples\, FL\, 34110\, United States
CATEGORIES:North Naples Events
ATTACH;FMTTYPE=image/jpeg:https://aquafifth.com/wp-content/uploads/Matty-B-Saxophone.jpg
END:VEVENT
BEGIN:VEVENT
DTSTART;TZID=America/New_York:20260224T180000
DTEND;TZID=America/New_York:20260224T210000
DTSTAMP:20260424T195128
CREATED:20250409T152125Z
LAST-MODIFIED:20260202T190310Z
UID:10010538-1771956000-1771966800@aquafifth.com
SUMMARY:Rashae and the SHI Girls
DESCRIPTION:
URL:https://aquafifth.com/naples-event/rashae-and-the-shi-girls-6/2026-02-24/
LOCATION:Aqua – North Naples\, 2348 Immokalee Rd\, Naples\, FL\, 34110\, United States
CATEGORIES:North Naples Events
ATTACH;FMTTYPE=image/jpeg:https://aquafifth.com/wp-content/uploads/Rashae-and-the-Shi-Girls.jpg
END:VEVENT
BEGIN:VEVENT
DTSTART;TZID=America/New_York:20260223T180000
DTEND;TZID=America/New_York:20260223T210000
DTSTAMP:20260424T195128
CREATED:20251007T165808Z
LAST-MODIFIED:20260202T185020Z
UID:10010508-1771869600-1771880400@aquafifth.com
SUMMARY:Cabin Fever
DESCRIPTION:Cabin Fever.
URL:https://aquafifth.com/naples-event/cabin-fever/2026-02-23/
LOCATION:Aqua – North Naples\, 2348 Immokalee Rd\, Naples\, FL\, 34110\, United States
CATEGORIES:North Naples Events
ATTACH;FMTTYPE=image/jpeg:https://aquafifth.com/wp-content/uploads/Cabin-Fever-Aqua.jpg
END:VEVENT
BEGIN:VEVENT
DTSTART;TZID=America/New_York:20260222T180000
DTEND;TZID=America/New_York:20260222T210000
DTSTAMP:20260424T195128
CREATED:20251007T165221Z
LAST-MODIFIED:20260202T184914Z
UID:10010477-1771783200-1771794000@aquafifth.com
SUMMARY:Juliet
DESCRIPTION:Juliet – Singer
URL:https://aquafifth.com/naples-event/juliet-2/2026-02-22/
LOCATION:Aqua – North Naples\, 2348 Immokalee Rd\, Naples\, FL\, 34110\, United States
CATEGORIES:North Naples Events
ATTACH;FMTTYPE=image/jpeg:https://aquafifth.com/wp-content/uploads/Juliet.jpg
END:VEVENT
BEGIN:VEVENT
DTSTART;TZID=America/New_York:20260221T190000
DTEND;TZID=America/New_York:20260221T220000
DTSTAMP:20260424T195128
CREATED:20250530T160820Z
LAST-MODIFIED:20260113T155413Z
UID:10010053-1771700400-1771711200@aquafifth.com
SUMMARY:Piano Man Breeze
DESCRIPTION:Piano and Singer. \n \n 
URL:https://aquafifth.com/naples-event/breeze-3-2/2026-02-21/
LOCATION:Aqua – North Naples\, 2348 Immokalee Rd\, Naples\, FL\, 34110\, United States
CATEGORIES:North Naples Events
ATTACH;FMTTYPE=image/jpeg:https://aquafifth.com/wp-content/uploads/Piano-Man-Breeze.jpg
END:VEVENT
BEGIN:VEVENT
DTSTART;TZID=America/New_York:20260220T190000
DTEND;TZID=America/New_York:20260220T220000
DTSTAMP:20260424T195128
CREATED:20251007T170911Z
LAST-MODIFIED:20260202T190843Z
UID:10010380-1771614000-1771624800@aquafifth.com
SUMMARY:Matty B Saxophone
DESCRIPTION:Saxophone and Singer.
URL:https://aquafifth.com/naples-event/matty-b-2-2/2026-02-20/
LOCATION:Aqua – North Naples\, 2348 Immokalee Rd\, Naples\, FL\, 34110\, United States
CATEGORIES:North Naples Events
ATTACH;FMTTYPE=image/jpeg:https://aquafifth.com/wp-content/uploads/Matty-B-Saxophone.jpg
END:VEVENT
BEGIN:VEVENT
DTSTART;TZID=America/New_York:20260219T190000
DTEND;TZID=America/New_York:20260219T220000
DTSTAMP:20260424T195128
CREATED:20251007T171732Z
LAST-MODIFIED:20251020T161805Z
UID:10009992-1771527600-1771538400@aquafifth.com
SUMMARY:Larry D
DESCRIPTION:Larry D – Singer.
URL:https://aquafifth.com/naples-event/larry-d/2026-02-19/
LOCATION:Aqua – North Naples\, 2348 Immokalee Rd\, Naples\, FL\, 34110\, United States
CATEGORIES:North Naples Events
ATTACH;FMTTYPE=image/jpeg:https://aquafifth.com/wp-content/uploads/Larry-D.jpg
END:VEVENT
BEGIN:VEVENT
DTSTART;TZID=America/New_York:20260218T180000
DTEND;TZID=America/New_York:20260218T210000
DTSTAMP:20260424T195128
CREATED:20251007T170911Z
LAST-MODIFIED:20260202T190843Z
UID:10010562-1771437600-1771448400@aquafifth.com
SUMMARY:Matty B Saxophone
DESCRIPTION:Saxophone and Singer.
URL:https://aquafifth.com/naples-event/matty-b-2-2/2026-02-18/
LOCATION:Aqua – North Naples\, 2348 Immokalee Rd\, Naples\, FL\, 34110\, United States
CATEGORIES:North Naples Events
ATTACH;FMTTYPE=image/jpeg:https://aquafifth.com/wp-content/uploads/Matty-B-Saxophone.jpg
END:VEVENT
BEGIN:VEVENT
DTSTART;TZID=America/New_York:20260217T180000
DTEND;TZID=America/New_York:20260217T210000
DTSTAMP:20260424T195128
CREATED:20250409T152125Z
LAST-MODIFIED:20260202T190310Z
UID:10010537-1771351200-1771362000@aquafifth.com
SUMMARY:Rashae and the SHI Girls
DESCRIPTION:
URL:https://aquafifth.com/naples-event/rashae-and-the-shi-girls-6/2026-02-17/
LOCATION:Aqua – North Naples\, 2348 Immokalee Rd\, Naples\, FL\, 34110\, United States
CATEGORIES:North Naples Events
ATTACH;FMTTYPE=image/jpeg:https://aquafifth.com/wp-content/uploads/Rashae-and-the-Shi-Girls.jpg
END:VEVENT
BEGIN:VEVENT
DTSTART;TZID=America/New_York:20260216T180000
DTEND;TZID=America/New_York:20260216T210000
DTSTAMP:20260424T195128
CREATED:20251007T165808Z
LAST-MODIFIED:20260202T185020Z
UID:10010507-1771264800-1771275600@aquafifth.com
SUMMARY:Cabin Fever
DESCRIPTION:Cabin Fever.
URL:https://aquafifth.com/naples-event/cabin-fever/2026-02-16/
LOCATION:Aqua – North Naples\, 2348 Immokalee Rd\, Naples\, FL\, 34110\, United States
CATEGORIES:North Naples Events
ATTACH;FMTTYPE=image/jpeg:https://aquafifth.com/wp-content/uploads/Cabin-Fever-Aqua.jpg
END:VEVENT
BEGIN:VEVENT
DTSTART;TZID=America/New_York:20260215T180000
DTEND;TZID=America/New_York:20260215T210000
DTSTAMP:20260424T195128
CREATED:20251007T165221Z
LAST-MODIFIED:20260202T184914Z
UID:10010476-1771178400-1771189200@aquafifth.com
SUMMARY:Juliet
DESCRIPTION:Juliet – Singer
URL:https://aquafifth.com/naples-event/juliet-2/2026-02-15/
LOCATION:Aqua – North Naples\, 2348 Immokalee Rd\, Naples\, FL\, 34110\, United States
CATEGORIES:North Naples Events
ATTACH;FMTTYPE=image/jpeg:https://aquafifth.com/wp-content/uploads/Juliet.jpg
END:VEVENT
BEGIN:VEVENT
DTSTART;TZID=America/New_York:20260214T190000
DTEND;TZID=America/New_York:20260214T220000
DTSTAMP:20260424T195128
CREATED:20250530T160820Z
LAST-MODIFIED:20260113T155413Z
UID:10010052-1771095600-1771106400@aquafifth.com
SUMMARY:Piano Man Breeze
DESCRIPTION:Piano and Singer. \n \n 
URL:https://aquafifth.com/naples-event/breeze-3-2/2026-02-14/
LOCATION:Aqua – North Naples\, 2348 Immokalee Rd\, Naples\, FL\, 34110\, United States
CATEGORIES:North Naples Events
ATTACH;FMTTYPE=image/jpeg:https://aquafifth.com/wp-content/uploads/Piano-Man-Breeze.jpg
END:VEVENT
BEGIN:VEVENT
DTSTART;TZID=America/New_York:20260213T180000
DTEND;TZID=America/New_York:20260213T220000
DTSTAMP:20260424T195128
CREATED:20260202T163801Z
LAST-MODIFIED:20260202T164834Z
UID:10010460-1771005600-1771020000@aquafifth.com
SUMMARY:Valentine's Eve Party!
DESCRIPTION:Celebrate Valentine’s Eve at Aqua North Naples! \n\n\nJoin us at Aqua Lounge in North Naples on Friday\, February 13th for a night of fun\, music\, and zero texting your ex. Naples Social Hour presents “Don’t Text Your Ex”\, kicking off at 6 PM with live music\, dancing\, and cocktails flowing all night long. \nWhether you’re single\, taken\, or it’s complicated\, this is the place to be.\nGeneral admission tickets and VIP table reservations required. \nThree DJs will be bringing the energy all night long: \n6–8 PM: Etta \n9–11 PM: EVRSOL \n11 PM–1 AM: Matty Chiuch \n✨ Bottle Service Available ✨ \nUpgrade your night with a reserved table. Pricing includes your bottle choice\, so you can sit back\, sip\, and enjoy the party in style. \n💔 Shred Your Ex Activation 💔 \nReady to let go? Bring in a photo of your ex\, shred it with us\, and get a FREE shot. Fun\, messy\, and incredibly therapeutic. \nGrab your tickets at the link below before they’re gone! \n\n\n\nPurchase Tickets
URL:https://aquafifth.com/naples-event/valentines-eve-party-north-naples/
LOCATION:Aqua – North Naples\, 2348 Immokalee Rd\, Naples\, FL\, 34110\, United States
CATEGORIES:North Naples Events
ATTACH;FMTTYPE=image/png:https://aquafifth.com/wp-content/uploads/Screenshot-2026-01-28-at-12.37.47-PM.png
END:VEVENT
BEGIN:VEVENT
DTSTART;TZID=America/New_York:20260212T190000
DTEND;TZID=America/New_York:20260212T220000
DTSTAMP:20260424T195128
CREATED:20251007T171732Z
LAST-MODIFIED:20251020T161805Z
UID:10009991-1770922800-1770933600@aquafifth.com
SUMMARY:Larry D
DESCRIPTION:Larry D – Singer.
URL:https://aquafifth.com/naples-event/larry-d/2026-02-12/
LOCATION:Aqua – North Naples\, 2348 Immokalee Rd\, Naples\, FL\, 34110\, United States
CATEGORIES:North Naples Events
ATTACH;FMTTYPE=image/jpeg:https://aquafifth.com/wp-content/uploads/Larry-D.jpg
END:VEVENT
BEGIN:VEVENT
DTSTART;TZID=America/New_York:20260211T180000
DTEND;TZID=America/New_York:20260211T210000
DTSTAMP:20260424T195128
CREATED:20251007T180248Z
LAST-MODIFIED:20260202T191207Z
UID:10010577-1770832800-1770843600@aquafifth.com
SUMMARY:Piano Man Don Wolcot
DESCRIPTION:Piano Man Don Wolcot.
URL:https://aquafifth.com/naples-event/piano-man-don-wolcot-2/2026-02-11/
LOCATION:Aqua – North Naples\, 2348 Immokalee Rd\, Naples\, FL\, 34110\, United States
CATEGORIES:North Naples Events
ATTACH;FMTTYPE=image/jpeg:https://aquafifth.com/wp-content/uploads/Don-Wolcot-1.jpg
END:VEVENT
BEGIN:VEVENT
DTSTART;TZID=America/New_York:20260210T180000
DTEND;TZID=America/New_York:20260210T210000
DTSTAMP:20260424T195128
CREATED:20250409T152125Z
LAST-MODIFIED:20260202T190310Z
UID:10010536-1770746400-1770757200@aquafifth.com
SUMMARY:Rashae and the SHI Girls
DESCRIPTION:
URL:https://aquafifth.com/naples-event/rashae-and-the-shi-girls-6/2026-02-10/
LOCATION:Aqua – North Naples\, 2348 Immokalee Rd\, Naples\, FL\, 34110\, United States
CATEGORIES:North Naples Events
ATTACH;FMTTYPE=image/jpeg:https://aquafifth.com/wp-content/uploads/Rashae-and-the-Shi-Girls.jpg
END:VEVENT
BEGIN:VEVENT
DTSTART;TZID=America/New_York:20260209T180000
DTEND;TZID=America/New_York:20260209T210000
DTSTAMP:20260424T195128
CREATED:20251007T165808Z
LAST-MODIFIED:20260202T185020Z
UID:10010506-1770660000-1770670800@aquafifth.com
SUMMARY:Cabin Fever
DESCRIPTION:Cabin Fever.
URL:https://aquafifth.com/naples-event/cabin-fever/2026-02-09/
LOCATION:Aqua – North Naples\, 2348 Immokalee Rd\, Naples\, FL\, 34110\, United States
CATEGORIES:North Naples Events
ATTACH;FMTTYPE=image/jpeg:https://aquafifth.com/wp-content/uploads/Cabin-Fever-Aqua.jpg
END:VEVENT
BEGIN:VEVENT
DTSTART;TZID=America/New_York:20260208T180000
DTEND;TZID=America/New_York:20260208T210000
DTSTAMP:20260424T195128
CREATED:20251007T165221Z
LAST-MODIFIED:20260202T184914Z
UID:10010475-1770573600-1770584400@aquafifth.com
SUMMARY:Juliet
DESCRIPTION:Juliet – Singer
URL:https://aquafifth.com/naples-event/juliet-2/2026-02-08/
LOCATION:Aqua – North Naples\, 2348 Immokalee Rd\, Naples\, FL\, 34110\, United States
CATEGORIES:North Naples Events
ATTACH;FMTTYPE=image/jpeg:https://aquafifth.com/wp-content/uploads/Juliet.jpg
END:VEVENT
BEGIN:VEVENT
DTSTART;TZID=America/New_York:20260207T190000
DTEND;TZID=America/New_York:20260207T220000
DTSTAMP:20260424T195128
CREATED:20250530T161125Z
LAST-MODIFIED:20251231T192852Z
UID:10010449-1770490800-1770501600@aquafifth.com
SUMMARY:The Dazzling Delrays
DESCRIPTION:The Dazzling Delray’s perform the best of doo wop\, classic rock\, beach and motown. With their musical roots in careers that began in the 1960s\, the band can get any crowd singing and on their feet. Their repertoire includes Elvis\, the Temptations\, Smokey Robinson and the Miracles\, the Beatles\, the Rascals\, Four Seasons\, Beach Boys\, The Coasters and all your favorites. Over the years the band members have appeared in shows with Little Anthony and the Imperials\, Jay and the Americans\, the Boxtops\, America\, Johnny Maestro and the Brooklyn Bridge and many others. With Jim Farese on guitar and vocals\, Larry  Farese on drums and vocals and Jim Meade on bass and vocals\, The DelRays have been entertaining audiences for over 40 years.
URL:https://aquafifth.com/naples-event/the-dazzling-delrays/2026-02-07/
LOCATION:Aqua – North Naples\, 2348 Immokalee Rd\, Naples\, FL\, 34110\, United States
CATEGORIES:North Naples Events
ATTACH;FMTTYPE=image/jpeg:https://aquafifth.com/wp-content/uploads/Delrays.jpg
END:VEVENT
BEGIN:VEVENT
DTSTART;TZID=America/New_York:20260206T190000
DTEND;TZID=America/New_York:20260206T220000
DTSTAMP:20260424T195128
CREATED:20251007T170911Z
LAST-MODIFIED:20260202T190843Z
UID:10010378-1770404400-1770415200@aquafifth.com
SUMMARY:Matty B Saxophone
DESCRIPTION:Saxophone and Singer.
URL:https://aquafifth.com/naples-event/matty-b-2-2/2026-02-06/
LOCATION:Aqua – North Naples\, 2348 Immokalee Rd\, Naples\, FL\, 34110\, United States
CATEGORIES:North Naples Events
ATTACH;FMTTYPE=image/jpeg:https://aquafifth.com/wp-content/uploads/Matty-B-Saxophone.jpg
END:VEVENT
BEGIN:VEVENT
DTSTART;TZID=America/New_York:20260205T190000
DTEND;TZID=America/New_York:20260205T220000
DTSTAMP:20260424T195128
CREATED:20251007T171732Z
LAST-MODIFIED:20251020T161805Z
UID:10009990-1770318000-1770328800@aquafifth.com
SUMMARY:Larry D
DESCRIPTION:Larry D – Singer.
URL:https://aquafifth.com/naples-event/larry-d/2026-02-05/
LOCATION:Aqua – North Naples\, 2348 Immokalee Rd\, Naples\, FL\, 34110\, United States
CATEGORIES:North Naples Events
ATTACH;FMTTYPE=image/jpeg:https://aquafifth.com/wp-content/uploads/Larry-D.jpg
END:VEVENT
END:VCALENDAR